BEGIN:VCALENDAR
VERSION:2.0
PRODID:-//jEvents 2.0 for Joomla//EN
CALSCALE:GREGORIAN
METHOD:PUBLISH
BEGIN:VEVENT
UID:37009f685985a538c5f7c6f9916b7dc6
CATEGORIES:22. Bezirk
CREATED:20190311T093356
SUMMARY:Vom Tragling zum Laufling - Natürliche Bewegungsentwicklung
LOCATION:mini-medPRAXIS\, Maria-Tusch-Straße 2\, 1220 Wien
DESCRIPTION:Vom Tragling zum Laufling – wie wir unsere Kinder dabei unterstützen können
  gesund ins Leben zu gehen\n\nWie entwickelt sich der kindliche Bewegungsap
 parat? Wodurch formt sich das Skelett? Was stört und was fördert ein gesund
 es Wachstum und wie können wir Großen es spielerisch fördern dass unsere Ki
 nder sich ganz natürlich spüren, sich (tritt)sicher bewegen und stark verwu
 rzelt im Leben stehen? \n\nDiese und weitere Fragen beantwortet uns Cathari
 na Rocchi vom Mama-Startup "Barefoot Austria". Als Craniosacraltherapeutin,
  Stillbegleiterin und Doula ist sie für junge Mamas und deren Familien da. 
 2016 traf sie den Entschluss in Österreich eine Plattform zu schaffen auf d
 er man sorgenlos physiologisch korrekte Schuhe einkaufen kann, die natürlic
 he Funktion des Bewegungsapparates ermöglichen und dabei noch gut aussehen.
  Füssiologogisch &amp; Fesch. \n\nDieser Workshop enthält nützliches Wissen
  zu Aufbau und Funktion des Bewegungsapparates, Hilfestellung und Argumente
  zu den oft diskutierten Themen wie Tragen, gerade liegen, frühes Sitzen, w
 ie unterstütze ich beim Krabbeln und gehen lernen, Tipps zur Auswahl passen
 den Schuhwerks und Ideen für lustige Spiele die den Bewegungsapparat stark 
 und flexibel halten. Anschließend gibt es die Möglichkeit Barfußschuhe zu e
 rleben und auszuprobieren.\nIch freue mich auf einen informativen Vormittag
 !\n\nKosten: 25€ pro Person (Begleitperson -50%)\n(mit dem Code "babymamas"
  gibts 10% RABATT)\n\nAnmeldung bitte als Nachricht oder per Mail an \nstil
 lberatung@mini-medpraxis.at\n\n\n\n
X-ALT-DESC;FMTTYPE=text/html:<p><span style="text-decoration: underline;"><strong>Vom Tragling zum Laufl
 ing – wie wir unsere Kinder dabei unterstützen können gesund ins Leben zu g
 ehen</strong></span><br /><br />Wie entwickelt sich der kindliche Bewegungs
 apparat? Wodurch formt sich das Skelett? Was stört und was fördert ein gesu
 ndes Wachstum und wie können wir Großen es spielerisch fördern dass unsere 
 Kinder sich ganz natürlich spüren, sich (tritt)sicher bewegen und stark ver
 wurzelt im Leben stehen? <br /><br />Diese und weitere Fragen beantwortet u
 ns Catharina Rocchi vom Mama-Startup "Barefoot Austria". Als Craniosacralth
 erapeutin, Stillbegleiterin und Doula ist sie für junge Mamas und deren Fam
 ilien da. 2016 traf sie den Entschluss in Österreich eine Plattform zu scha
 ffen auf der man sorgenlos physiologisch korrekte Schuhe einkaufen kann, di
 e natürliche Funktion des Bewegungsapparates ermöglichen und dabei noch gut
  aussehen. Füssiologogisch &amp; Fesch. <br /><br />Dieser Workshop enthält
  nützliches Wissen zu Aufbau und Funktion des Bewegungsapparates, Hilfestel
 lung und Argumente zu den oft diskutierten Themen wie Tragen, gerade liegen
 , frühes Sitzen, wie unterstütze ich beim Krabbeln und gehen lernen, Tipps 
 zur Auswahl passenden Schuhwerks und Ideen für lustige Spiele die den Beweg
 ungsapparat stark und flexibel halten. Anschließend gibt es die Möglichkeit
  Barfußschuhe zu erleben und auszuprobieren.</p><p>Ich freue mich auf einen
  informativen Vormittag!</p><p><br />Kosten: 25€ pro Person (Begleitperson 
 -50%)</p><p>(mit dem Code "babymamas" gibts 10% RABATT)</p><p><br />Anmeldu
 ng bitte als Nachricht oder per Mail an <br />stillberatung@mini-medpraxis.
 at<br /><br /><br /></p>
CONTACT:stillberatung@mini-medpraxis.at oder 06607752746 (imessage,SMS,WhatsApp)
X-EXTRAINFO:[preis='2500'][anmeldung='true']
DTSTAMP:20260423T144136
DTSTART:20190313T093000
DTEND:20190313T110000
SEQUENCE:0
TRANSP:OPAQUE
END:VEVENT
END:VCALENDAR