BEGIN:VCALENDAR
VERSION:2.0
PRODID:-//jEvents 2.0 for Joomla//EN
CALSCALE:GREGORIAN
METHOD:PUBLISH
BEGIN:VEVENT
UID:0ea25ce8fa52d579047c11f10bddb357
CATEGORIES:22. Bezirk
CREATED:20190311T094442
SUMMARY:Starke Mitte - Starke Babys –  Beikoststarttipps aus Sicht der TCM und der Schulmedizin
LOCATION:mini-medPRAXIS\, Maria-Tusch-Straße 2\, 1220 Wien
DESCRIPTION:<p style="text-align: center;"><strong><u>Starke Mitte - Starke Babys – </u
 ></strong></p><p style="text-align: center;"><strong><u>Beikoststarttipps a
 us Sicht der TCM und der Schulmedizin</u></strong></p><p style="text-align:
  center;"> </p><p>Ein Beikostworkshop mit <br />Susan Zeiner (TCM Ernährung
 sexpertin) und <br />Karin Zabaneh (Stillberaterin und dipl. Kinder-Ordinat
 ionsassistentin)</p><p>Kosten: 25€ pro Person (Begleitperson -50%)</p><p>(m
 it dem Code "babymamas" gibts 10% RABATT)</p><p><br />Anmeldung bitte als N
 achricht oder per Mail an <br />stillberatung@mini-medpraxis.at</p><p> </p>
CONTACT:stillberatung@mini-medpraxis.at oder 06607752746 (imessage,SMS,WhatsApp) 
X-EXTRAINFO:[preis='2500'][anmeldung='true']
DTSTAMP:20260423T173546
DTSTART:20190320T093000
DTEND:20190320T110000
SEQUENCE:0
TRANSP:OPAQUE
END:VEVENT
END:VCALENDAR