BEGIN:VCALENDAR
VERSION:2.0
PRODID:-//jEvents 2.0 for Joomla//EN
CALSCALE:GREGORIAN
METHOD:PUBLISH
BEGIN:VEVENT
UID:2aa35bf0b7233b8c6048a2628b635c5d
CATEGORIES:10. Bezirk
CREATED:19700101T010000
SUMMARY:OM - Yoga für Mama und Baby (1)
LOCATION:Dieselgasse 1\, 1100 Wien
DESCRIPTION:Rückbildungs-Yoga bietet wunderbare Übungen zur Stärkung und Zentrierung de
 ines Körpers nach der Geburt. Wir beginnen mit sanfter Lockerung, machen mü
 de Mamas wach und stärken dann die Bauchmuskulatur, Rumpf und Beckenboden. 
 Eine ausgiebige Entspannung und der Austausch mit anderen Mamas dürfen natü
 rlich nicht fehlen!   Yoga in der Kleingruppe bis max 6 Teilnehmerinnen Gru
 ppe 1: Für Babys ab 6 Wochen bis zum Krabbeln\n Anmeldung an: auszeit@ausli
 ebezudir.at (mailto:auszeit@ausliebezudir.at)oder 0677 620 818 54 Schnupper
 n 10€Einzel 17€10er-Blockkarte 140€ Weitere Infos siehe www.ausliebezudir.a
 t
X-ALT-DESC;FMTTYPE=text/html:<div class="eventContent"><div data-contents="true"><div class="" data-bloc
 k="true" data-editor="d1858" data-offset-key="ccb4r-0-0"><div class="_1mf _
 1mj" data-offset-key="ccb4r-0-0"><span data-offset-key="ccb4r-0-0">Rückbild
 ungs-Yoga bietet wunderbare Übungen zur Stärkung und Zentrierung deines Kör
 pers nach der Geburt.</span></div></div><div class="" data-block="true" dat
 a-editor="d1858" data-offset-key="8uo9r-0-0"><div class="_1mf _1mj" data-of
 fset-key="8uo9r-0-0"><span data-offset-key="8uo9r-0-0"> </span></div></div>
 <div class="" data-block="true" data-editor="d1858" data-offset-key="f76ea-
 0-0"><div class="_1mf _1mj" data-offset-key="f76ea-0-0"><span data-offset-k
 ey="f76ea-0-0">Wir beginnen mit sanfter Lockerung, machen müde Mamas wach u
 nd stärken dann die Bauchmuskulatur, Rumpf und Beckenboden.</span></div></d
 iv><div class="" data-block="true" data-editor="d1858" data-offset-key="fam
 6j-0-0"><div class="_1mf _1mj" data-offset-key="fam6j-0-0"><span data-offse
 t-key="fam6j-0-0"> </span></div></div><div class="" data-block="true" data-
 editor="d1858" data-offset-key="o5se-0-0"><div class="_1mf _1mj" data-offse
 t-key="o5se-0-0"><span data-offset-key="o5se-0-0">Eine ausgiebige Entspannu
 ng und der Austausch mit anderen Mamas dürfen natürlich nicht fehlen!</span
 ></div></div><div class="" data-block="true" data-editor="d1858" data-offse
 t-key="8obdu-0-0"><div class="" data-block="true" data-editor="d1858" data-
 offset-key="forul-0-0"><div class="" data-block="true" data-editor="d1858" 
 data-offset-key="8obdu-0-0"> </div><div class="" data-block="true" data-edi
 tor="d1858" data-offset-key="8obdu-0-0"> </div><div class="" data-block="tr
 ue" data-editor="d1858" data-offset-key="8obdu-0-0"> </div><div class="" da
 ta-block="true" data-editor="d1858" data-offset-key="forul-0-0"><div class=
 "_1mf _1mj" data-offset-key="forul-0-0"><span data-offset-key="forul-0-0">Y
 oga in der Kleingruppe bis max 6 Teilnehmerinnen</span></div></div><div cla
 ss="_1mf _1mj" data-offset-key="forul-0-0"> </div><div class="_1mf _1mj" da
 ta-offset-key="forul-0-0"><span data-offset-key="forul-0-0">Gruppe 1: Für B
 abys ab 6 Wochen bis zum Krabbeln<br /></span></div></div></div><div class=
 "" data-block="true" data-editor="d1858" data-offset-key="fndig-0-0"><div c
 lass="_1mf _1mj" data-offset-key="fndig-0-0"><span data-offset-key="fndig-0
 -0"> </span></div></div><div class="" data-block="true" data-editor="d1858"
  data-offset-key="ali4m-0-0"><div class="_1mf _1mj" data-offset-key="ali4m-
 0-0"><span data-offset-key="ali4m-0-0">Anmeldung an: <a href="mailto:auszei
 t@ausliebezudir.at">auszeit@ausliebezudir.at</a></span></div><div class="_1
 mf _1mj" data-offset-key="ali4m-0-0"><span data-offset-key="ali4m-0-0">oder
  0677 620 818 54</span></div><div class="_1mf _1mj" data-offset-key="ali4m-
 0-0"> </div><div class="_1mf _1mj" data-offset-key="ali4m-0-0"><span data-o
 ffset-key="ali4m-0-0">Schnuppern 10€</span></div><div class="_1mf _1mj" dat
 a-offset-key="ali4m-0-0"><span data-offset-key="ali4m-0-0">Einzel 17€</span
 ></div><div class="_1mf _1mj" data-offset-key="ali4m-0-0"><span data-offset
 -key="ali4m-0-0">10er-Blockkarte 140€</span></div></div><div class="" data-
 block="true" data-editor="d1858" data-offset-key="dst4c-0-0"><div class="_1
 mf _1mj" data-offset-key="dst4c-0-0"><span data-offset-key="dst4c-0-0"> </s
 pan></div></div><div class="" data-block="true" data-editor="d1858" data-of
 fset-key="8v4ai-0-0"><div class="_1mf _1mj" data-offset-key="8v4ai-0-0"><sp
 an data-offset-key="8v4ai-0-0">Weitere Infos siehe www.ausliebezudir.at</sp
 an></div></div></div></div>
CONTACT:Marion Fritz, 0677 620 818 54, auszeit@ausliebezudir.at, www.ausliebezudir.at
X-EXTRAINFO:[preis='1000'][anmeldung='true']
DTSTAMP:20260424T143133
DTSTART:20190313T110000
DTEND:20190313T123000
SEQUENCE:0
RRULE:FREQ=WEEKLY;UNTIL=20190620T000000Z;INTERVAL=1;BYDAY=WE
TRANSP:OPAQUE
END:VEVENT
END:VCALENDAR