BEGIN:VCALENDAR
VERSION:2.0
PRODID:-//jEvents 2.0 for Joomla//EN
CALSCALE:GREGORIAN
METHOD:PUBLISH
BEGIN:VEVENT
UID:f322ba45f66d97de914993b34e2ec27a
CATEGORIES:7. Bezirk
CREATED:20190312T224822
SUMMARY:"1,2,3,4 tanz mit mir!" - Tanzen & Singen für Klein & Groß
LOCATION:1070\, Lindengasse 44a\, großer Saal (Zugang durch die Hofeinfahrt)
DESCRIPTION:Tänze, Lieder &amp; Singspiele aus verschiedenen Ländern, Zeiten und Kultur
 en für Traglinge, Krabbelkinder, Kleinkinder, Kindergartenkinder, Schulkind
 er, Mütter, Väter, Geschwister, Großmütter, Großväter, Tanten, Onkeln, Cous
 inen, Cousins, Neffen, Nichten, Freundinnen und Freunde! * Gemeinschaft erl
 eben beim Singen &amp; Tanzen * mit Musik und Bewegung spielerisch die emot
 ionalen und sozialen Fähigkeiten fördern * mit alten, neuen oder selbst erf
 undenen Tänzen die Beweglichkeit des Körpers spüren und genießen ... aber v
 or allem ganz viel Spaß bei Bewegung und Livemusik haben! offener zweimonat
 licher Tanz - &amp; Singnachmittag (weiter Termin: 26.5.), Spende für die L
 ivemusik Zugang durch die Hofeinfahrt ganz links und dann die Stiegen hinun
 ter weitere Infos: https://musiktanzkultur.wordpress.com/termine/\n
X-ALT-DESC;FMTTYPE=text/html:<p>Tänze, Lieder &amp; Singspiele aus verschiedenen Ländern, Zeiten und Kul
 turen für Traglinge, Krabbelkinder, Kleinkinder, Kindergartenkinder, Schulk
 inder, Mütter, Väter, Geschwister, Großmütter, Großväter, Tanten, Onkeln, C
 ousinen, Cousins, Neffen, Nichten, Freundinnen und Freunde! * Gemeinschaft 
 erleben beim Singen &amp; Tanzen * mit Musik und Bewegung spielerisch die e
 motionalen und sozialen Fähigkeiten fördern * mit alten, neuen oder selbst 
 erfundenen Tänzen die Beweglichkeit des Körpers spüren und genießen ... abe
 r vor allem ganz viel Spaß bei Bewegung und Livemusik haben! offener zweimo
 natlicher Tanz - &amp; Singnachmittag (weiter Termin: 26.5.), Spende für di
 e Livemusik Zugang durch die Hofeinfahrt ganz links und dann die Stiegen hi
 nunter weitere Infos: https://musiktanzkultur.wordpress.com/termine/</p>
CONTACT:Eva 069918877073
DTSTAMP:20260425T153857
DTSTART:20190324T150000
DTEND:20190324T170000
SEQUENCE:0
TRANSP:OPAQUE
END:VEVENT
END:VCALENDAR