BEGIN:VCALENDAR
VERSION:2.0
PRODID:-//jEvents 2.0 for Joomla//EN
CALSCALE:GREGORIAN
METHOD:PUBLISH
BEGIN:VEVENT
UID:1c10036d5c485304dbb399c11d7dbb58
CATEGORIES:15. Bezirk
CREATED:20190321T222053
SUMMARY:Mama-Baby-Gesprächsrunde
LOCATION:Neubaugürtel 7
DESCRIPTION:... miteinander, reden, plaudern, Tee/ Kaffee trinken, …ankommen: im Freund
 innen-Kreis, im Mama-Sein und so manchmal auch wieder fröhlich und entspann
 t bei den eigenen Kindern,…\nAb März steht am Montagvormittag unser Raum al
 s Mama/ Baby/ Eltern/ Kleinkind-Treff allen Mamas mit Babys und Kleinkinder
 n zur Verfügung: \nIhr seid eingeladen, ins KinderAtelier, Neubaugürtel 7, 
 1150 zu kommen, zu sitzen, zu plaudern Kaffee/ Tee zu trinken, andere Mamas
  zu treffen.\nEs soll kein großes Programm geben: im Mittelpunkt sollen die
  jeweiligen Frauen und ihre Anliegen stehen. \n\nKostenfrei.\nUm Voranmeldu
 ng wird gebeten.\n
X-ALT-DESC;FMTTYPE=text/html:<p>... miteinander, reden, plaudern, Tee/ Kaffee trinken, …ankommen: im Fre
 undinnen-Kreis, im Mama-Sein und so manchmal auch wieder fröhlich und entsp
 annt bei den eigenen Kindern,…</p><p>Ab März steht am Montagvormittag unser
  Raum als Mama/ Baby/ Eltern/ Kleinkind-Treff allen Mamas mit Babys und Kle
 inkindern zur Verfügung: <span class="text_exposed_show"><br />Ihr seid ein
 geladen, ins KinderAtelier, Neubaugürtel 7, 1150 zu kommen, zu sitzen, zu p
 laudern Kaffee/ Tee zu trinken, andere Mamas zu treffen.<br />Es soll kein 
 großes Programm geben: im Mittelpunkt sollen die jeweiligen Frauen und ihre
  Anliegen stehen. <br /><br />Kostenfrei.<br />Um Voranmeldung wird gebeten
 .</span></p>
CONTACT:office@kinderatelier.at
X-EXTRAINFO:[preis='000'][anmeldung='true']
DTSTAMP:20260425T170342
DTSTART:20190325T090000
DTEND:20190325T103000
SEQUENCE:0
TRANSP:OPAQUE
END:VEVENT
END:VCALENDAR