BEGIN:VCALENDAR
VERSION:2.0
PRODID:-//jEvents 2.0 for Joomla//EN
CALSCALE:GREGORIAN
METHOD:PUBLISH
BEGIN:VEVENT
UID:27ff22c96e9164bcd4c716f19d365685
CATEGORIES:10. Bezirk
CREATED:19700101T010000
SUMMARY:Auf der Lauer (Tierisch kreative Outdoor-Spielgruppe)
LOCATION:Erholungsgebiet Wienerberg\, Grohnergasse 1\, 1100 Wien
DESCRIPTION:Wir treffen uns direkt im Lebensraum der Tiere und lassen unsere Kreativitä
 t an die frische Luft. Eltern und Kinder sammeln, fühlen, lauschen, beobach
 ten, spielen, bauen, basteln und lassen sich von der Natur und den Tieren i
 nspirieren.\nJede Einheit widme ich einem anderen Tier, dessen Besonderheit
 en und Lebensraum. Mit dabei sind unterschiedliche Materialien, Hilfsmittel
  und Utensilien, die zusätzlich die Sinne und die Kreativität der Kinder an
 regen.\nWir starten immer mit einem Spaziergang, bei dem wir uns den Lebens
 raum des Tieres genauer ansehen und auch die Tiere beobachten können. Dann 
 suchen wir uns ein ruhiges Plätzchen, an dem wir uns gemütlich zusammensetz
 en und uns dem kreativen Teil widmen.\n \nTeilnehmeranzahl: mind. 2  - max.
  8 Eltern-Kind Paare\n \nKurszeitenFreitags, 15:00 – 15:50 Uhr\n \nKostenZy
 klus mit 7 Terminen: 88 €\nEinzeltermin: 14 €\n Einstieg jederzeit möglich\
 n KursortErholungsgebiet Wienerberg, Parkplatz (kostenloses Parken möglich)
 \nGrohnergasse 1, 1100 Wien\nÖffentliche Erreichbarkeit:\n U6 bis Station „
 Am Schöpfwerk”, Autobuslinie 16A bis Station “ Computerstraße”, ca. 5 Gehmi
 nuten\n  \nAnmeldungEinfach per E-Mail an anmeldung@tierischerkreativgarten
 .at (mailto:anmeldung@tierischerkreativgarten.at)\n Mehr Veranstaltungen un
 ter www.tierischerkreativgarten.at/kurse\n
X-ALT-DESC;FMTTYPE=text/html:<p>Wir treffen uns direkt im Lebensraum der Tiere und lassen unsere Kreativ
 ität an die frische Luft. Eltern und Kinder sammeln, fühlen, lauschen, beob
 achten, spielen, bauen, basteln und lassen sich von der Natur und den Tiere
 n inspirieren.</p><p>Jede Einheit widme ich einem anderen Tier, dessen Beso
 nderheiten und Lebensraum. Mit dabei sind unterschiedliche Materialien, Hil
 fsmittel und Utensilien, die zusätzlich die Sinne und die Kreativität der K
 inder anregen.</p><p>Wir starten immer mit einem Spaziergang, bei dem wir u
 ns den Lebensraum des Tieres genauer ansehen und auch die Tiere beobachten 
 können. Dann suchen wir uns ein ruhiges Plätzchen, an dem wir uns gemütlich
  zusammensetzen und uns dem kreativen Teil widmen.</p><p> <br /><strong>Tei
 lnehmeranzahl</strong>: mind. 2  - max. 8 Eltern-Kind Paare</p><p> </p><h4>
 Kurszeiten</h4><p>Freitags, 15:00 – 15:50 Uhr</p><p> </p><h4>Kosten</h4><p>
 Zyklus mit 7 Terminen: 88 €</p><p>Einzeltermin: 14 €<br /> Einstieg jederze
 it möglich</p><h4> </h4><h4>Kursort</h4><p>Erholungsgebiet Wienerberg, Park
 platz (<em>kostenloses Parken möglich</em>)</p><p><strong>Grohnergasse 1, 1
 100 Wien</strong></p><p>Öffentliche Erreichbarkeit:<br /> U6 bis Station „A
 m Schöpfwerk”, Autobuslinie 16A bis Station “ Computerstraße”, ca. 5 Gehmin
 uten<br />  </p><h4>Anmeldung</h4><p>Einfach per E-Mail an <a href="mailto:
 anmeldung@tierischerkreativgarten.at">anmeldung@tierischerkreativgarten.at<
 /a></p><p> Mehr Veranstaltungen unter www.tierischerkreativgarten.at/kurse<
 /p>
CONTACT:anmeldung@tierischerkreativgarten.at
X-EXTRAINFO:[preis='8800'][anmeldung='true']
DTSTAMP:20260424T143206
DTSTART:20190405T130000
DTEND:20190405T134000
SEQUENCE:0
RRULE:FREQ=WEEKLY;COUNT=25;INTERVAL=1;BYDAY=FR
TRANSP:OPAQUE
END:VEVENT
END:VCALENDAR