BEGIN:VCALENDAR
VERSION:2.0
PRODID:-//jEvents 2.0 for Joomla//EN
CALSCALE:GREGORIAN
METHOD:PUBLISH
BEGIN:VEVENT
UID:20ae37206f168ce0030168017bd36afa
CATEGORIES:10. Bezirk
CREATED:20190323T164141
SUMMARY:Krabbeln & Kriechen (Tierisch kreativer Outdoor-Workshop)
LOCATION:Erholungsgebiet Wienerberg\, Grohnergasse 1\, 1100 Wien
DESCRIPTION:HÜPF, FLATTER, PLATSCHTierische Kreativ-WorkshopsBei diesen Workshops erfor
 schen wir die unterschiedlichen Lebensräume der Tiere genauer und toben uns
  dabei kreativ aus. Eltern und Kinder verbringen 2 Stunden an der frischen 
 Luft und lassen sich inspirieren.\nJe nach Lebensraum und Jahreszeit, arbei
 ten wir mit den dementsprechenden Materialien, z.B. Wasser holen und Farben
  mischen, Naturmaterialien sammeln und verarbeiten, Pusteblumen sammeln und
  Bilder pusten, in bunte Farben hüpfen und mehr. Natürlich immer mit umwelt
 verträglichen Farben.\nAusgiebige Spaziergänge, achtsames Beobachten und Sa
 mmeln, gehören genauso dazu, wie kleine Abenteuer und natürlich viele kreat
 ive Ideen und Anregungen.\nAktuelle TermineSamstag, 30.3.2019, 09:30 – 11:3
 0 Uhr\n KRABBELN &amp; KRIECHEN (Schnecke, Ameise und Co.)\nSamstag, 6.4.20
 19, 09:30 – 11:30 Uhr\n PLATSCH &amp; BLUBBER (Teichbewohner, Frosch und Co
 .)\nSamstag, 27.4.2019, 09:30 – 11:30 Uhr\n FLATTERN &amp; BRUMMEN (Schmett
 erling, Biene und Co.)\nSamstag, 4.5.2019, 09:30 – 11:30 Uhr\n PLATSCH &amp
 ; BLUBBER (Teichbewohner, Frosch und Co.)\n \nAlter1,5 - 6 Jahre\n \nKosten
 24 € pro Kind (2h Workshop)\nJüngere oder ältere Geschwister sind natürlich
  immer willkommen - Geschwisterrabatt auf Anfrage!\n \n KursortErholungsgeb
 iet Wienerberg, Parkplatz (kostenloses Parken möglich)\nGrohnergasse 1, 110
 0 Wien\nÖffentliche Erreichbarkeit:\n U6 bis Station „Am Schöpfwerk”, Autob
 uslinie 16A bis Station “ Computerstraße”, ca. 5 Gehminuten\nAnmeldungEinfa
 ch per E-Mail an anmeldung@tierischerkreativgarten.at (mailto:anmeldung@tie
 rischerkreativgarten.at)\n www.tierischerkreativgarten.at/kurse\n
X-ALT-DESC;FMTTYPE=text/html:<div class="group-left"><div class="field-text"><h4>HÜPF, FLATTER, PLATSCH<
 /h4><h4>Tierische Kreativ-Workshops</h4><p>Bei diesen Workshops erforschen 
 wir die unterschiedlichen Lebensräume der Tiere genauer und toben uns dabei
  kreativ aus. Eltern und Kinder verbringen 2 Stunden an der frischen Luft u
 nd lassen sich inspirieren.</p><p>Je nach Lebensraum und Jahreszeit, arbeit
 en wir mit den dementsprechenden Materialien, z.B. Wasser holen und Farben 
 mischen, Naturmaterialien sammeln und verarbeiten, Pusteblumen sammeln und 
 Bilder pusten, in bunte Farben hüpfen und mehr. Natürlich immer mit umweltv
 erträglichen Farben.</p><p>Ausgiebige Spaziergänge, achtsames Beobachten un
 d Sammeln, gehören genauso dazu, wie kleine Abenteuer und natürlich viele k
 reative Ideen und Anregungen.</p><h4>Aktuelle Termine</h4><p><strong>Samsta
 g, 30.3.2019, 09:30 – 11:30 Uhr</strong><br /> KRABBELN &amp; KRIECHEN (Sch
 necke, Ameise und Co.)</p><p><strong>Samstag, 6.4.2019, 09:30 – 11:30 Uhr</
 strong><br /> PLATSCH &amp; BLUBBER (Teichbewohner, Frosch und Co.)</p><p><
 strong>Samstag, 27.4.2019, 09:30 – 11:30 Uhr</strong><br /> FLATTERN &amp; 
 BRUMMEN (Schmetterling, Biene und Co.)</p><p><strong>Samstag, 4.5.2019, 09:
 30 – 11:30 Uhr</strong><br /> PLATSCH &amp; BLUBBER (Teichbewohner, Frosch 
 und Co.)</p><p> </p><h4>Alter</h4><p>1,5 - 6 Jahre</p><p> </p><h4>Kosten</h
 4><p>24 € pro Kind (2h Workshop)</p><p>Jüngere oder ältere Geschwister sind
  natürlich immer willkommen - Geschwisterrabatt auf Anfrage!</p><h4> <br />
  Kursort</h4><p>Erholungsgebiet Wienerberg, Parkplatz (kostenloses Parken m
 öglich)</p><p>Grohnergasse 1, 1100 Wien</p><p>Öffentliche Erreichbarkeit:<b
 r /> U6 bis Station „Am Schöpfwerk”, Autobuslinie 16A bis Station “ Compute
 rstraße”, ca. 5 Gehminuten</p><h4>Anmeldung</h4><p>Einfach per E-Mail an <a
  href="mailto:anmeldung@tierischerkreativgarten.at">anmeldung@tierischerkre
 ativgarten.at</a></p><p> www.tierischerkreativgarten.at/kurse</p></div></di
 v>
CONTACT:anmeldung@tierischerkreativgarten.at
X-EXTRAINFO:[preis='2400'][anmeldung='true']
DTSTAMP:20260424T143130
DTSTART:20190330T083000
DTEND:20190330T103000
SEQUENCE:0
TRANSP:OPAQUE
END:VEVENT
END:VCALENDAR