BEGIN:VCALENDAR
VERSION:2.0
PRODID:-//jEvents 2.0 for Joomla//EN
CALSCALE:GREGORIAN
METHOD:PUBLISH
BEGIN:VEVENT
UID:022a931ae4379494130b129e83ad2bb9
CATEGORIES:10. Bezirk
CREATED:20190323T164744
SUMMARY: Tierisch kreatives Osterspecial (Outdoor-Workshop)
LOCATION:Erholungsgebiet Wienerberg\, Grohnergasse 1\, 1100 Wien
DESCRIPTION:Wir treffen uns am Wienerberg zu einem ausgiebigen Osterspaziergang und beo
 bachten wie die Natur und Tierwelt aus ihrem Winterschlaf erwacht. Während 
 wir um den Teich gehen, sammeln wir Äste für unser eigenes Osternest, in da
 s der Osterhase die bunten Eier legen kann. Aber auch allerhand anderes Nat
 urmaterial nehmen wir mit, um daraus Osteranhänger und Dekoration zu bastel
 n.\n TerminKarsamstag, 20.04.2019, 09:30 - 11: 30 Uhr\n Alter1,5 - 8 Jahre\
 nNatürlich sind jüngere und ältere Geschwister willkommen.\n \nKosten24 Eur
 o (2 Stunden) pro Kind\nMama und Papa zahlen nichts, für jede weitere erwac
 hsene Person (z.B. Oma und Opa) fallen 3 Euro an.\nGeschwisterrabatt auf An
 frage!\n \nTreffpunktErholungsgebiet Wienerberg, Parkplatz (kostenloses Par
 ken möglich)\nGrohnergasse 1, 1100 Wien\nÖffentliche Erreichbarkeit:\n U6 b
 is Station „Am Schöpfwerk”, Autobuslinie 16A bis Station “ Computerstraße”,
  ca. 5 Gehminuten\n  \nAnmeldungEinfach per E-Mail an anmeldung@tierischerk
 reativgarten.at (mailto:anmeldung@tierischerkreativgarten.at)\nhttp://www.t
 ierischerkreativgarten.at/kurse\n
X-ALT-DESC;FMTTYPE=text/html:<div class="group-left"><div class="field-text"><p>Wir treffen uns am Wiene
 rberg zu einem ausgiebigen Osterspaziergang und beobachten wie die Natur un
 d Tierwelt aus ihrem Winterschlaf erwacht. Während wir um den Teich gehen, 
 sammeln wir Äste für unser eigenes Osternest, in das der Osterhase die bunt
 en Eier legen kann. Aber auch allerhand anderes Naturmaterial nehmen wir mi
 t, um daraus Osteranhänger und Dekoration zu basteln.</p><h4> </h4><h4>Term
 in</h4><p>Karsamstag, 20.04.2019, 09:30 - 11: 30 Uhr</p><h4> </h4><h4>Alter
 </h4><p>1,5 - 8 Jahre</p><p>Natürlich sind jüngere und ältere Geschwister w
 illkommen.</p><p> </p><h4>Kosten</h4><p>24 Euro (2 Stunden) pro Kind</p><p>
 Mama und Papa zahlen nichts, für jede weitere erwachsene Person (z.B. Oma u
 nd Opa) fallen 3 Euro an.</p><p>Geschwisterrabatt auf Anfrage!</p><p> </p><
 h4>Treffpunkt</h4><p>Erholungsgebiet Wienerberg, Parkplatz (kostenloses Par
 ken möglich)</p><p><strong>Grohnergasse 1, 1100 Wien</strong></p><p>Öffentl
 iche Erreichbarkeit:<br /> U6 bis Station „Am Schöpfwerk”, Autobuslinie 16A
  bis Station “ Computerstraße”, ca. 5 Gehminuten<br />  </p><h4>Anmeldung</
 h4><p>Einfach per E-Mail an <a href="mailto:anmeldung@tierischerkreativgart
 en.at">anmeldung@tierischerkreativgarten.at</a></p><p>http://www.tierischer
 kreativgarten.at/kurse</p></div></div>
CONTACT:anmeldung@tierischerkreativgarten.at
X-EXTRAINFO:[preis='2400'][anmeldung='true']
DTSTAMP:20260424T143211
DTSTART:20190420T073000
DTEND:20190420T093000
SEQUENCE:0
TRANSP:OPAQUE
END:VEVENT
END:VCALENDAR