BEGIN:VCALENDAR
VERSION:2.0
PRODID:-//jEvents 2.0 for Joomla//EN
CALSCALE:GREGORIAN
METHOD:PUBLISH
BEGIN:VEVENT
UID:4dcb0467a97830e120aec9e2db4b2fc1
CATEGORIES:4. Bezirk
CREATED:19700101T010000
SUMMARY:Mama & Baby YOGA
LOCATION:Studio YOGINIS\, Waaggasse 12 
DESCRIPTION:<p>Unser Mama &amp; Baby Yogakurs hilft Mama in den ersten Monaten als Mama
  mal wieder richtig tief durchzuatmen. </p><p>Die junge Mutter erlernt sanf
 te YogaTechniken, die ihr helfen, ihre Figur und ihre innere Kraft wiederzu
 gewinnen. Bei Mama &amp; Baby Yoga haben Mutter und Baby auch mal die Mögli
 chkeit, mittels gemeinsamer Körper- und Entspannungsübungen zusammen eine h
 armonische und gelöste Zeit der intensiven Nähe zu erleben.</p><p>Die Yogaü
 bungen helfen der Mutter nach der Geburt, wieder ein gutes Körpergefühl zu 
 entwickeln und die Bauch-, Gesäß-, und Beinmuskulatur zu straffen und zu kr
 äftigen.</p><p>Das Baby kann in die Übungen mit einbezogen werden, oder abe
 r auch in Ruhe schlafen oder bei den Übungen zusehen.</p><p>Nach der Stunde
  ist bei einer Tasse Tee noch Zeit zum Kennenlernen und für Erfahrungsausta
 usch unter den Müttern.</p>
CONTACT:yoga@4yoginis.com
DTSTAMP:20260424T131551
DTSTART:20190401T080000
DTEND:20190401T091500
SEQUENCE:0
RRULE:FREQ=WEEKLY;UNTIL=20190723T000000Z;INTERVAL=1;BYDAY=MO
TRANSP:OPAQUE
END:VEVENT
END:VCALENDAR