BEGIN:VCALENDAR
VERSION:2.0
PRODID:-//jEvents 2.0 for Joomla//EN
CALSCALE:GREGORIAN
METHOD:PUBLISH
BEGIN:VEVENT
UID:8588411a1e75019c936a736d565f15d5
CATEGORIES:15. Bezirk
CREATED:20190326T141546
SUMMARY:Hausmittel im Sommer
LOCATION:1150 Wien\, Neubaugürtel 7 // Kinderatelier
DESCRIPTION:Mit Hausmitteln kann man viele Beschwerden lindern und liebevoll und aktiv 
 helfen. Ohne großen Aufwand kann die ganze Familie bei kleinen Wehwehchen u
 nd Infekten begleitet werden. * So ist das „Aua“ schnell vergessen *\n An d
 iesem Vormittag widmen wir uns Themen, die besonders im Sommer dazu gehören
 :  - Was tun bei Sonnenbrand? - Vermeidung und Linderung von Insektenstiche
 n - Hoppalas, Stürze und Abschürfungen begleiten - Erkältungssymptome linde
 rn - praktischer Einblick in viele bewährte, einfach umzusetzende Anwendung
 en!  Um sich selbst zu helfen braucht es nicht viel Zubehör, ein wenig Wiss
 en rund um Krankheit und Gesundheit, und die richtigen Zutaten sind schnell
  gefunden! So können Insektenstiche, Schrammen, Sonnenbrand &amp; Co in häu
 slicher Pflege begleitet werden. Besonders wichtig ist die geschenkte Zuwen
 dung bei der Anwendung von Hausmitteln, daher sind alle Rezepte ruck-zuck z
 uzubereitet. Spart Zeit und Nerven, und du kannst dich deinem kranken Kind 
 widmen! ***********************************************Anmeldung unter: cla
 udia@kinderhausmittel.com // beschränkte TeilnehmerInnenzahl // Kursbeitrag
 : 65,- Euro inklusive Skript und Material // Dauer circa 4 Stunden // Babys
  können selbstverständlich mit dabei sein! // Fragen und Anmeldung: claudia
 @kinderhausmittel.comWeitere Infos: www.kinderhausmittel.com (http://www.ki
 nderhausmittel.com) Achtung: Wir treffen uns am Neubaugürtel 7. Eingang in 
 das Gassenlokal direkt vom Gürtel. Das Kindeatelier hat auch eine weitere A
 dresse! Verwechslungsgefahr!!!
X-ALT-DESC;FMTTYPE=text/html:<div class="" data-block="true" data-editor="6mj1k" data-offset-key="a3r66-
 0-0"><div class="_1mf _1mj" data-offset-key="a3r66-0-0"><strong>Mit Hausmit
 teln kann man viele Beschwerden lindern und liebevoll und aktiv helfen. Ohn
 e großen Aufwand kann die ganze Familie bei kleinen Wehwehchen und Infekten
  begleitet werden.</strong></div></div><div class="" data-block="true" data
 -editor="6mj1k" data-offset-key="56bt2-0-0"><div class="_1mf _1mj" data-off
 set-key="56bt2-0-0"><span data-offset-key="56bt2-0-0"> </span></div></div><
 div class="" data-block="true" data-editor="6mj1k" data-offset-key="3456l-0
 -0"><div class="_1mf _1mj" data-offset-key="3456l-0-0"><span data-offset-ke
 y="3456l-0-0">* So ist das „Aua“ schnell vergessen *<br /></span></div></di
 v><div class="" data-block="true" data-editor="6mj1k" data-offset-key="29v6
 b-0-0"><div class="_1mf _1mj" data-offset-key="29v6b-0-0"><span data-offset
 -key="29v6b-0-0"> </span></div></div><div class="" data-block="true" data-e
 ditor="6mj1k" data-offset-key="63ugs-0-0"><div class="_1mf _1mj" data-offse
 t-key="63ugs-0-0"><span data-offset-key="63ugs-0-0">An diesem Vormittag wid
 men wir uns Themen, die besonders im Sommer dazu gehören:</span></div></div
 ><div class="" data-block="true" data-editor="6mj1k" data-offset-key="5o29q
 -0-0"><div class="_1mf _1mj" data-offset-key="5o29q-0-0"><span data-offset-
 key="5o29q-0-0"> </span></div></div><div class="" data-block="true" data-ed
 itor="6mj1k" data-offset-key="cs3n0-0-0"><div class="_1mf _1mj" data-offset
 -key="cs3n0-0-0"><span data-offset-key="cs3n0-0-0"> - Was tun bei <strong>S
 onnenbrand</strong>?</span></div></div><div class="" data-block="true" data
 -editor="6mj1k" data-offset-key="9qkh1-0-0"><div class="_1mf _1mj" data-off
 set-key="9qkh1-0-0"><span data-offset-key="9qkh1-0-0"> - Vermeidung und Lin
 derung von <strong>Insektenstichen</strong></span></div></div><div class=""
  data-block="true" data-editor="6mj1k" data-offset-key="8egru-0-0"><div cla
 ss="_1mf _1mj" data-offset-key="8egru-0-0"><span data-offset-key="8egru-0-0
 "> - Hoppalas, Stürze und <strong>Abschürfungen</strong> begleiten</span></
 div></div><div class="" data-block="true" data-editor="6mj1k" data-offset-k
 ey="7u4cg-0-0"><div class="_1mf _1mj" data-offset-key="7u4cg-0-0"><span dat
 a-offset-key="7u4cg-0-0"> - <strong>Erkältungssymptome</strong> lindern</sp
 an></div></div><div class="" data-block="true" data-editor="6mj1k" data-off
 set-key="e2p0c-0-0"><div class="_1mf _1mj" data-offset-key="e2p0c-0-0"><spa
 n data-offset-key="e2p0c-0-0"> - praktischer Einblick in viele bewährte, ei
 nfach umzusetzende Anwendungen!</span></div></div><div class="" data-block=
 "true" data-editor="6mj1k" data-offset-key="4vih5-0-0"><div class="_1mf _1m
 j" data-offset-key="4vih5-0-0"><span data-offset-key="4vih5-0-0"> </span></
 div></div><div class="" data-block="true" data-editor="6mj1k" data-offset-k
 ey="2jv5p-0-0"><div class="_1mf _1mj" data-offset-key="2jv5p-0-0"><span dat
 a-offset-key="2jv5p-0-0"> Um sich selbst zu helfen braucht es nicht viel Zu
 behör, ein wenig Wissen rund um Krankheit und Gesundheit, und die richtigen
  Zutaten sind schnell gefunden! So können Insektenstiche, Schrammen, Sonnen
 brand &amp; Co in häuslicher Pflege begleitet werden.</span></div></div><di
 v class="" data-block="true" data-editor="6mj1k" data-offset-key="81h2e-0-0
 "><div class="_1mf _1mj" data-offset-key="81h2e-0-0"><span data-offset-key=
 "81h2e-0-0"> </span></div></div><div class="" data-block="true" data-editor
 ="6mj1k" data-offset-key="f9dq9-0-0"><div class="_1mf _1mj" data-offset-key
 ="f9dq9-0-0"><span data-offset-key="f9dq9-0-0"><strong>Besonders wichtig is
 t die geschenkte Zuwendung bei der Anwendung von Hausmitteln, daher sind al
 le Rezepte ruck-zuck zuzubereitet</strong>. Spart Zeit und Nerven, und du k
 annst dich deinem kranken Kind widmen!</span></div></div><div class="" data
 -block="true" data-editor="6mj1k" data-offset-key="cuefp-0-0"><div class="_
 1mf _1mj" data-offset-key="cuefp-0-0"><span data-offset-key="cuefp-0-0"> </
 span></div></div><div class="" data-block="true" data-editor="6mj1k" data-o
 ffset-key="3kejs-0-0"><div class="_1mf _1mj" data-offset-key="3kejs-0-0"><s
 pan data-offset-key="3kejs-0-0">*******************************************
 ****</span></div></div><div class="" data-block="true" data-editor="6mj1k" 
 data-offset-key="3n6ue-0-0"><div class="_1mf _1mj" data-offset-key="3n6ue-0
 -0"><span data-offset-key="3n6ue-0-0">Anmeldung unter: claudia@kinderhausmi
 ttel.com // beschränkte TeilnehmerInnenzahl // Kursbeitrag: 65,- Euro inklu
 sive Skript und Material // Dauer circa 4 Stunden // Babys können selbstver
 ständlich mit dabei sein! // Fragen und Anmeldung: claudia@kinderhausmittel
 .com</span></div></div><div class="" data-block="true" data-editor="6mj1k" 
 data-offset-key="40e4b-0-0"><div class="_1mf _1mj" data-offset-key="40e4b-0
 -0"><span data-offset-key="40e4b-0-0">Weitere Infos: <a href="http://www.ki
 nderhausmittel.com">www.kinderhausmittel.com</a></span></div><div class="_1
 mf _1mj" data-offset-key="40e4b-0-0"> </div><div class="_1mf _1mj" data-off
 set-key="40e4b-0-0"><span data-offset-key="40e4b-0-0">Achtung: Wir treffen 
 uns am Neubaugürtel 7. Eingang in das Gassenlokal direkt vom Gürtel. Das Ki
 ndeatelier hat auch eine weitere Adresse! Verwechslungsgefahr!!!</span></di
 v></div>
CONTACT:claudia@kinderhaumittel.com
DTSTAMP:20260424T175038
DTSTART:20190617T070000
DTEND:20190617T110000
SEQUENCE:0
TRANSP:OPAQUE
END:VEVENT
END:VCALENDAR