BEGIN:VCALENDAR
VERSION:2.0
PRODID:-//jEvents 2.0 for Joomla//EN
CALSCALE:GREGORIAN
METHOD:PUBLISH
BEGIN:VEVENT
UID:2966c9f4aec0a81322ab21d92d49fbe5
CATEGORIES:2. Bezirk
CREATED:20190328T172008
SUMMARY:  BABY  TAGE   bei Paint your Style 
LOCATION:Molkereistrasse 7\, 1020 Wien 
DESCRIPTION:BABY  TAGE  \n Wir bieten dir regelmäßige Termine, damit Du bei uns in alle
 r Ruhe, außerhalb der Öffnungszeiten und mit professioneller Hilfe schöne B
 abyfußabdrücke auf die Keramik zaubern kannst. Fuß und Handabdrücke sind ei
 ne bleibende Erinnerung und noch dazu eine schöne Geschenksidee. Viele Idee
 n, Fotos und Anregungen findet ihr auch auf unserer Facebookseite sowie auf
  Google.\n Die Babytage sind jeweils in der Zeit von 10 Uhr bis 13 Uhr. Nat
 ürlich könnt ihr jederzeit nachmittags ohne Anmeldung vorbeischauen. \nUnd 
 so funktioniert’s: Ein geübter Paint your Style-Mitarbeiter stempelt mit Di
 r die Babyfußabdrücke auf Deine Wunschkeramik.  \n Wann:\n29.07.2019\n09.09
 .2019\n07.10.2019\nim November &amp; Dezember jeden Montag! \n \n \nEinen T
 ermin könnt ihr euch unter 01/72 000 83 oder per Mail: wien2@paintyourstyle
 .at reservieren. Wir freuen uns auf Dich und Dein Baby!\n \nDie Farben bei 
 uns sind bleifrei, völlig ungiftig und lassen sich problemlos von Händen un
 d Kleidung abwaschen. \nPaint your Style - Wien 2 (https://www.paintyoursty
 le.eu/at/wien2/)\n
X-ALT-DESC;FMTTYPE=text/html:<p style="text-align: center;"><span style="color: #ff00ff;"><strong><em>BA
 BY</em></strong><strong><em> </em></strong><strong><em> TAGE</em></strong><
 strong><em>  </em></strong></span></p><p style="text-align: center;"><em> <
 /em><em>Wir bieten dir regelmäßige Termine, damit Du bei uns in aller Ruhe,
  außerhalb der Öffnungszeiten und mit professioneller Hilfe schöne Babyfußa
 bdrücke auf die Keramik zaubern kannst. Fuß und Handabdrücke sind eine blei
 bende Erinnerung und noch dazu eine schöne Geschenksidee. Viele Ideen, Foto
 s und Anregungen findet ihr auch auf unserer Facebookseite sowie auf Google
 .</em></p><p style="text-align: center;"><em> Die Babytage sind jeweils in 
 der Zeit von 10 Uhr bis 13 Uhr. Natürlich könnt ihr jederzeit nachmittags o
 hne Anmeldung vorbeischauen. </em></p><p style="text-align: center;"><em>Un
 d so funktioniert’s: Ein geübter Paint your Style-Mitarbeiter stempelt mit 
 Dir die Babyfußabdrücke auf Deine Wunschkeramik.  </em></p><p style="text-a
 lign: center;"><em> </em><strong><em>Wann:</em></strong></p><p style="text-
 align: center;"><strong><em><strong><em>29.07.2019</em></strong></em></stro
 ng></p><p style="text-align: center;"><strong><em><strong><em><strong><em>0
 9.09.2019</em></strong></em></strong></em></strong></p><p style="text-align
 : center;"><strong><em><strong><em><strong><em><strong><em>07.10.2019</em><
 /strong></em></strong></em></strong></em></strong></p><p style="text-align:
  center;"><strong><em><strong><em><strong><em><strong><em>im November &amp;
  Dezember jeden Montag! </em></strong></em></strong></em></strong></em></st
 rong></p><p style="text-align: center;"> </p><p> </p><p style="text-align: 
 center;"><em>Einen Termin könnt ihr euch </em><em>unter 01/72 000 83 oder <
 /em><em>per Mail: wien2@paintyourstyle.at reservieren. </em><em>Wir freuen 
 uns auf Dich und Dein Baby!</em></p><p style="text-align: center;"><em> </e
 m></p><p style="text-align: center;"><em>Die Farben bei uns sind bleifrei, 
 völlig ungiftig und lassen sich problemlos von Händen und Kleidung abwasche
 n. </em></p><p style="text-align: center;"><a href="https://www.paintyourst
 yle.eu/at/wien2/">Paint your Style - Wien 2</a></p>
CONTACT:wien2@paintyourstyle.at
DTSTAMP:20260424T023404
DTSTART:20190729T080000
DTEND:20190729T110000
SEQUENCE:0
TRANSP:OPAQUE
END:VEVENT
END:VCALENDAR