BEGIN:VCALENDAR
VERSION:2.0
PRODID:-//jEvents 2.0 for Joomla//EN
CALSCALE:GREGORIAN
METHOD:PUBLISH
BEGIN:VEVENT
UID:3b1f31d0b2a570c0c7e6f7c5f44b0d7b
CATEGORIES:18. Bezirk
CREATED:20190329T104115
SUMMARY: Tragen - Infoveranstaltung Menschenbabys sind Traglinge!
LOCATION:SPIELRINGEL Mollgasse 11-13
DESCRIPTION:<p>Warum Tragen? Von Natur aus sind Babys Traglinge. Getragen zu werden ist
  eines ihrer Grundbedürfnisse. Durch das Tragen kannst du deinem Baby Siche
 rheit, Geborgenheit und Liebe schenken. Du kannst es damit auf keinen Fall 
 zu sehr verwöhnen. Auch für dich bietet das Tragen einige Vorteile.</p><p>I
 nhalte dieser Veranstaltung:</p><ul class="list-normal"><li>Menschenbabys s
 ind Traglinge. Was bedeutet das?</li><li>Anatomie und Bindung</li><li>Vorte
 ile des Tragens</li><li>Überblick über die Möglichkeiten dein Baby zu trage
 n</li><li>gerne kannst du dein eigenes Tragezeugs mitbringen</li><li>du kan
 nst verschiedene Tragehilfen selbstständig testen</li><li>du bekommst einen
  umfassenden Überblick über das Thema Tragen, die Veranstaltung kann aber e
 ine 1:1 Beratung nicht ersetzen!</li></ul><p>Diese Veranstaltung richtet si
 ch an alle, die an dem Thema Tragen interessiert sind, an Schwangere oder a
 n Mamas/Papas mit Babys</p><div class="cc-m-hgrid-column last"><div><div cl
 ass="j-module n j-text "><p> </p><p><span class="text-primary">Mitzubringen
 : </span><br /> Tragehilfen oder Tragetücher wenn vorhanden</p><p><span cla
 ss="text-primary">Info &amp; Anmeldung:</span></p><div class="cc-m-hgrid-co
 lumn last"><div><div class="j-module n j-text "><p>info@trageberatung-elfim
 beutel.at</p></div></div></div><br /><div class="cc-m-hgrid-column last"><d
 iv><div class="j-module n j-text "><p> </p></div></div></div></div></div></
 div>
CONTACT:http://www.schwangerschaft-elternschaft.at/angebote/vortraege-workshops/trageworkshop/
X-EXTRAINFO:[preis='3500'][anmeldung='true']
DTSTAMP:20260425T132853
DTSTART:20190402T091500
DTEND:20190402T104500
SEQUENCE:0
TRANSP:OPAQUE
END:VEVENT
END:VCALENDAR