BEGIN:VCALENDAR
VERSION:2.0
PRODID:-//jEvents 2.0 for Joomla//EN
CALSCALE:GREGORIAN
METHOD:PUBLISH
BEGIN:VEVENT
UID:d679694c1192e62107723806560338d8
CATEGORIES:18. Bezirk
CREATED:20190329T104535
SUMMARY:Langzeitstillgruppe 
LOCATION:SPIELRINGEL Mollgasse11-13
DESCRIPTION:Wenn man länger als gewöhnlich und vielleicht sogar zwei Kinder stillt, füh
 lt man sich oft unverstanden und alleine. Bei uns kannst du Gleichgesinnte 
 treffen, Erfahrungen austauschen und bekommst Unterstützung von zwei langze
 itstillenden AFS-Stillberaterinnen (in Ausbildung).\nInfo &amp; Anmeldung:\
 noffice@spielringel.at\nWir bitten um Anmeldung spätestens am Tag davor!\n
X-ALT-DESC;FMTTYPE=text/html:<p>Wenn man länger als gewöhnlich und vielleicht sogar zwei Kinder stillt, 
 fühlt man sich oft unverstanden und alleine. Bei uns kannst du Gleichgesinn
 te treffen, Erfahrungen austauschen und bekommst Unterstützung von zwei lan
 gzeitstillenden AFS-Stillberaterinnen (in Ausbildung).</p><p><span class="t
 ext-primary">Info &amp; Anmeldung:</span></p><p>office@spielringel.at</p><p
 >Wir bitten um Anmeldung spätestens am Tag davor!</p>
CONTACT:http://www.schwangerschaft-elternschaft.at/angebote/beratung-begleitung/langzeitstillgruppe/
X-EXTRAINFO:[preis='300'][anmeldung='true']
DTSTAMP:20260425T132520
DTSTART:20190405T123000
DTEND:20190405T140000
SEQUENCE:0
TRANSP:OPAQUE
END:VEVENT
END:VCALENDAR