BEGIN:VCALENDAR
VERSION:2.0
PRODID:-//jEvents 2.0 for Joomla//EN
CALSCALE:GREGORIAN
METHOD:PUBLISH
BEGIN:VEVENT
UID:b37f7092afa2e7aa31fc9733c02517f6
CATEGORIES:22. Bezirk
CREATED:20190401T110339
SUMMARY:MAWIBA-Mama-Baby-Tanz
LOCATION:Tanzschule Schwebach\, Maculangasse 1B\, 1220 Wien
DESCRIPTION:MAWIBA - Tanzen für Schwangere und Mamas mit Babys\nMAWIBA ist ein Tanzkonz
 ept für Schwangere (MAWIBA-Pre) und Mamas und ihre Babys (MAWIBA-Baby).\nGe
 meinsam mit einem erfahrenen Expertenteam entwickelt, bietet MAWIBA speziel
 le Choreografien zur Beckenbodenstärkung und Verbesserung der Körperhaltung
 .\nMAWIBA-Pre:\nWerdende Mamas tanzen zu abwechslungsreichen MAWIBA-Choreog
 rafien. In dieser besonderen Zeit hält tanzen fit, macht Spaß und stärkt di
 e Mutter-Kind-Bindung und ist eine spaßbringende Ergänzung zum Geburtsvorbe
 reitungskurs, bei dem man seinen Beckenboden kennenlernt und in Bewegung bl
 eibt.\nMAWIBA-Baby:\nEs ist ein sanfter Einstieg um nach der Geburt wieder 
 aktiv zu werden. Während die Mamas zu beckenbodenstärkenden Choreografien t
 anzen und dabei ihre Haltung und Fitness verbessern, kuscheln sich die Baby
 s in einer Tragehilfe an sie.\nDerzeit biete ich Mix-Kurse für MAWIBA-Baby 
 und MAWIBA-Pre an. Weitere Details zur Stunde bekommst du nach deiner Anmel
 dung von mir zugesendet. \nSchnuppern ist jederzeit möglich.\nIch freue mic
 h schon sehr Euch begrüßen zu dürfen.\nNÄCHSTER KURSSTART:\nWO: Tanzschule 
 Schwebach, Maculangasse 1B, 1220 Wien\nTERMINE: \nab Montag,   den 01.04.20
 19 von 16:30 - 17:30 Uhr\n                              &amp;\nab Dienstag,
  den 02.04.2019 von 10:00 - 11:00 Uhr\nANMELDUNG UNTER:       bfink@mawibat
 rainer.com\nEure Bettina\n
X-ALT-DESC;FMTTYPE=text/html:<p>MAWIBA - Tanzen für Schwangere und Mamas mit Babys</p><p>MAWIBA ist ein 
 Tanzkonzept für Schwangere (MAWIBA-Pre) und Mamas und ihre Babys (MAWIBA-Ba
 by).<br />Gemeinsam mit einem erfahrenen Expertenteam entwickelt, bietet MA
 WIBA spezielle Choreografien zur Beckenbodenstärkung und Verbesserung der K
 örperhaltung.</p><div class="text_exposed_show"><p><strong>MAWIBA-Pre:</str
 ong><br />Werdende Mamas tanzen zu abwechslungsreichen MAWIBA-Choreografien
 . In dieser besonderen Zeit hält tanzen fit, macht Spaß und stärkt die Mutt
 er-Kind-Bindung und ist eine spaßbringende Ergänzung zum Geburtsvorbereitun
 gskurs, bei dem man seinen Beckenboden kennenlernt und in Bewegung bleibt.<
 /p><p><strong>MAWIBA-Baby</strong>:<br />Es ist ein sanfter Einstieg um nac
 h der Geburt wieder aktiv zu werden. Während die Mamas zu beckenbodenstärke
 nden Choreografien tanzen und dabei ihre Haltung und Fitness verbessern, ku
 scheln sich die Babys in einer Tragehilfe an sie.</p><p>Derzeit biete ich M
 ix-Kurse für MAWIBA-Baby und MAWIBA-Pre an. Weitere Details zur Stunde beko
 mmst du nach deiner Anmeldung von mir zugesendet. <br />Schnuppern ist jede
 rzeit möglich.<br />Ich freue mich schon sehr Euch begrüßen zu dürfen.</p><
 p><strong>NÄCHSTER KURSSTART:</strong></p><p><strong>WO</strong>: Tanzschul
 e Schwebach, Maculangasse 1B, 1220 Wien</p><p><strong>TERMINE</strong>: <br
  />ab Montag,   den 01.04.2019 von 16:30 - 17:30 Uhr<br />                 
              &amp;<br />ab Dienstag, den 02.04.2019 von 10:00 - 11:00 Uhr</
 p><p><strong>ANMELDUNG UNTER</strong>:       bfink@mawibatrainer.com</p><p>
 Eure Bettina</p></div>
CONTACT:mama-baby-tanzen@gmx.at
X-EXTRAINFO:[preis='000'][anmeldung='true']
DTSTAMP:20260423T165642
DTSTART:20190506T143000
DTEND:20190506T153000
SEQUENCE:0
TRANSP:OPAQUE
END:VEVENT
END:VCALENDAR