BEGIN:VCALENDAR
VERSION:2.0
PRODID:-//jEvents 2.0 for Joomla//EN
CALSCALE:GREGORIAN
METHOD:PUBLISH
BEGIN:VEVENT
UID:39bb55131fba07f112224c56d6e913a4
CATEGORIES:18. Bezirk
CREATED:19700101T010000
SUMMARY:Buggyworks - Fit mit Baby und Buggy im Türkenschanz Park
LOCATION:Türkenschanzpark\, Wien 18
DESCRIPTION:\n \nBUGGYWORKS\nFit mit Baby und Buggy im Park, Sommerblock 24.4. bis 26.6
 .2019\nNichts wirkt so ausgleichend auf Eltern und Kind, als gemeinsam im F
 reien zu sein. In dieser Outdoor-Trainingseinheit sind wir gemeinsam im sch
 önen Türkenschanz Park (Wien Währing, 18. Bezirk) unterwegs.\nDiese Unterri
 chtseinheit wird seit 2012 von Bea Hasler (Obfrau Muki Sport) selbst unterr
 ichtet. Als Sportlerin und Mutter von 3 Kindern mit mehr als 5 Jahren Unter
 richtserfahrung, wird diese Einheit mit sehr viel Versiertheit und Spitzeng
 efühl für die persönlichen Bedürfnisse der TeilnehmerInnen nach spiraldynam
 ischen Prinzipien unterrichtet. Ein hochqualitatives Bewegungsangebot bei d
 em besonderes Augenmerk auf die korrekte Ausführung der Übungen gelegt wird
  und eine schöne Möglichkeit, die gemeinsame Mutter-Kind oder Papa-Kind Zei
 t aktiv zu gestalten!\nAblauf: Wir wärmen im raschen Schritt mit Kinderwage
 n auf und bauen dabei verschiedene Stationen zur Kräftigung und Mobilisatio
 n ein, bei denen wir Thera Bänder, Parkbänke und Ähnliches miteinbeziehen (
 je nach Wetter), bevor wir die Stunde im Kreis um eine Spieldecke für die K
 inder mit Dehnungs- und Aufrichtungs- Übungen und einer freien Wirbelsäule 
 beenden.\nMitzubringen: Sonnenschutz, Regenschutz für Kinderwagen, Regenjac
 ke, Trinkflasche\nTreffpunkt: Eingang Ecke Hasenauerstr./Gregor Mendl Str.\
 nKosten: Block 24.4. bis 26.6.: 90 Euro, Einzelstunde 15 Euro\nwww.mukispor
 t.at (https://www.mukisport.at)\n
X-ALT-DESC;FMTTYPE=text/html:<p></p><p> </p><p><strong>BUGGYWORKS</strong></p><p>Fit mit Baby und Buggy 
 im Park, Sommerblock 24.4. bis 26.6.2019</p><p>Nichts wirkt so ausgleichend
  auf Eltern und Kind, als gemeinsam im Freien zu sein. In dieser Outdoor-Tr
 ainingseinheit sind wir gemeinsam im schönen Türkenschanz Park (Wien Währin
 g, 18. Bezirk) unterwegs.</p><p>Diese Unterrichtseinheit wird seit 2012 von
  Bea Hasler (Obfrau Muki Sport) selbst unterrichtet. Als Sportlerin und Mut
 ter von 3 Kindern mit mehr als 5 Jahren Unterrichtserfahrung, wird diese Ei
 nheit mit sehr viel Versiertheit und Spitzengefühl für die persönlichen Bed
 ürfnisse der TeilnehmerInnen nach spiraldynamischen Prinzipien unterrichtet
 . Ein hochqualitatives Bewegungsangebot bei dem besonderes Augenmerk auf di
 e korrekte Ausführung der Übungen gelegt wird und eine schöne Möglichkeit, 
 die gemeinsame Mutter-Kind oder Papa-Kind Zeit aktiv zu gestalten!</p><p><s
 trong>Ablauf:</strong> Wir wärmen im raschen Schritt mit Kinderwagen auf un
 d bauen dabei verschiedene Stationen zur Kräftigung und Mobilisation ein, b
 ei denen wir Thera Bänder, Parkbänke und Ähnliches miteinbeziehen (je nach 
 Wetter), bevor wir die Stunde im Kreis um eine Spieldecke für die Kinder mi
 t Dehnungs- und Aufrichtungs- Übungen und einer freien Wirbelsäule beenden.
 </p><p><strong>Mitzubringen:</strong> Sonnenschutz, Regenschutz für Kinderw
 agen, Regenjacke, Trinkflasche<br /><strong>Treffpunkt:</strong> Eingang Ec
 ke Hasenauerstr./Gregor Mendl Str.</p><p><strong>Kosten:</strong> Block 24.
 4. bis 26.6.: 90 Euro, Einzelstunde 15 Euro</p><p><strong><a href="https://
 www.mukisport.at" target="_blank" rel="noopener noreferrer">www.mukisport.a
 t</a></strong></p>
CONTACT:069917130193
X-EXTRAINFO:[preis='900'][anmeldung='true']
DTSTAMP:20260424T164712
DTSTART:20190424T073000
DTEND:20190424T083000
SEQUENCE:0
RRULE:FREQ=WEEKLY;UNTIL=20190627T000000Z;INTERVAL=1;BYDAY=WE,WE,WE,WE,WE
TRANSP:OPAQUE
END:VEVENT
END:VCALENDAR