BEGIN:VCALENDAR
VERSION:2.0
PRODID:-//jEvents 2.0 for Joomla//EN
CALSCALE:GREGORIAN
METHOD:PUBLISH
BEGIN:VEVENT
UID:aa6a3b823c098b331279126d9f813427
CATEGORIES:7. Bezirk
CREATED:20190403T100833
SUMMARY:Reiki-Workshop für Mamas
LOCATION:Feelgoodstudio\, Burggase 31\, Innenhof
DESCRIPTION:Reiki-Workshops für Mamas\n \nJede Mutter kennt das: die Liebe zu den Kinde
 rn ist groß und unendlich, doch die alltäglichen Herausforderungen sind zu 
 meistern. Mamas kämpfen mit Schlafmangel, ihnen fehlt der Raum für sich sel
 bst, sie sorgen sich rund um die Uhr um ihre Kleinen und deren Wehwehchen o
 der verspüren selbst eine innere Unruhe. Die Kinder kämpfen mit Bauchweh, m
 it Zahnen, spüren Angst in der Nacht oder einen zu großen Trennungsschmerz.
 \n \nLerne mit Reiki, wie du dir und deinem Kleinen in der hektischen Zeit 
 selbst helfen kannst.\n \nMit Reiki* gewinnst du ein emotionales Gleichgewi
 cht, stärkst deine innere Mitte und erlangst mehr Kraft, deine Herausforder
 ungen zu meistern. Ich zeige dir, wie du dich selbst und dein Kind optimal 
 unterstützen kannst. \n \n \nDie Workshops sind abgestimmt auf Mamas – du k
 annst dein Baby mitnehmen und jederzeit stillen, wickeln oder füttern.\n \n
 Was ist Reiki? Eine alte japanische Entspannungstechnik, die durch sanftes 
 Auflegen der Hände deine innere Balance herstellt und deine Selbstheilungsk
 räfte aktiviert. \n \nInhalt: Geschichte und die Weisheit über Reiki – Wie 
 Reiki wirkt – Was Reiki kann und nicht kann – Behandlungsabfolge u. v. m.\n
 Termin Mai: 9., 16., 23. und 24. Mai\nOrt: Feelgoodstudio – 1070 Wien, Burg
 gasse 31 (Innenhof) \nKosten: 320,– Euro für 4 Einheiten, inkl. Unterlagen\
 nAnmeldung: telefonisch unter 0680 / 14 61 261 oder per E-Mail anmeine@wend
 e-punkte.at (begrenzte Teilnehmerzahl)\nTerminänderungen vorbehalten. Keine
  Vorkenntnisse notwendig.\n \nWeitere Infos und Termine für Juni/September/
 Oktober/November findest du unter www.wende-punkte.at\n \n \nIch freue mich
  auf dein Kommen!\nUrsula Renate Jobst, Energetikerin in Wien              
                                                                            
                 +43 0680 14 61 261 - www.wende-punkte.at\n \n \n* Reiki kan
 n keinen Arztbesuch oder die Einnahme notwendiger Medikamente ersetzen.\n \
 n
X-ALT-DESC;FMTTYPE=text/html:<div class="page" title="Page 2"><div class="layoutArea"><div class="column
 "><p><strong>Reiki-Workshops für Mamas</strong></p><p> </p><p>Jede Mutter k
 ennt das: die Liebe zu den Kindern ist groß und unendlich, doch die alltägl
 ichen Herausforderungen sind zu meistern. Mamas kämpfen mit Schlafmangel, i
 hnen fehlt der Raum für sich selbst, sie sorgen sich rund um die Uhr um ihr
 e Kleinen und deren Wehwehchen oder verspüren selbst eine innere Unruhe. Di
 e Kinder kämpfen mit Bauchweh, mit Zahnen, spüren Angst in der Nacht oder e
 inen zu großen Trennungsschmerz.</p><p> </p><p><strong>Lerne mit Reiki, wie
  du dir und deinem Kleinen in der hektischen Zeit selbst helfen kannst.</st
 rong></p><p> </p><p>Mit Reiki* gewinnst du ein emotionales Gleichgewicht, s
 tärkst deine innere Mitte und erlangst mehr Kraft, deine Herausforderungen 
 zu meistern. Ich zeige dir, wie du dich selbst und dein Kind optimal unters
 tützen kannst. </p><p> </p><p> </p><p>Die Workshops sind abgestimmt auf Mam
 as – du kannst dein Baby mitnehmen und jederzeit stillen, wickeln oder fütt
 ern.</p><p> </p><p><strong>Was ist Reiki? </strong>Eine alte japanische Ent
 spannungstechnik, die durch sanftes Auflegen der Hände deine innere Balance
  herstellt und deine Selbstheilungskräfte aktiviert. </p><div class="page" 
 title="Page 3"><div class="layoutArea"><div class="column"><p style="paddin
 g-left: 30px;"> </p><p style="padding-left: 30px;"><strong>Inhalt:</strong>
  Geschichte und die Weisheit über Reiki – Wie Reiki wirkt – Was Reiki kann 
 und nicht kann – Behandlungsabfolge u. v. m.</p><p style="padding-left: 30p
 x;"><strong>Termin Mai:</strong> 9., 16., 23. und 24. Mai</p><p style="padd
 ing-left: 30px;"><strong>Ort:</strong> Feelgoodstudio – 1070 Wien, Burggass
 e 31 (Innenhof) </p><p style="padding-left: 30px;"><strong>Kosten: </strong
 >320,– Euro für 4 Einheiten, inkl. Unterlagen</p><p style="padding-left: 30
 px;"><strong>Anmeldung: </strong>telefonisch unter 0680 / 14 61 261 oder pe
 r E-Mail anmeine@wende-punkte.at (begrenzte Teilnehmerzahl)</p><p style="pa
 dding-left: 30px;">Terminänderungen vorbehalten. Keine Vorkenntnisse notwen
 dig.</p></div></div></div><p> </p><p>Weitere Infos und Termine für Juni/Sep
 tember/Oktober/November findest du unter www.wende-punkte.at</p><p> </p><p>
  </p><p>Ich freue mich auf dein Kommen!</p><p>Ursula Renate Jobst, Energeti
 kerin in Wien                                                              
                                            +43 0680 14 61 261 - www.wende-p
 unkte.at</p><div class="page" title="Page 2"><div class="layoutArea"><div c
 lass="column"><p> </p><p> </p><p>* Reiki kann keinen Arztbesuch oder die Ei
 nnahme notwendiger Medikamente ersetzen.</p></div></div></div><p> </p></div
 ></div></div>
CONTACT:meine@wende-punkte.at
X-EXTRAINFO:[preis='32000'][anmeldung='true']
DTSTAMP:20260425T035829
DTSTART:20190509T080000
DTEND:20190509T110000
SEQUENCE:0
TRANSP:OPAQUE
END:VEVENT
END:VCALENDAR