BEGIN:VCALENDAR
VERSION:2.0
PRODID:-//jEvents 2.0 for Joomla//EN
CALSCALE:GREGORIAN
METHOD:PUBLISH
BEGIN:VEVENT
UID:438c4d0ffe5fed582652ec6606bb055a
CATEGORIES:11. Bezirk
CREATED:19700101T010000
SUMMARY:Klavierunterricht mit Baby
LOCATION:VHS Simmering\, Gottschalkgasse 10
DESCRIPTION:<table class="contentpaneopen" border="0"><tbody><tr align="left" valign="t
 op"><td colspan="4"><div class="eventContent"><p>Klavierspielen macht nicht
  nur Spaß, es fördert auch die emotionale Entwicklung von klein auf. In die
 sem Kurs für musikinteressierte Eltern können Sie Ihr Baby einfach zum Unte
 rricht mitnehmen.<br />Nach dem Kurs können Sie Basistechniken und Notenken
 ntnisse anwenden. Sie kennen die Funktionsweise Ihres Instruments sowie mus
 ikalische Begriffe und Zusammenhänge. Sie wissen, wie man Stücke erarbeitet
  und können selbst gewählte Stücke darbieten.</p><p>Die Einheit dauert je e
 ine Stunde á 50min und kann zu einem fixen Termin zwischen 10 und 15 Uhr ge
 wählt werden.</p><p>Anmeldungen unter <a href="mailto:simmering@vhs.at,">si
 mmering@vhs.at,</a> 01 891 74 111 000 oder <a href="https://vhs.at/simmerin
 g">https://vhs.at/simmering</a>.</p><p>Kursort: VHS Simmering, Gottschalkga
 sse 10, 1110 Wien</p><p> </p></div></td></tr><tr><td class="ev_detail" cols
 pan="4" align="left" valign="top"><div class="eventLocation"><b>Veranstaltu
 ngsort: </b>VHS Simmering, Gottschalkgasse 10</div></td></tr></tbody></tabl
 e><p> </p>
CONTACT:01 891 74 111 000
X-EXTRAINFO:[preis='15600'][anmeldung='true']
DTSTAMP:20260423T160609
DTSTART:20190527T080000
DTEND:20190527T130000
SEQUENCE:0
RRULE:FREQ=WEEKLY;COUNT=4;INTERVAL=1;BYDAY=MO
TRANSP:OPAQUE
END:VEVENT
END:VCALENDAR