BEGIN:VCALENDAR
VERSION:2.0
PRODID:-//jEvents 2.0 for Joomla//EN
CALSCALE:GREGORIAN
METHOD:PUBLISH
BEGIN:VEVENT
UID:8f80f0e114a5d0ef52ade9e28eb3f5f8
CATEGORIES:5. Bezirk
CREATED:20190405T152452
SUMMARY:Mama-Baby-Yoga
LOCATION:Grünwaldgasse 4\, 1050 Wien
DESCRIPTION:<p>Wir haben den Raum, ihr kommt mit eurem Baby und macht mit. Das Jugendze
 ntrum Margareten öffnet seine Türen für Mamas mit Babys von 0-1 Jahren um Y
 oga zu praktizieren und im gemütlichen Rahmen, bei Tee oder Kaffee noch ein
  bisschen zu verweilen, zu plaudern, sich auszutauschen, etc.</p><p>Wer ein
 e hat, bringt seine Yogamatte bitte mit. Wir freuen uns auf euch!</p><p>Fol
 getermin am 29.05. wieder 10-11 Uhr</p>
CONTACT:o.horak@jugendzentren.at
X-EXTRAINFO:[preis='500'][anmeldung='false']
DTSTAMP:20260425T040251
DTSTART:20190508T080000
DTEND:20190508T090000
SEQUENCE:0
TRANSP:OPAQUE
END:VEVENT
END:VCALENDAR