BEGIN:VCALENDAR
VERSION:2.0
PRODID:-//jEvents 2.0 for Joomla//EN
CALSCALE:GREGORIAN
METHOD:PUBLISH
BEGIN:VEVENT
UID:d902415919627183a07efe53a30cafc4
CATEGORIES:6. Bezirk
CREATED:20190408T192027
SUMMARY:Familien-Atelier
LOCATION:6.\, Sandwirtgasse 13/12
DESCRIPTION:Familien-Atelier Im Biolino Familien-Atelier (https://www.biolino.at/spielg
 ruppen/familien-atelier/) können große und kleine Künstlerinnen und Künstle
 r nach Herzenslust mit unseren selbst hergestellten Bio-Farben matschen und
  gatschen, ohne dass Mama oder Papa nachher aufräumen müssen. Kommt gerne a
 ls Familie bei uns vorbei und verbringt einen kunterbunten Vormittag bei un
 s.\nProgramm\n\nWas erwartet dich?\nEs wird klebrig, matschig, bröselig, kr
 atzig: Sand, Erde, Getreidekörner, Holz und viele andere haptische Anregung
 en warten auf experimentierfreudige Entdecker*innen. Die Kinder können nach
  Herzenslust die Bio-Farben und Materialien mischen und dabei mit allen Sin
 nen erleben, wie sie ihre Eigenschaften verändern.\nAm Ende gibt es für die
  Kleinen ein wohlig warmes Bad und ihr geht mit einem selbstgebastelten And
 enken stolz nach Hause.\nFür Kinder vom Sitzalter bis 4 Jahre. \n\nSo., 2. 
 Juni 2019\n10.00 - 12.00 Uhr  Kosten: € 29.- für die ganze Familie inkl. Ja
 use\nZur Anmeldung geht`s hier:\nhttps://bit.ly/2VTYjGI (https://l.facebook
 .com/l.php?u=https%3A%2F%2Fbit.ly%2F2VTYjGI%3Ffbclid%3DIwAR0-pIYAq3qAMwEP7T
 KXZIfjmJC0mpD-HpLAGV6YIiHtEdR715bN52rbj_s&amp;h=AT13Tlj45g9_mQ50WsWj4R5PtrZ
 Ntl0NKxWZMD-T4EXqYrEMExUi6YHondjKpJOq5G7ysBRGFgZmBHhr2xfr8sDXvpa1kKh0YEC02B
 mFJK15WXe8HmX7jgkkCRiFxn4bFg) Ich freue mich auf einen bunten Vormittag mit
  euch! Alles Liebe,Martina  Biolino InstitutSandwirtgasse 13/121060 Wien067
 7/628 929 70www.biolino.at (http://www.biolino.at) 
X-ALT-DESC;FMTTYPE=text/html:<h1>Familien-Atelier</h1><div class="_4l8p _5dw9 _5dwa _4-u3"> </div><div c
 lass="_62hs _4-u3"><div class="_63es"><div class="_63eu _63ev"><div class="
 _63ew" data-testid="event-permalink-details">Im Biolino <a href="https://ww
 w.biolino.at/spielgruppen/familien-atelier/">Familien-Atelier</a> können gr
 oße und kleine Künstlerinnen und Künstler nach Herzenslust mit unseren selb
 st hergestellten Bio-Farben matschen und gatschen, ohne dass Mama oder Papa
  nachher aufräumen müssen. Kommt gerne als Familie bei uns vorbei und verbr
 ingt einen kunterbunten Vormittag bei uns.<br />Programm<br /><br />Was erw
 artet dich?<br />Es wird klebrig, matschig, bröselig, kratzig: Sand, Erde, 
 Getreidekörner, Holz und viele andere haptische Anregungen warten auf exper
 imentierfreudige Entdecker*innen. Die Kinder können nach Herzenslust die Bi
 o-Farben und Materialien mischen und dabei mit allen Sinnen erleben, wie si
 e ihre Eigenschaften verändern.<br />Am Ende gibt es für die Kleinen ein wo
 hlig warmes Bad und ihr geht mit einem selbstgebastelten Andenken stolz nac
 h Hause.<br />Für Kinder vom Sitzalter bis 4 Jahre. <br /><br />So., 2. Jun
 i 2019<br />10.00 - 12.00 Uhr </div><div class="_63ew" data-testid="event-p
 ermalink-details"> </div><div class="_63ew" data-testid="event-permalink-de
 tails">Kosten: € 29.- für die ganze Familie inkl. Jause</div><div class="_6
 3ew" data-testid="event-permalink-details"><br />Zur Anmeldung geht`s hier:
 <br /><a href="https://l.facebook.com/l.php?u=https%3A%2F%2Fbit.ly%2F2VTYjG
 I%3Ffbclid%3DIwAR0-pIYAq3qAMwEP7TKXZIfjmJC0mpD-HpLAGV6YIiHtEdR715bN52rbj_s&
 amp;h=AT13Tlj45g9_mQ50WsWj4R5PtrZNtl0NKxWZMD-T4EXqYrEMExUi6YHondjKpJOq5G7ys
 BRGFgZmBHhr2xfr8sDXvpa1kKh0YEC02BmFJK15WXe8HmX7jgkkCRiFxn4bFg" target="_bla
 nk" rel="nofollow noopener noreferrer" data-lynx-mode="hover">https://bit.l
 y/2VTYjGI</a></div><div class="_63ew" data-testid="event-permalink-details"
 > </div><div class="_63ew" data-testid="event-permalink-details">Ich freue 
 mich auf einen bunten Vormittag mit euch!</div><div class="_63ew" data-test
 id="event-permalink-details"> </div><div class="_63ew" data-testid="event-p
 ermalink-details">Alles Liebe,</div><div class="_63ew" data-testid="event-p
 ermalink-details">Martina</div><div class="_63ew" data-testid="event-permal
 ink-details"> </div><div class="_63ew" data-testid="event-permalink-details
 "> </div><div class="_63ew" data-testid="event-permalink-details">Biolino I
 nstitut</div><div class="_63ew" data-testid="event-permalink-details">Sandw
 irtgasse 13/12</div><div class="_63ew" data-testid="event-permalink-details
 ">1060 Wien</div><div class="_63ew" data-testid="event-permalink-details">0
 677/628 929 70</div><div class="_63ew" data-testid="event-permalink-details
 "><a href="http://www.biolino.at">www.biolino.at</a></div><div class="_63ew
 " data-testid="event-permalink-details"> </div></div></div></div>
CONTACT:067762892970, martina.novak@biolino.at
X-EXTRAINFO:[preis='2900'][anmeldung='true']
DTSTAMP:20260424T150513
DTSTART:20190602T080000
DTEND:20190602T100000
SEQUENCE:0
TRANSP:OPAQUE
END:VEVENT
END:VCALENDAR