BEGIN:VCALENDAR
VERSION:2.0
PRODID:-//jEvents 2.0 for Joomla//EN
CALSCALE:GREGORIAN
METHOD:PUBLISH
BEGIN:VEVENT
UID:88b83170d15a0117362793e351f91c07
CATEGORIES:15. Bezirk
CREATED:19700101T010000
SUMMARY:Frühlings-Tanzkurs
LOCATION:Neubaugürtel 7
DESCRIPTION:<div class="page" title="Page 1"><div class="layoutArea"><div class="column
 "><p>TANZ UND SPIEL</p><p>FÜR ELTERN UND KINDER VON 1 BIS 3 JAHREN</p></div
 ></div></div><div class="page" title="Page 1"><div class="layoutArea"><div 
 class="column"><p>...um Blumen rennen, sich unter Regenschirmen verstecken,
  ...in bunte Bänder verwickeln, ... Blütenblätter regnen lassen, mit Schmet
 terlingstüchern tanzen, über 1000 Bällchen hüpfen, mit Schwimmstangen spiel
 en,...</p><div class="page" title="Page 1"><div class="layoutArea"><div cla
 ss="column"><p>...weil die Zeit mit den Kindern zu kostbar ist, um sie im A
 lltag zu verbringen!</p><div class="page" title="Page 1"><div class="layout
 Area"><div class="column"><p>Kosten: 90 Euro, 7 Vormittage<br />Kursleitung
 : Bitti Jurda</p></div></div></div></div></div></div></div></div></div>
CONTACT:office@kinderatelier.at
X-EXTRAINFO:[preis='9000'][anmeldung='true']
DTSTAMP:20260424T145955
DTSTART:20190424T143000
DTEND:20190424T160000
SEQUENCE:0
RRULE:FREQ=WEEKLY;COUNT=7;INTERVAL=1;BYDAY=WE
TRANSP:OPAQUE
END:VEVENT
END:VCALENDAR