BEGIN:VCALENDAR
VERSION:2.0
PRODID:-//jEvents 2.0 for Joomla//EN
CALSCALE:GREGORIAN
METHOD:PUBLISH
BEGIN:VEVENT
UID:c6287a6bd770af7448cce67902f3d715
CATEGORIES:15. Bezirk
CREATED:20190409T234933
SUMMARY:Frühlings-Malkurs
LOCATION:Löhrgasse 10
DESCRIPTION:<div class="page" title="Page 2"><div class="section"><div class="layoutAre
 a"><div class="column"><p>MALEN UND WERKEN<br />FÜR ELTERN UND KINDER VON 1
  1?2 BIS 3 1?2 JAHREN</p></div></div></div></div><p>... Farbe spritzen, gie
 ßen, rinnen lassen, Blüten und Blätter in Salzteig drücken und Muscheln in 
 Ton,<br />... grasgrün, sonnengelb, wassergrün malen, Blumen schneiden, kle
 ben, stempeln,...</p><p>Bei Schönwetter arbeiten wir im Garten!</p><div cla
 ss="page" title="Page 2"><div class="section"><div class="layoutArea"><div 
 class="column"><p>5 Nachmittage: 24. April, 8. Mai, 22. Mai, 12. Juni und 1
 9. Juni 2019</p><p>Kosten: 95 Euro</p></div></div></div></div>
CONTACT:office@kinderatelier.at
X-EXTRAINFO:[preis='9500'][anmeldung='true']
DTSTAMP:20260425T120454
DTSTART:20190612T133000
DTEND:20190612T153000
SEQUENCE:0
TRANSP:OPAQUE
END:VEVENT
END:VCALENDAR