BEGIN:VCALENDAR
VERSION:2.0
PRODID:-//jEvents 2.0 for Joomla//EN
CALSCALE:GREGORIAN
METHOD:PUBLISH
BEGIN:VEVENT
UID:a2470f89e7cf1e7614c7d3ee0342a279
CATEGORIES:6. Bezirk
CREATED:20190410T203235
SUMMARY:Muttertagsbasteln
LOCATION:6.\, Sandwirtgasse 13/12
DESCRIPTION:<h1>Muttertagsbasteln</h1><p>Am 3. Mai basteln wir Muttertagsgeschenke im B
 iolino Institut. Du kannst von Station zu Station gehen und mit deinem Kind
  allerlei Herzliches für die Mama, die Oma, die Uroma oder die Tante bastel
 n. Wir unterstützen dich dabei und zeigen dir den ein oder anderen Kniff, w
 ie das Werkeln mit deinem Kleinkind ganz leicht geht.</p><p>Zur Stärkung gi
 bt es eine leckere biologische Jause und Tee.<br /><br />Bitte zieh dir und
  deinem Kind Kleidung an, die bunt werden darf - so macht es gleich noch me
 hr Spaß :) <br /><br />Biolino Muttertagsbasteln für Kindern von 1,5 - 4 Ja
 hre<br />Kosten: € 29.- inkl. Bastel- und Werkmaterial und biologischer Jau
 se</p><p>Geschwisterkind € 17,-<br /><br />Hier geht`s zur Anmeldung: <a hr
 ef="https://bit.ly/2TRwJvr?fbclid=IwAR3kauEVp_sFPCWqMb90m1fDJq2zQgFjyMMCyP8
 UgZB5HgbaWteRQipcMMY" target="_blank" rel="nofollow noopener noreferrer" da
 ta-lynx-mode="hover" data-lynx-uri="https://l.facebook.com/l.php?u=https%3A
 %2F%2Fbit.ly%2F2TRwJvr%3Ffbclid%3DIwAR3kauEVp_sFPCWqMb90m1fDJq2zQgFjyMMCyP8
 UgZB5HgbaWteRQipcMMY&amp;h=AT09ZshGxt6nmBuvQ4XV9-I-txel3Bl8AsHZsOo-UThcJKYU
 i6Yq06-FJHGo7soKLvnMyj4hjj-6C0bk5uK7-9-I4vXd4CrX1vVahxi5HQdSxOZT5yu4c85ar--
 A8MVgNQ">https://bit.ly/2TRwJvr</a></p><p> </p><p>Ich freue mich auf einen 
 bunten Nachmittag mit euch!</p><p>Alles Liebe,</p><p>Martina</p><p> </p><p>
 WEB: <a href="http://www.biolino.at">www.biolino.at</a></p><p>MAIL: <a href
 ="mailto:martina.novak@biolino.at">martina.novak@biolino.at</a></p><p>TEL: 
 0677 628 929 70</p>
CONTACT:martina.novak@biolino.at, 0677 628 929 70
X-EXTRAINFO:[preis='2900'][anmeldung='true']
DTSTAMP:20260424T200022
DTSTART:20190503T130000
DTEND:20190503T143000
SEQUENCE:0
TRANSP:OPAQUE
END:VEVENT
END:VCALENDAR