BEGIN:VCALENDAR
VERSION:2.0
PRODID:-//jEvents 2.0 for Joomla//EN
CALSCALE:GREGORIAN
METHOD:PUBLISH
BEGIN:VEVENT
UID:ceecc3c13ce9424e4da9877ea5b72c3d
CATEGORIES:3. Bezirk
CREATED:20190411T222915
SUMMARY:Das Grüne Krabbeln
LOCATION:LAER\, Löwengasse 42\, 1030 Wien
DESCRIPTION:Die Grünen im dritten Bezirk schaffen Raum für Gedankenaustausch und zum ge
 meinsamen Plaudern, Spielen und Lachen. Ideal für Kinder von 0-3 Jahren.\n
X-ALT-DESC;FMTTYPE=text/html:<p>Die Grünen im dritten Bezirk schaffen Raum für Gedankenaustausch und zum
  gemeinsamen Plaudern, Spielen und Lachen. Ideal für Kinder von 0-3 Jahren.
 </p>
CONTACT:sandra.edelmann@gruene.at
DTSTAMP:20260424T142343
DTSTART:20190424T120000
DTEND:20190424T150000
SEQUENCE:0
TRANSP:OPAQUE
END:VEVENT
END:VCALENDAR