BEGIN:VCALENDAR
VERSION:2.0
PRODID:-//jEvents 2.0 for Joomla//EN
CALSCALE:GREGORIAN
METHOD:PUBLISH
BEGIN:VEVENT
UID:8f2ab2b4433b245c2e4441d5c9a50304
CATEGORIES:4. Bezirk
CREATED:20190423T132335
SUMMARY:Shake it, BABY!
LOCATION:Studio YOGINIS\, Waaggasse 12 
DESCRIPTION:In dieser bewegten und fröhlichen Stunde für Mutter und Baby, kann Mama mal
  so richtig die An- und Herausforderungen des Mutterseins -\nund zugleich a
 uch ein paar extra Kilo - rausschütteln und shaken! \nGedehnt, gestreckt un
 d aufgewärmt wird mit klassischen YOGA ÜBUNGEN, danach geht´s aber richtig 
 rund mit Klängen und Rhythmen aus aller Welt!\nBaby shaked mit in der Trage
 !\nNach der Stunde gibt es Kuschelzeit mit Baby und bei einer Tasse Tee  is
 t auch noch Zeit für Erfahrungsaustausch unter den Müttern.\nBitte eine Bab
 ytrage/ Tragetuch mitbringen. Eventuell indoor Sportschuhe!\n
X-ALT-DESC;FMTTYPE=text/html:<p>In dieser bewegten und fröhlichen Stunde für Mutter und Baby, kann Mama 
 mal so richtig die An- und Herausforderungen des Mutterseins -</p><p>und zu
 gleich auch ein paar extra Kilo - rausschütteln und shaken! </p><p>Gedehnt,
  gestreckt und aufgewärmt wird mit klassischen YOGA ÜBUNGEN, danach geht´s 
 aber richtig rund mit Klängen und Rhythmen aus aller Welt!</p><p>Baby shake
 d mit in der Trage!</p><p>Nach der Stunde gibt es Kuschelzeit mit Baby und 
 bei einer Tasse Tee  ist auch noch Zeit für Erfahrungsaustausch unter den M
 üttern.</p><p>Bitte eine Babytrage/ Tragetuch mitbringen. Eventuell indoor 
 Sportschuhe!</p>
CONTACT:yoga@4yoginis.com
DTSTAMP:20260424T142344
DTSTART:20190430T080000
DTEND:20190430T090000
SEQUENCE:0
TRANSP:OPAQUE
END:VEVENT
END:VCALENDAR