BEGIN:VCALENDAR
VERSION:2.0
PRODID:-//jEvents 2.0 for Joomla//EN
CALSCALE:GREGORIAN
METHOD:PUBLISH
BEGIN:VEVENT
UID:96203c2ef861e30fed04fd237a62b7e4
CATEGORIES:4. Bezirk
CREATED:20190502T095610
SUMMARY:Spielgruppe für 12-20 Monate + Eltern Coaching
LOCATION:Schikanedergasse 1\, 1040
DESCRIPTION:Spielgruppe Eltern Kind Begleitung\n \nIhr Kind hat die Möglichkeit zu frei
 em Spiel, Entdecken, Bewegen und den ersten sozialen Kontakt zu haben. Alle
  Gefühle wie z.B. Lachen, Weinen, Wut usw., haben bei uns Platz.\nMultikult
 urelle Familien und Kinder mit besonderen Bedürfnissen sind willkommen. Wir
  legen viel Wert auf Gesundheit, Freispiel und Kreativität.\nDie Spielgrupp
 enleiterin ist im pädagogischen &amp; medizinischen Bereich ausgebildet (ht
 tps://www.elternkindbegleitung.at/leitbild/) und steht für Fragen gerne zur
  Verfügung. Bei uns finden Sie die kompetente Informationen zu Themen Entwi
 cklungspsychologie, Kinderarztbesuch, Ernährung, Erziehung, Säuglingspflege
 , Kinderbetreuungsmöglichkeiten und Freizeitaktivitäten. Referenzen vorhand
 en. (https://www.elternkindbegleitung.at/referenzen/)\n\n - Kleine Gruppe: 
 maximal 7 Kinder / 8 Kinder im Geschwisterkurs\n - 320m2 geräumiger Indoors
 pielplatz auf 2 Etage (https://www.elternkindbegleitung.at/ausstattung/)n\n
  - Saisonale Programme wie Ostern- / Halloween- / Weihnachten- Basteln, gem
 einsam ins Kinderbad und viel mehr\n - 10 Jahre lange Erfahrung mit Säuglin
 gen, Kleinkinder und Kindern mit besonderen Bedürfnissen\n - Ganzjährige Ku
 rsangebote, Geschwisterkurse  (https://www.elternkindbegleitung.at/termine/
 )\n - Wir sind immer für Sie da, wenn Sie fragen haben oder Ratschläge brau
 chen. Auch außer der Kurszeit können Sie uns gerne schreiben\n - Wir sprech
 en deutsch, englisch und chinesisch\n - Mai-Juni Kurs  6 Termine\n - 20.5. 
 / 27.5. / 3.6. / 10.6. / 17.6. / 24.6.\n - Eine Einheit beträgt 90 Minuten\
 n - Kursbeitrag: 120.-\n - Alter: 0-8 / 6-14 / 12-20 / 18-26 Monate / 0-3 J
 ahre\n - Wochentage: Montag, Dienstag, Mittwoch\n - Kurszeiten: 09.00-10.30
  / 10.30-12.00 / 12.00-13.30 \nWir freuen uns auf Ihren Besuch!\nhttps://ww
 w.elternkindbegleitung.at/ (https://www.elternkindbegleitung.at/)\nhttps://
 www.facebook.com/elternkindbegleitung.wien/ (https://www.facebook.com/elter
 nkindbegleitung.wien/)
X-ALT-DESC;FMTTYPE=text/html:<div><p style="text-align: center;"><strong>Spielgruppe Eltern Kind Begleit
 ung</strong></p><p style="text-align: center;"> </p><p>Ihr Kind hat die Mög
 lichkeit <span style="text-decoration: underline;"><strong>zu freiem Spiel,
  Entdecken, Bewegen</strong> und den ersten sozialen Kontakt zu haben</span
 >. Alle Gefühle wie z.B. Lachen, Weinen, Wut usw., haben bei uns Platz.</p>
 <p>Multikulturelle Familien und Kinder mit besonderen Bedürfnissen sind wil
 lkommen. Wir legen viel Wert auf <strong>Gesundheit, Freispiel und Kreativi
 tät.</strong></p><p>Die Spielgruppenleiterin ist <a href="https://www.elter
 nkindbegleitung.at/leitbild/" target="_blank" rel="nofollow noopener norefe
 rrer"><span style="text-decoration: underline;">im pädagogischen &amp; medi
 zinischen Bereich ausgebildet</span></a> und steht für Fragen gerne zur Ver
 fügung. Bei uns finden Sie die kompetente Informationen zu Themen <strong>E
 ntwicklungspsychologie, Kinderarztbesuch, Ernährung, Erziehung, Säuglingspf
 lege, Kinderbetreuungsmöglichkeiten und Freizeitaktivitäten.</strong> <a hr
 ef="https://www.elternkindbegleitung.at/referenzen/" target="_blank" rel="n
 ofollow noopener noreferrer">Referenzen vorhanden.</a></p><ul style="list-s
 tyle-type: circle;"><li><strong>Kleine Gruppe</strong>: maximal 7 Kinder / 
 8 Kinder im Geschwisterkurs</li><li><a href="https://www.elternkindbegleitu
 ng.at/ausstattung/" target="_blank" rel="nofollow noopener noreferrer">320m
 2 geräumiger Indoorspielplatz auf 2 Etage</a>n</li><li>Saisonale Programme 
 wie<strong> Ostern- / Halloween- / Weihnachten- Basteln, gemeinsam ins Kind
 erbad</strong> und viel mehr</li><li>10 Jahre lange Erfahrung mit Säuglinge
 n, Kleinkinder und Kindern mit besonderen Bedürfnissen</li><li><strong><a h
 ref="https://www.elternkindbegleitung.at/termine/" target="_blank" rel="nof
 ollow noopener noreferrer">Ganzjährige Kursangebote, Geschwisterkurse </a><
 /strong></li><li>Wir sind immer für Sie da, wenn Sie fragen haben oder Rats
 chläge brauchen. <span style="text-decoration: underline;">Auch außer der K
 urszeit können Sie uns gerne schreiben</span></li><li>Wir sprechen <strong>
 deutsch, englisch</strong> und <strong>chinesisch</strong></li></ul><ul sty
 le="list-style-type: square;"><li><strong>Mai-Juni Kurs </strong> 6 Termine
 </li><li>20.5. / 27.5. / 3.6. / 10.6. / 17.6. / 24.6.</li><li>Eine Einheit 
 beträgt 90 Minuten</li><li>Kursbeitrag: 120.-</li><li>Alter: 0-8 / 6-14 / 1
 2-20 / 18-26 Monate / 0-3 Jahre</li><li>Wochentage: Montag, Dienstag, Mittw
 och</li><li>Kurszeiten: 09.00-10.30 / 10.30-12.00 / 12.00-13.30</li></ul><p
 > </p><p>Wir freuen uns auf Ihren Besuch!</p><p><a href="https://www.eltern
 kindbegleitung.at/" target="_blank" rel="nofollow noopener noreferrer">http
 s://www.elternkindbegleitung.at/</a></p><a href="https://www.facebook.com/e
 lternkindbegleitung.wien/" target="_blank" rel="nofollow noopener noreferre
 r">https://www.facebook.com/elternkindbegleitung.wien/</a></div>
CONTACT:office@elternkindbegleitung.at
X-EXTRAINFO:[preis='000'][anmeldung='true']
DTSTAMP:20260424T150401
DTSTART:20190527T083000
DTEND:20190527T100000
SEQUENCE:0
TRANSP:OPAQUE
END:VEVENT
END:VCALENDAR