BEGIN:VCALENDAR
VERSION:2.0
PRODID:-//jEvents 2.0 for Joomla//EN
CALSCALE:GREGORIAN
METHOD:PUBLISH
BEGIN:VEVENT
UID:2985e3e15c0869a79aa1a4b0f506dcc1
CATEGORIES:4. Bezirk
CREATED:20190502T095959
SUMMARY:Spielgruppe für 12-20 Monate + Eltern Coaching
LOCATION:Schikanedergasse 1\, 1040
DESCRIPTION:Spielgruppe Eltern Kind Begleitung\n \nIhr Kind hat die Möglichkeit zu frei
 em Spiel, Entdecken, Bewegen und den ersten sozialen Kontakt zu haben. Alle
  Gefühle wie z.B. Lachen, Weinen, Wut usw., haben bei uns Platz.\nMultikult
 urelle Familien und Kinder mit besonderen Bedürfnissen sind willkommen. Wir
  legen viel Wert auf Gesundheit, Freispiel und Kreativität.\nDie Spielgrupp
 enleiterin ist im pädagogischen &amp; medizinischen Bereich ausgebildet (ht
 tps://www.elternkindbegleitung.at/leitbild/) und steht für Fragen gerne zur
  Verfügung. Bei uns finden Sie die kompetente Informationen zu Themen Entwi
 cklungspsychologie, Kinderarztbesuch, Ernährung, Erziehung, Säuglingspflege
 , Kinderbetreuungsmöglichkeiten und Freizeitaktivitäten. Referenzen vorhand
 en. (https://www.elternkindbegleitung.at/referenzen/)\n \n\n - Kleine Grupp
 e: maximal 7 Kinder / 8 Kinder im Geschwisterkurs\n - 320m2 geräumiger Indo
 orspielplatz auf 2 Etage (https://www.elternkindbegleitung.at/ausstattung/)
 n\n - Saisonale Programme wie Ostern- / Halloween- / Weihnachten- Basteln, 
 gemeinsam ins Kinderbad und viel mehr\n - 10 Jahre lange Erfahrung mit Säug
 lingen, Kleinkinder und Kindern mit besonderen Bedürfnissen\n - Ganzjährige
  Kursangebote, Geschwisterkurse  (https://www.elternkindbegleitung.at/termi
 ne/)\n - Wir sind immer für Sie da, wenn Sie fragen haben oder Ratschläge b
 rauchen. Auch außer der Kurszeit können Sie uns gerne schreiben\n - Wir spr
 echen deutsch, englisch und chinesisch\n - Mai-Juni Kurs  6 Termine\n - 20.
 5. / 27.5. / 3.6. / 10.6. / 17.6. / 24.6.\n - Eine Einheit beträgt 90 Minut
 en\n - Kursbeitrag: 120.-\n - Alter: 0-8 / 6-14 / 12-20 / 18-26 Monate / 0-
 3 Jahre\n - Wochentage: Montag, Dienstag, Mittwoch\n - Kurszeiten: 09.00-10
 .30 / 10.30-12.00 / 12.00-13.30 \nWir freuen uns auf Ihren Besuch!\nhttps:/
 /www.elternkindbegleitung.at/ (https://www.elternkindbegleitung.at/)\nhttps
 ://www.facebook.com/elternkindbegleitung.wien/ (https://www.facebook.com/el
 ternkindbegleitung.wien/)
X-ALT-DESC;FMTTYPE=text/html:<div><p style="text-align: center;"><strong>Spielgruppe Eltern Kind Begleit
 ung</strong></p><p style="text-align: center;"> </p><p>Ihr Kind hat die Mög
 lichkeit <span style="text-decoration: underline;"><strong>zu freiem Spiel,
  Entdecken, Bewegen</strong> und den ersten sozialen Kontakt zu haben</span
 >. Alle Gefühle wie z.B. Lachen, Weinen, Wut usw., haben bei uns Platz.</p>
 <p>Multikulturelle Familien und Kinder mit besonderen Bedürfnissen sind wil
 lkommen. Wir legen viel Wert auf <strong>Gesundheit, Freispiel und Kreativi
 tät.</strong></p><p>Die Spielgruppenleiterin ist <a href="https://www.elter
 nkindbegleitung.at/leitbild/" target="_blank" rel="nofollow noopener norefe
 rrer"><span style="text-decoration: underline;">im pädagogischen &amp; medi
 zinischen Bereich ausgebildet</span></a> und steht für Fragen gerne zur Ver
 fügung. Bei uns finden Sie die kompetente Informationen zu Themen <strong>E
 ntwicklungspsychologie, Kinderarztbesuch, Ernährung, Erziehung, Säuglingspf
 lege, Kinderbetreuungsmöglichkeiten und Freizeitaktivitäten.</strong> <a hr
 ef="https://www.elternkindbegleitung.at/referenzen/" target="_blank" rel="n
 ofollow noopener noreferrer">Referenzen vorhanden.</a></p><p> </p><ul style
 ="list-style-type: circle;"><li><strong>Kleine Gruppe</strong>: maximal 7 K
 inder / 8 Kinder im Geschwisterkurs</li><li><a href="https://www.elternkind
 begleitung.at/ausstattung/" target="_blank" rel="nofollow noopener noreferr
 er">320m2 geräumiger Indoorspielplatz auf 2 Etage</a>n</li><li>Saisonale Pr
 ogramme wie<strong> Ostern- / Halloween- / Weihnachten- Basteln, gemeinsam 
 ins Kinderbad</strong> und viel mehr</li><li>10 Jahre lange Erfahrung mit S
 äuglingen, Kleinkinder und Kindern mit besonderen Bedürfnissen</li><li><str
 ong><a href="https://www.elternkindbegleitung.at/termine/" target="_blank" 
 rel="nofollow noopener noreferrer">Ganzjährige Kursangebote, Geschwisterkur
 se </a></strong></li><li>Wir sind immer für Sie da, wenn Sie fragen haben o
 der Ratschläge brauchen. <span style="text-decoration: underline;">Auch auß
 er der Kurszeit können Sie uns gerne schreiben</span></li><li>Wir sprechen 
 <strong>deutsch, englisch</strong> und <strong>chinesisch</strong></li></ul
 ><ul style="list-style-type: square;"><li><strong>Mai-Juni Kurs </strong> 6
  Termine</li><li>20.5. / 27.5. / 3.6. / 10.6. / 17.6. / 24.6.</li><li>Eine 
 Einheit beträgt 90 Minuten</li><li>Kursbeitrag: 120.-</li><li>Alter: 0-8 / 
 6-14 / 12-20 / 18-26 Monate / 0-3 Jahre</li><li>Wochentage: Montag, Diensta
 g, Mittwoch</li><li>Kurszeiten: 09.00-10.30 / 10.30-12.00 / 12.00-13.30</li
 ></ul><p> </p><p>Wir freuen uns auf Ihren Besuch!</p><p><a href="https://ww
 w.elternkindbegleitung.at/" target="_blank" rel="nofollow noopener noreferr
 er">https://www.elternkindbegleitung.at/</a></p><a href="https://www.facebo
 ok.com/elternkindbegleitung.wien/" target="_blank" rel="nofollow noopener n
 oreferrer">https://www.facebook.com/elternkindbegleitung.wien/</a></div>
CONTACT:office@elternkindbegleitung.at
X-EXTRAINFO:[preis='000'][anmeldung='true']
DTSTAMP:20260424T145508
DTSTART:20190610T083000
DTEND:20190610T100000
SEQUENCE:0
TRANSP:OPAQUE
END:VEVENT
END:VCALENDAR