BEGIN:VCALENDAR
VERSION:2.0
PRODID:-//jEvents 2.0 for Joomla//EN
CALSCALE:GREGORIAN
METHOD:PUBLISH
BEGIN:VEVENT
UID:606dcd977d24becc375a0aa5a1b3a5ea
CATEGORIES:4. Bezirk
CREATED:20190502T122052
SUMMARY:Spielgruppe für 0-3 Jahre, Geschwisterkurs + Eltern Coaching
LOCATION:Schikanedergasse 1\, 1040 Wien
DESCRIPTION:Spielgruppe Eltern Kind Begleitung\n \nIhr Kind hat die Möglichkeit zu frei
 em Spiel, Entdecken, Bewegen und den ersten sozialen Kontakt zu haben. Alle
  Gefühle wie z.B. Lachen, Weinen, Wut usw., haben bei uns Platz.\nMultikult
 urelle Familien und Kinder mit besonderen Bedürfnissen sind willkommen. Wir
  legen viel Wert auf Gesundheit, Freispiel und Kreativität.\nDie Spielgrupp
 enleiterin ist im pädagogischen &amp; medizinischen Bereich ausgebildet (ht
 tps://www.elternkindbegleitung.at/leitbild/) und steht für Fragen gerne zur
  Verfügung. Bei uns finden Sie die kompetente Informationen zu Themen Entwi
 cklungspsychologie, Kinderarztbesuch, Ernährung, Erziehung, Säuglingspflege
 , Kinderbetreuungsmöglichkeiten und Freizeitaktivitäten. Referenzen vorhand
 en. (https://www.elternkindbegleitung.at/referenzen/)\n \n\n - Kleine Grupp
 e: maximal 7 Kinder / 8 Kinder im Geschwisterkurs\n - 320m2 geräumiger Indo
 orspielplatz auf 2 Etage (https://www.elternkindbegleitung.at/ausstattung/)
 n\n - Saisonale Programme wie Ostern- / Halloween- / Weihnachten- Basteln, 
 gemeinsam ins Kinderbad und viel mehr\n - 10 Jahre lange Erfahrung mit Säug
 lingen, Kleinkinder und Kindern mit besonderen Bedürfnissen\n - Ganzjährige
  Kursangebote, Geschwisterkurse  (https://www.elternkindbegleitung.at/termi
 ne/)Wir sind immer für Sie da, wenn Sie fragen haben oder Ratschläge brauch
 en. Auch außer der Kurszeit können Sie uns gerne schreibenWir sprechen deut
 sch, englisch und chinesisch  \n - Mai-Juni Kurs  6 Termine\n - 21.5. / 28.
 5. / 4.6. / 11.6. / 18.6. / 25.6.\n - Eine Einheit beträgt 90 Minuten\n - K
 ursbeitrag: 120.- pro Kind + 1 Begleitungsperson, 200.- pro Geschwisterpaar
  + 1-2 Begleitungsperonen\n - Alter: 0-8 / 6-14 / 12-20 / 18-26 Monate / 0-
 3 Jahre\n - Wochentage: Montag, Dienstag, Mittwoch\n - Kurszeiten: 09.00-10
 .30 / 10.30-12.00 / 12.00-13.30 \nWir freuen uns auf Ihren Besuch!\nhttps:/
 /www.elternkindbegleitung.at/ (https://www.elternkindbegleitung.at/)\nhttps
 ://www.facebook.com/elternkindbegleitung.wien/ (https://www.facebook.com/el
 ternkindbegleitung.wien/)\n
X-ALT-DESC;FMTTYPE=text/html:<p style="text-align: center;"><strong>Spielgruppe Eltern Kind Begleitung</
 strong></p><p style="text-align: center;"> </p><p>Ihr Kind hat die Möglichk
 eit <span style="text-decoration: underline;"><strong>zu freiem Spiel, Entd
 ecken, Bewegen</strong> und den ersten sozialen Kontakt zu haben</span>. Al
 le Gefühle wie z.B. Lachen, Weinen, Wut usw., haben bei uns Platz.</p><p>Mu
 ltikulturelle Familien und Kinder mit besonderen Bedürfnissen sind willkomm
 en. Wir legen viel Wert auf <strong>Gesundheit, Freispiel und Kreativität.<
 /strong></p><p>Die Spielgruppenleiterin ist <a href="https://www.elternkind
 begleitung.at/leitbild/"><span style="text-decoration: underline;">im pädag
 ogischen &amp; medizinischen Bereich ausgebildet</span></a> und steht für F
 ragen gerne zur Verfügung. Bei uns finden Sie die kompetente Informationen 
 zu Themen <strong>Entwicklungspsychologie, Kinderarztbesuch, Ernährung, Erz
 iehung, Säuglingspflege, Kinderbetreuungsmöglichkeiten und Freizeitaktivitä
 ten.</strong> <a href="https://www.elternkindbegleitung.at/referenzen/">Ref
 erenzen vorhanden.</a></p><p> </p><ul style="list-style-type: circle;"><li>
 <strong>Kleine Gruppe</strong>: maximal 7 Kinder / 8 Kinder im Geschwisterk
 urs</li><li><a href="https://www.elternkindbegleitung.at/ausstattung/">320m
 2 geräumiger Indoorspielplatz auf 2 Etage</a>n</li><li>Saisonale Programme 
 wie<strong> Ostern- / Halloween- / Weihnachten- Basteln, gemeinsam ins Kind
 erbad</strong> und viel mehr</li><li>10 Jahre lange Erfahrung mit Säuglinge
 n, Kleinkinder und Kindern mit besonderen Bedürfnissen</li><li><strong><a h
 ref="https://www.elternkindbegleitung.at/termine/">Ganzjährige Kursangebote
 , Geschwisterkurse </a></strong></li><li style="text-align: left;">Wir sind
  immer für Sie da, wenn Sie fragen haben oder Ratschläge brauchen. <span st
 yle="text-decoration: underline;">Auch außer der Kurszeit können Sie uns ge
 rne schreiben</span></li><li style="text-align: left;">Wir sprechen <strong
 >deutsch, englisch</strong> und <strong>chinesisch</strong><strong>  </stro
 ng></li></ul><ul style="list-style-type: square;"><li><strong>Mai-Juni Kurs
  </strong> 6 Termine</li><li>21.5. / 28.5. / 4.6. / 11.6. / 18.6. / 25.6.</
 li><li>Eine Einheit beträgt 90 Minuten</li><li>Kursbeitrag: <strong>120.- <
 /strong>pro Kind + 1 Begleitungsperson, <strong>200.- </strong>pro Geschwis
 terpaar + 1-2 Begleitungsperonen</li><li>Alter: 0-8 / 6-14 / 12-20 / 18-26 
 Monate / 0-3 Jahre</li><li>Wochentage: Montag, Dienstag, Mittwoch</li><li>K
 urszeiten: 09.00-10.30 / 10.30-12.00 / 12.00-13.30</li></ul><p> </p><p>Wir 
 freuen uns auf Ihren Besuch!</p><p><a href="https://www.elternkindbegleitun
 g.at/">https://www.elternkindbegleitung.at/</a></p><p><a href="https://www.
 facebook.com/elternkindbegleitung.wien/">https://www.facebook.com/elternkin
 dbegleitung.wien/</a></p>
CONTACT:office@elternkindbegleitung.at
X-EXTRAINFO:[preis='12000'][anmeldung='true']
DTSTAMP:20260424T160607
DTSTART:20190604T083000
DTEND:20190604T100000
SEQUENCE:0
TRANSP:OPAQUE
END:VEVENT
END:VCALENDAR