BEGIN:VCALENDAR
VERSION:2.0
PRODID:-//jEvents 2.0 for Joomla//EN
CALSCALE:GREGORIAN
METHOD:PUBLISH
BEGIN:VEVENT
UID:6c888ff4224bcaf84ce910f1ebfa9106
CATEGORIES:4. Bezirk
CREATED:20190502T124016
SUMMARY:Spielgruppe für 18-26 Monate + Eltern Coaching
LOCATION:Schikanedergasse 1\, 1040 Wien
DESCRIPTION:<p style="text-align: center;"><strong>Spielgruppe Eltern Kind Begleitung</
 strong></p><p style="text-align: center;"> </p><p>Ihr Kind hat die Möglichk
 eit <span style="text-decoration: underline;"><strong>zu freiem Spiel, Entd
 ecken, Bewegen</strong> und den ersten sozialen Kontakt zu haben</span>. Al
 le Gefühle wie z.B. Lachen, Weinen, Wut usw., haben bei uns Platz.</p><p>Mu
 ltikulturelle Familien und Kinder mit besonderen Bedürfnissen sind willkomm
 en. Wir legen viel Wert auf <strong>Gesundheit, Freispiel und Kreativität.<
 /strong></p><p>Die Spielgruppenleiterin ist <a href="https://www.elternkind
 begleitung.at/leitbild/"><span style="text-decoration: underline;">im pädag
 ogischen &amp; medizinischen Bereich ausgebildet</span></a> und steht für F
 ragen gerne zur Verfügung. Bei uns finden Sie die kompetente Informationen 
 zu Themen <strong>Entwicklungspsychologie, Kinderarztbesuch, Ernährung, Erz
 iehung, Säuglingspflege, Kinderbetreuungsmöglichkeiten und Freizeitaktivitä
 ten.</strong> <a href="https://www.elternkindbegleitung.at/referenzen/">Ref
 erenzen vorhanden.</a></p><p> </p><ul style="list-style-type: circle;"><li>
 <strong>Kleine Gruppe</strong>: maximal 7 Kinder / 8 Kinder im Geschwisterk
 urs</li><li><a href="https://www.elternkindbegleitung.at/ausstattung/">320m
 2 geräumiger Indoorspielplatz auf 2 Etage</a>n</li><li>Saisonale Programme 
 wie<strong> Ostern- / Halloween- / Weihnachten- Basteln, gemeinsam ins Kind
 erbad</strong> und viel mehr</li><li>10 Jahre lange Erfahrung mit Säuglinge
 n, Kleinkinder und Kindern mit besonderen Bedürfnissen</li><li><strong><a h
 ref="https://www.elternkindbegleitung.at/termine/">Ganzjährige Kursangebote
 , Geschwisterkurse </a></strong></li><li style="text-align: left;">Wir sind
  immer für Sie da, wenn Sie fragen haben oder Ratschläge brauchen. <span st
 yle="text-decoration: underline;">Auch außer der Kurszeit können Sie uns ge
 rne schreiben</span></li><li style="text-align: left;">Wir sprechen <strong
 >deutsch, englisch</strong> und <strong>chinesisch</strong><strong>  </stro
 ng></li></ul><ul style="list-style-type: square;"><li><strong>Mai-Juni Kurs
  </strong> 6 Termine</li><li>22.5. / 29.5. / 5.6. / 12.6. / 19.6. / 26.6.</
 li><li>Eine Einheit beträgt 90 Minuten</li><li>Kursbeitrag: <strong>120.- <
 /strong></li><li>Alter: 0-8 / 6-14 / 12-20 / 18-26 Monate / 0-3 Jahre</li><
 li>Wochentage: Montag, Dienstag, Mittwoch</li><li>Kurszeiten: 09.00-10.30 /
  10.30-12.00 / 12.00-13.30</li></ul><p> </p><p>Wir freuen uns auf Ihren Bes
 uch!</p><p><a href="https://www.elternkindbegleitung.at/">https://www.elter
 nkindbegleitung.at/</a></p><p><a href="https://www.facebook.com/elternkindb
 egleitung.wien/">https://www.facebook.com/elternkindbegleitung.wien/</a></p
 >
CONTACT:office@elternkindbegleitung.at
X-EXTRAINFO:[preis='12000'][anmeldung='true']
DTSTAMP:20260424T145956
DTSTART:20190612T070000
DTEND:20190612T083000
SEQUENCE:0
TRANSP:OPAQUE
END:VEVENT
END:VCALENDAR