BEGIN:VCALENDAR
VERSION:2.0
PRODID:-//jEvents 2.0 for Joomla//EN
CALSCALE:GREGORIAN
METHOD:PUBLISH
BEGIN:VEVENT
UID:2ce01fd1801f763e9b95f96b8c115355
CATEGORIES:4. Bezirk
CREATED:20190502T130920
SUMMARY:Spielgruppe für 0-4 Jahre + Eltern Coaching
LOCATION:Schikanedergasse 1\, 1040 Wien
DESCRIPTION:Spielgruppe Eltern Kind Begleitung\n \nIhr Kind hat die Möglichkeit zu frei
 em Spiel, Entdecken, Bewegen und den ersten sozialen Kontakt zu haben. Alle
  Gefühle wie z.B. Lachen, Weinen, Wut usw., haben bei uns Platz.\nMultikult
 urelle Familien und Kinder mit besonderen Bedürfnissen sind willkommen. Wir
  legen viel Wert auf Gesundheit, Freispiel und Kreativität.\nDie Spielgrupp
 enleiterin ist im pädagogischen &amp; medizinischen Bereich ausgebildet (ht
 tps://www.elternkindbegleitung.at/leitbild/) und steht für Fragen gerne zur
  Verfügung. Bei uns finden Sie die kompetente Informationen zu Themen Entwi
 cklungspsychologie, Kinderarztbesuch, Ernährung, Erziehung, Säuglingspflege
 , Kinderbetreuungsmöglichkeiten und Freizeitaktivitäten. Referenzen vorhand
 en. (https://www.elternkindbegleitung.at/referenzen/)\n \n\n - Kleine Grupp
 e: maximal 7 Kinder / 8 Kinder im Geschwisterkurs\n - 320m2 geräumiger Indo
 orspielplatz auf 2 Etage (https://www.elternkindbegleitung.at/ausstattung/)
 n\n - Saisonale Programme wie Ostern- / Halloween- / Weihnachten- Basteln, 
 gemeinsam ins Kinderbad und viel mehr\n - 10 Jahre lange Erfahrung mit Säug
 lingen, Kleinkinder und Kindern mit besonderen Bedürfnissen\n - Ganzjährige
  Kursangebote, Geschwisterkurse  (https://www.elternkindbegleitung.at/termi
 ne/)Wir sind immer für Sie da, wenn Sie fragen haben oder Ratschläge brauch
 en. Auch außer der Kurszeit können Sie uns gerne schreibenWir sprechen deut
 sch, englisch und chinesisch  \n - Juli / August Kurs  je 4 Termine\n - 2.7
 . / 9.7. / 16.7. / 23.7. \n - 6.8 / 13.8. / 20.8. / 27.8.\n - Eine Einheit 
 beträgt 2 Stunden\n - Kursbeitrag: 100.- pro Kind + 1 Begleitungsperson, 17
 0.- pro Geschwisterpaar + 1-2 Begleitungsperonen (4 Termine) \n - Alter: 0-
 4 Jahre\n - Kurszeiten: 09.30-11.30 \nWir freuen uns auf Ihren Besuch!\nhtt
 ps://www.elternkindbegleitung.at/ (https://www.elternkindbegleitung.at/)\nh
 ttps://www.facebook.com/elternkindbegleitung.wien/ (https://www.facebook.co
 m/elternkindbegleitung.wien/)\n
X-ALT-DESC;FMTTYPE=text/html:<p style="text-align: center;"><strong>Spielgruppe Eltern Kind Begleitung</
 strong></p><p style="text-align: center;"> </p><p>Ihr Kind hat die Möglichk
 eit <span style="text-decoration: underline;"><strong>zu freiem Spiel, Entd
 ecken, Bewegen</strong> und den ersten sozialen Kontakt zu haben</span>. Al
 le Gefühle wie z.B. Lachen, Weinen, Wut usw., haben bei uns Platz.</p><p>Mu
 ltikulturelle Familien und Kinder mit besonderen Bedürfnissen sind willkomm
 en. Wir legen viel Wert auf <strong>Gesundheit, Freispiel und Kreativität.<
 /strong></p><p>Die Spielgruppenleiterin ist <a href="https://www.elternkind
 begleitung.at/leitbild/"><span style="text-decoration: underline;">im pädag
 ogischen &amp; medizinischen Bereich ausgebildet</span></a> und steht für F
 ragen gerne zur Verfügung. Bei uns finden Sie die kompetente Informationen 
 zu Themen <strong>Entwicklungspsychologie, Kinderarztbesuch, Ernährung, Erz
 iehung, Säuglingspflege, Kinderbetreuungsmöglichkeiten und Freizeitaktivitä
 ten.</strong> <a href="https://www.elternkindbegleitung.at/referenzen/">Ref
 erenzen vorhanden.</a></p><p> </p><ul style="list-style-type: circle;"><li>
 <strong>Kleine Gruppe</strong>: maximal 7 Kinder / 8 Kinder im Geschwisterk
 urs</li><li><a href="https://www.elternkindbegleitung.at/ausstattung/">320m
 2 geräumiger Indoorspielplatz auf 2 Etage</a>n</li><li>Saisonale Programme 
 wie<strong> Ostern- / Halloween- / Weihnachten- Basteln, gemeinsam ins Kind
 erbad</strong> und viel mehr</li><li>10 Jahre lange Erfahrung mit Säuglinge
 n, Kleinkinder und Kindern mit besonderen Bedürfnissen</li><li><strong><a h
 ref="https://www.elternkindbegleitung.at/termine/">Ganzjährige Kursangebote
 , Geschwisterkurse </a></strong></li><li style="text-align: left;">Wir sind
  immer für Sie da, wenn Sie fragen haben oder Ratschläge brauchen. <span st
 yle="text-decoration: underline;">Auch außer der Kurszeit können Sie uns ge
 rne schreiben</span></li><li style="text-align: left;">Wir sprechen <strong
 >deutsch, englisch</strong> und <strong>chinesisch</strong><strong>  </stro
 ng></li></ul><ul style="list-style-type: square;"><li><strong>Juli / August
  Kurs </strong> je 4 Termine</li><li>2.7. / 9.7. / 16.7. / 23.7. </li><li>6
 .8 / 13.8. / 20.8. / 27.8.</li><li>Eine Einheit beträgt 2 Stunden</li><li>K
 ursbeitrag: <strong>100.- </strong>pro Kind + 1 Begleitungsperson, <strong>
 170.- </strong>pro Geschwisterpaar + 1-2 Begleitungsperonen (4 Termine)<str
 ong> </strong></li><li>Alter: 0-4 Jahre</li><li>Kurszeiten: 09.30-11.30</li
 ></ul><p> </p><p>Wir freuen uns auf Ihren Besuch!</p><p><a href="https://ww
 w.elternkindbegleitung.at/">https://www.elternkindbegleitung.at/</a></p><p>
 <a href="https://www.facebook.com/elternkindbegleitung.wien/">https://www.f
 acebook.com/elternkindbegleitung.wien/</a></p>
CONTACT:office@elternkindbegleitung.at
X-EXTRAINFO:[preis='12000'][anmeldung='true']
DTSTAMP:20260424T160606
DTSTART:20190827T073000
DTEND:20190827T093000
SEQUENCE:0
TRANSP:OPAQUE
END:VEVENT
END:VCALENDAR