BEGIN:VCALENDAR
VERSION:2.0
PRODID:-//jEvents 2.0 for Joomla//EN
CALSCALE:GREGORIAN
METHOD:PUBLISH
BEGIN:VEVENT
UID:480545ebe722448e2cde98fb90a22e47
CATEGORIES:4. Bezirk
CREATED:20190502T131353
SUMMARY:Spielgruppe für 0-4 Jahre + Eltern Coaching
LOCATION:Schikanedergasse 1\, 1040 Wien
DESCRIPTION:<p style="text-align: center;"><strong>Spielgruppe Eltern Kind Begleitung</
 strong></p><p style="text-align: center;"> </p><p>Ihr Kind hat die Möglichk
 eit <span style="text-decoration: underline;"><strong>zu freiem Spiel, Entd
 ecken, Bewegen</strong> und den ersten sozialen Kontakt zu haben</span>. Al
 le Gefühle wie z.B. Lachen, Weinen, Wut usw., haben bei uns Platz.</p><p>Mu
 ltikulturelle Familien und Kinder mit besonderen Bedürfnissen sind willkomm
 en. Wir legen viel Wert auf <strong>Gesundheit, Freispiel und Kreativität.<
 /strong></p><p>Die Spielgruppenleiterin ist <a href="https://www.elternkind
 begleitung.at/leitbild/"><span style="text-decoration: underline;">im pädag
 ogischen &amp; medizinischen Bereich ausgebildet</span></a> und steht für F
 ragen gerne zur Verfügung. Bei uns finden Sie die kompetente Informationen 
 zu Themen <strong>Entwicklungspsychologie, Kinderarztbesuch, Ernährung, Erz
 iehung, Säuglingspflege, Kinderbetreuungsmöglichkeiten und Freizeitaktivitä
 ten.</strong> <a href="https://www.elternkindbegleitung.at/referenzen/">Ref
 erenzen vorhanden.</a></p><p> </p><ul style="list-style-type: circle;"><li>
 <strong>Kleine Gruppe</strong>: maximal 7 Kinder / 8 Kinder im Geschwisterk
 urs</li><li><a href="https://www.elternkindbegleitung.at/ausstattung/">320m
 2 geräumiger Indoorspielplatz auf 2 Etage</a>n</li><li>Saisonale Programme 
 wie<strong> Ostern- / Halloween- / Weihnachten- Basteln, gemeinsam ins Kind
 erbad</strong> und viel mehr</li><li>10 Jahre lange Erfahrung mit Säuglinge
 n, Kleinkinder und Kindern mit besonderen Bedürfnissen</li><li><strong><a h
 ref="https://www.elternkindbegleitung.at/termine/">Ganzjährige Kursangebote
 , Geschwisterkurse </a></strong></li><li style="text-align: left;">Wir sind
  immer für Sie da, wenn Sie fragen haben oder Ratschläge brauchen. <span st
 yle="text-decoration: underline;">Auch außer der Kurszeit können Sie uns ge
 rne schreiben</span></li><li style="text-align: left;">Wir sprechen <strong
 >deutsch, englisch</strong> und <strong>chinesisch</strong><strong>  </stro
 ng></li></ul><ul style="list-style-type: square;"><li><strong>Juli / August
  Kurs </strong> je 4 Termine</li><li>3.7. / 10.7. / 17.7. / 24.7. </li><li>
 7.8 / 14.8. / 21.8. / 28.8.</li><li>Eine Einheit beträgt 2 Stunden</li><li>
 Kursbeitrag: <strong>100.- </strong>pro Kind + 1 Begleitungsperson, <strong
 >170.- </strong>pro Geschwisterpaar + 1-2 Begleitungsperonen (4 Termine)<st
 rong> </strong></li><li>Alter: 0-4 Jahre</li><li>Kurszeiten: 09.30-11.30</l
 i></ul><p> </p><p>Wir freuen uns auf Ihren Besuch!</p><p><a href="https://w
 ww.elternkindbegleitung.at/">https://www.elternkindbegleitung.at/</a></p><p
 ><a href="https://www.facebook.com/elternkindbegleitung.wien/">https://www.
 facebook.com/elternkindbegleitung.wien/</a></p>
CONTACT:office@elternkindbegleitung.at
X-EXTRAINFO:[preis='12000'][anmeldung='true']
DTSTAMP:20260424T163543
DTSTART:20190828T073000
DTEND:20190828T093000
SEQUENCE:0
TRANSP:OPAQUE
END:VEVENT
END:VCALENDAR