BEGIN:VCALENDAR
VERSION:2.0
PRODID:-//jEvents 2.0 for Joomla//EN
CALSCALE:GREGORIAN
METHOD:PUBLISH
BEGIN:VEVENT
UID:7f1037ae1573a6adac631ffd84657635
CATEGORIES:10. Bezirk
CREATED:19700101T010000
SUMMARY:BabyShiatsu - Willkommen im Leben!
LOCATION:Dieselgasse 1\, 1100 Wien
DESCRIPTION:Das traditionelle Generationenwissen von Müttern und Großmüttern aus Japan 
 und China für Euch!\n\naceki - BabyShiatsu® ist eine fundierte Druckmassage
 -Technik, die über viele Jahre von Karin Kalbanter-Wernicke in Asien beobac
 htet und für das westliche Verständnis adaptiert wurde.\n\nIch zeige dir, w
 ie BabyShiatsu für euch zuhause funktionert und wie es Dir und Deinem Baby 
 hilft, \n\n- die Eltern-Kind-Beziehung zu fördern, \n- Bauchschmerzen und T
 rinkschwierigkeiten zu lindern\n- das Einschlafen zu unterstützen \n- und d
 as Immunsystem zu stärken. \n\nShiatsu trägt zur allgemeinen Ausgeglichenhe
 it deines Babys bei - Es findet seine Mitte und geht damit seinen ersten Sc
 hritt in Richtung eines harmonischen Lebens.\n\nDabei wird der Körper deine
 s Babys mit sanftem, deutlichem Druck entlang der zukünftigen Meridiane mas
 siert und das Qi in die richtigen Bahnen des Körper gelenkt. Der Körper erk
 ennt die Impulse - und zwar dann, wenn er dazu bereit ist.\n \nFür Babys ab
  etwa 6 Wochen, bis zum Krabbeln.\n \nDer Kurs findet über 4 Wochen jeweils
  von 10 Uhr - etwa 11 Uhr, statt. Danach bleibt uns noch Zeit für Austausch
 .\n16. &amp; 23. Mai / 6. &amp; 14. Juni\n(Achtung - alle Termine sind an e
 inem Donnerstag, nur der letzte Termin findet an einem Freitag statt!)\n \n
 Weitere Infos auf www.ausliebezudir.at (http://www.ausliebezudir.at)\n(Acht
 ung, Mindestteilnehmerzahl 3, max. 6 Personen.)\nAnmeldung möglich bis 15. 
 Mai 2018\n \nIch freue mich auf Euer Kommen!\nAlles Liebe, Marion\n
X-ALT-DESC;FMTTYPE=text/html:<p>Das traditionelle Generationenwissen von Müttern und Großmüttern aus Jap
 an und China für Euch!<br /><br />aceki - BabyShiatsu® ist eine fundierte D
 ruckmassage-Technik, die über viele Jahre von Karin Kalbanter-Wernicke in A
 sien beobachtet und für das westliche Verständnis adaptiert wurde.<br /><br
  />Ich zeige dir, wie BabyShiatsu für euch zuhause funktionert und wie es D
 ir und Deinem Baby hilft, <br /><br />- die Eltern-Kind-Beziehung zu förder
 n, <br />- Bauchschmerzen und Trinkschwierigkeiten zu lindern<br />- das Ei
 nschlafen zu unterstützen <br />- und das Immunsystem zu stärken. <br /><br
  />Shiatsu trägt zur allgemeinen Ausgeglichenheit deines Babys bei - Es fin
 det seine Mitte und geht damit seinen ersten Schritt in Richtung eines harm
 onischen Lebens.<br /><br />Dabei wird der Körper deines Babys mit sanftem,
  deutlichem Druck entlang der zukünftigen Meridiane massiert und das Qi in 
 die richtigen Bahnen des Körper gelenkt. Der Körper erkennt die Impulse - u
 nd zwar dann, wenn er dazu bereit ist.</p><p> </p><p>Für Babys ab etwa 6 Wo
 chen, bis zum Krabbeln.</p><p> </p><p>Der Kurs findet über 4 Wochen jeweils
  von 10 Uhr - etwa 11 Uhr, statt. Danach bleibt uns noch Zeit für Austausch
 .</p><p>16. &amp; 23. Mai / 6. &amp; 14. Juni</p><p>(Achtung - alle Termine
  sind an einem Donnerstag, nur der letzte Termin findet an einem Freitag st
 att!)</p><p> </p><p>Weitere Infos auf <a href="http://www.ausliebezudir.at"
 >www.ausliebezudir.at</a></p><p>(Achtung, Mindestteilnehmerzahl 3, max. 6 P
 ersonen.)</p><p>Anmeldung möglich bis 15. Mai 2018</p><p> </p><p>Ich freue 
 mich auf Euer Kommen!</p><p>Alles Liebe, Marion</p>
CONTACT:Marion Fritz, auszeit@ausliebezudir.at, 0677 62081854
X-EXTRAINFO:[preis='9500'][anmeldung='true']
DTSTAMP:20260424T162613
DTSTART:20190516T080000
DTEND:20190516T090000
SEQUENCE:0
RRULE:FREQ=WEEKLY;COUNT=9999;INTERVAL=1;BYDAY=TH,TH,TH,TH,TH
EXDATE:20190530T080000,20190613T080000
TRANSP:OPAQUE
END:VEVENT
END:VCALENDAR