BEGIN:VCALENDAR
VERSION:2.0
PRODID:-//jEvents 2.0 for Joomla//EN
CALSCALE:GREGORIAN
METHOD:PUBLISH
BEGIN:VEVENT
UID:c6928e1a07aa76a850b308b24a5682fd
CATEGORIES:18. Bezirk
CREATED:19700101T010000
SUMMARY:Mama-Baby-Yoga mit Sophie
LOCATION:SPIELRINGEL Mollgasse 11-13
DESCRIPTION:Mama Baby Yoga ist ein sanftes Yoga um Deinen Körper und Geist nach der Geb
 urt zu stärken und zu regenerieren. Die Asanas (Körperübungen), Rückbildung
 selemente und Atemübungen während der Stunde unterstützen Dich und Dein Bab
 y in Deiner neuen Mutterschaft. \nDu darfst natürlich nach Bedarf stillen, 
 füttern, wickeln o.ä.\nFür Mamas mit Babys ab ca. 6 Wochen bis Krabbelalter
 !\nBitte komm 10 Minuten früher um ein entspanntes Ankommen zu ermöglichen 
 und bring eine Decke oder Tuch mit. \nSophie freut sich sehr auf Dich, auf 
 Dein Baby und auf die gemeinsame Zeit!\nFür weitere Infos gerne unter eder.
 sophie@gmail.com (mailto:eder.sophie@gmail.com) melden.\n \nKosten:\n 5 Woc
 hen-Kurs: € 75,-\nInfo &amp; Anmeldung:\noffice@spielringel.at (mailto:kont
 akt@schwangerschaft-elternschaft.at)\n
X-ALT-DESC;FMTTYPE=text/html:<div id="c421" class="frame frame-default frame-type-text frame-background-
  frame-no-backgroundimage frame-space-before-none frame-space-after-none"><
 div class="frame-container"><div class="frame-inner"><div><p>Mama Baby Yoga
  ist ein sanftes Yoga um Deinen Körper und Geist nach der Geburt zu stärken
  und zu regenerieren. Die Asanas (Körperübungen), Rückbildungselemente und 
 Atemübungen während der Stunde unterstützen Dich und Dein Baby in Deiner ne
 uen Mutterschaft. </p></div><div><p>Du darfst natürlich nach Bedarf stillen
 , füttern, wickeln o.ä.</p></div><div><p>Für Mamas mit Babys ab ca. 6 Woche
 n bis Krabbelalter!</p></div><div><p>Bitte komm 10 Minuten früher um ein en
 tspanntes Ankommen zu ermöglichen und bring eine Decke oder Tuch mit. </p><
 /div><div><p>Sophie freut sich sehr auf Dich, auf Dein Baby und auf die gem
 einsame Zeit!</p></div><div><p>Für weitere Infos gerne unter <a href="mailt
 o:eder.sophie@gmail.com">eder.sophie@gmail.com</a> melden.</p><p> </p><p><s
 pan class="text-primary">Kosten:</span><br /> 5 Wochen-Kurs: € 75,-</p><p><
 span class="text-primary">Info &amp; Anmeldung:</span><br /><a href="mailto
 :kontakt@schwangerschaft-elternschaft.at">office@spielringel.at</a></p></di
 v></div></div></div>
CONTACT:http://schwangerschaft-elternschaft.at/angebote/bewegung-entspannung/mama-baby-yoga/
X-EXTRAINFO:[preis='7500'][anmeldung='true']
DTSTAMP:20260424T162500
DTSTART:20190508T073000
DTEND:20190508T083000
SEQUENCE:0
RRULE:FREQ=WEEKLY;UNTIL=20190606T000000Z;INTERVAL=1;BYDAY=WE
TRANSP:OPAQUE
END:VEVENT
END:VCALENDAR