BEGIN:VCALENDAR
VERSION:2.0
PRODID:-//jEvents 2.0 for Joomla//EN
CALSCALE:GREGORIAN
METHOD:PUBLISH
BEGIN:VEVENT
UID:aed05cc2cf1164528b37f4d47e7b4ee7
CATEGORIES:18. Bezirk
CREATED:20190503T133602
SUMMARY:Babyplausch Spezial "Mutterrolle"
LOCATION:SPIELRINGEL Mollgasse 11-13
DESCRIPTION:BabyplauschAls Mama hat man oft das Bedürfnis sich mit anderen Mamas auszut
 auschen, das könnt ihr ganz ungezwungen Freitag vormittags im Spielringel b
 ei Tee und Kuchen. Für die Babys gibt es allerlei zu entdecken!\nKurstag:\n
  Freitag 10:30 - 12:30\nNächste Termine: \n10.5., 17.5., 24.5.,\n7.6., 14.6
 .,\nAn einigen Terminen, beim "Babyplausch Spezial" ist Psychotherapeutin (
 in Ausbildung unter Supervision) Maria Asenbaum (http://schwangerschaft-elt
 ernschaft.at/das-team/maria/) mit speziellen Themen zu Gast:\n10.5.2019 Spe
 ziell zum Muttertag diskutieren wir über die „Mutterrolle"\n14.6.2019 „Baby
 s Schlaf: wie wir Babys unterstützen können entspannt und `artgerecht` zu s
 chlafen“\n \nKosten:\n 10,- Euro pro Erwachsenem\nInfo &amp; Anmeldung:\n o
 hne Anmeldung - komm einfach vorbei!\n
X-ALT-DESC;FMTTYPE=text/html:<div class="col-md-pull-6 col-md-6 col-xs-12"><header><h2 class="element-he
 ader ">Babyplausch</h2></header><p>Als Mama hat man oft das Bedürfnis sich 
 mit anderen Mamas auszutauschen, das könnt ihr ganz ungezwungen Freitag vor
 mittags im Spielringel bei Tee und Kuchen. Für die Babys gibt es allerlei z
 u entdecken!</p><p><span class="text-primary">Kurstag:</span><br /> Freitag
  10:30 - 12:30</p><p><span class="text-primary">Nächste Termine: </span></p
 ><p>10.5., 17.5., 24.5.,</p><p>7.6., 14.6.,</p><p>An einigen Terminen, beim
  "Babyplausch Spezial" ist Psychotherapeutin (in Ausbildung unter Supervisi
 on) <a href="http://schwangerschaft-elternschaft.at/das-team/maria/">Maria 
 Asenbaum</a> mit speziellen Themen zu Gast:</p><p>10.5.2019 Speziell zum Mu
 ttertag diskutieren wir über die „Mutterrolle"</p><p>14.6.2019 „Babys Schla
 f: wie wir Babys unterstützen können entspannt und `artgerecht` zu schlafen
 “</p><p> </p><p><span class="text-primary">Kosten:</span><br /> 10,- Euro p
 ro Erwachsenem</p><p><span class="text-primary">Info &amp; Anmeldung:</span
 ><br /> ohne Anmeldung - komm einfach vorbei!</p></div>
CONTACT:http://schwangerschaft-elternschaft.at/angebote/spiel-spass-musik/babyplausch/ (http://schwangerschaft-elternschaft.at/angebote/spiel-spass-musik/babyplausch/)
X-EXTRAINFO:[preis='1000'][anmeldung='false']
DTSTAMP:20260425T035745
DTSTART:20190510T083000
DTEND:20190510T103000
SEQUENCE:0
TRANSP:OPAQUE
END:VEVENT
END:VCALENDAR