BEGIN:VCALENDAR
VERSION:2.0
PRODID:-//jEvents 2.0 for Joomla//EN
CALSCALE:GREGORIAN
METHOD:PUBLISH
BEGIN:VEVENT
UID:865349c75272a9e0814a978202e80243
CATEGORIES:18. Bezirk
CREATED:19700101T010000
SUMMARY:Spielgruppe mit Musik für Babys
LOCATION:SPIELRINGEL Mollgasse 11-13
DESCRIPTION:<div id="content" class="main-section"><div class="section section-default"
 ><div class="container"><div class="row"><header><h2 class="element-header 
 ">Spielgruppe</h2><h3 class="element-subheader ">mit Musik für Babys (6-14 
 Monate)</h3></header><p><span class="text-primary">Start:</span><br /> neue
 r 5 Wochen-Kurs ab 6.5.2019 mit Susanne</p><p><span class="text-primary">Ku
 rstag</span>:<br /> Montag 14:00-15:30</p><p><span class="text-primary">Ter
 mine:</span></p><p>6.5., 13.5., 20.5., 27.5.,3.6.</p><p><span class="text-p
 rimary">Kosten:</span></p><p>€ 90,- (5 Wochen-Kurs)</p><p><span class="text
 -primary">Info &amp; Anmeldung:</span><br /><a href="mailto:kontakt@schwang
 erschaft-elternschaft.at">office@spielringel.at</a></p><p> </p><div id="c23
 4" class="frame frame-default frame-type-text frame-background-none frame-n
 o-backgroundimage frame-space-before-none frame-space-after-none"><div clas
 s="frame-container"><div class="frame-inner"><p><strong><em>„</em>Musikalit
 ät ist vor allem die Fähigkeit von Musik berührt zu werden.<em>“</em></stro
 ng></p><p>Es wird dem Alter und der Entwicklung der Babys entsprechend, ges
 pielt, gesungen, getanzt und musiziert. Musik fördert die Entwicklung von B
 abys: Sie ist gut für die Bewegungskoordination, die Sprachentwicklung, den
  Gleichgewichtssinn und die Bindung zur Bezugsperson. Das beste daran ist, 
 dass es einfach Freude macht!</p></div></div></div></div></div></div></div>
 <footer><section class="section footer-section footer-section-content"><div
  class="container"><div class="section-row"><div class="section-column foot
 er-section-content-column-left"><div id="c202" class="frame frame-default f
 rame-type-list frame-background-none frame-no-backgroundimage frame-space-b
 efore-none frame-space-after-none"><div class="frame-container"><div class=
 "frame-inner"><header><h2 class="element-header ">Suche</h2></header><form 
 id="tx_indexedsearch" method="post"><div> </div><div class="tx-indexedsearc
 h-hidden-fields"> </div><fieldset><legend class="sr-only"> Suchformular </l
 egend><div class="form-group"><label class="control-label" for="tx-indexeds
 earch-searchbox-sword"> Suchen nach </label><div class="input-group"><input
  id="tx-indexedsearch-searchbox-sword" class="form-control" name="tx_indexe
 dsearch_pi2[search][sword]" type="text" value="" /></div></div></fieldset><
 /form></div></div></div></div></div></div></section></footer><div class="se
 ction-column footer-section-content-column-middle"> </div><div class="secti
 on-column footer-section-content-column-right"><div id="c186" class="frame 
 frame-default frame-type-text frame-background-none frame-no-backgroundimag
 e frame-space-before-none frame-space-after-none"><div class="frame-contain
 er"><div class="frame-inner"><header><h2 class="element-header ">Rechtliche
 s</h2></header></div></div></div></div>
CONTACT:http://schwangerschaft-elternschaft.at/angebote/spiel-spass-musik/spielgruppe-mit-musik-fuer-babys/
X-EXTRAINFO:[preis='9000'][anmeldung='true']
DTSTAMP:20260424T164840
DTSTART:20190506T120000
DTEND:20190506T133000
SEQUENCE:0
RRULE:FREQ=WEEKLY;UNTIL=20190604T000000Z;INTERVAL=1;BYDAY=MO
TRANSP:OPAQUE
END:VEVENT
END:VCALENDAR