BEGIN:VCALENDAR
VERSION:2.0
PRODID:-//jEvents 2.0 for Joomla//EN
CALSCALE:GREGORIAN
METHOD:PUBLISH
BEGIN:VEVENT
UID:ae5712ee0391697dba3ea83e4a3858ae
CATEGORIES:18. Bezirk
CREATED:20190503T133940
SUMMARY:Spielgruppe mit Musik für Kleinkinder
LOCATION:SPIELRINGEL Mollgasse 11-13
DESCRIPTION:Spielgruppemit Musik für Kleinkinder (12- 24 Monate)Start:\n neuer 5 Wochen
 -Kurs ab 6.5.2019 mit Susanne\nKurstag:\n Montag 16:00-17:30\nTermine:\n6.5
 ., 13.5., 20.5., 27.5., 3.6.\nKosten:\n€ 90,- (5 Wochen-Kurs)\nInfo &amp; A
 nmeldung:\noffice@spielringel.at (mailto:kontakt@schwangerschaft-elternscha
 ft.at)\n \nGemeinsam werden wir singen, musizieren und tanzen. Der Gruppenr
 aum wird zum Erlebnis- und Bewegungsraum. In gemütlicher, kindgerechter Umg
 ebung können neue Bekanntschaften geschlossen werden.\nJede Stunde regen ne
 ue Spielimpulse zum Mitmachen an und geben Anreiz zur leichten Umsetzung zu
  Hause.\nDein Kind hat die Möglichkeit sich frei in einer Gruppe Gleichaltr
 iger zu bewegen und dich trotzdem immer als sicheren Hafen zur Einkehr bei 
 sich zu haben.\nSuche 
X-ALT-DESC;FMTTYPE=text/html:<div id="content" class="main-section"><div class="section section-default"
 ><div class="container"><div class="row"><header><h2 class="element-header 
 ">Spielgruppe</h2><h3 class="element-subheader ">mit Musik für Kleinkinder 
 (12- 24 Monate)</h3></header><p><span class="text-primary">Start:</span><br
  /> neuer 5 Wochen-Kurs ab 6.5.2019 mit Susanne</p><p><span class="text-pri
 mary">Kurstag</span>:<br /> Montag 16:00-17:30</p><p><span class="text-prim
 ary">Termine:</span></p><p>6.5., 13.5., 20.5., 27.5., 3.6.</p><p><span clas
 s="text-primary">Kosten:</span></p><p>€ 90,- (5 Wochen-Kurs)</p><p><span cl
 ass="text-primary">Info &amp; Anmeldung:</span><br /><a href="mailto:kontak
 t@schwangerschaft-elternschaft.at">office@spielringel.at</a></p><p> </p><di
 v id="c235" class="frame frame-default frame-type-text frame-background-non
 e frame-no-backgroundimage frame-space-before-none frame-space-after-none">
 <div class="frame-container"><div class="frame-inner"><p>Gemeinsam werden w
 ir singen, musizieren und tanzen. Der Gruppenraum wird zum Erlebnis- und Be
 wegungsraum. In gemütlicher, kindgerechter Umgebung können neue Bekanntscha
 ften geschlossen werden.</p><p>Jede Stunde regen neue Spielimpulse zum Mitm
 achen an und geben Anreiz zur leichten Umsetzung zu Hause.</p><p>Dein Kind 
 hat die Möglichkeit sich frei in einer Gruppe Gleichaltriger zu bewegen und
  dich trotzdem immer als sicheren Hafen zur Einkehr bei sich zu haben.</p><
 /div></div></div></div></div></div></div><footer><section class="section fo
 oter-section footer-section-content"><div class="container"><div class="sec
 tion-row"><div class="section-column footer-section-content-column-left"><d
 iv id="c202" class="frame frame-default frame-type-list frame-background-no
 ne frame-no-backgroundimage frame-space-before-none frame-space-after-none"
 ><div class="frame-container"><div class="frame-inner"><header><h2 class="e
 lement-header ">Suche</h2></header><form id="tx_indexedsearch" method="post
 "><div> </div></form></div></div></div></div></div></div></section></footer
 >
CONTACT:http://schwangerschaft-elternschaft.at/angebote/spiel-spass-musik/spielgruppe-mit-musik-fuer-kleinkinder/
X-EXTRAINFO:[preis='9000'][anmeldung='true']
DTSTAMP:20260425T024414
DTSTART:20190506T140000
DTEND:20190506T153000
SEQUENCE:0
TRANSP:OPAQUE
END:VEVENT
END:VCALENDAR