BEGIN:VCALENDAR
VERSION:2.0
PRODID:-//jEvents 2.0 for Joomla//EN
CALSCALE:GREGORIAN
METHOD:PUBLISH
BEGIN:VEVENT
UID:a2eb2e2a3dad3e58312ab59435e12f26
CATEGORIES:18. Bezirk
CREATED:19700101T010000
SUMMARY:Babymassagekurs mit Nina
LOCATION:SPIELRINGEL Mollgasse 11-13
DESCRIPTION:„Berührt, gestreichelt und massiert zu werden ist Nahrung für das Kind. Nah
 rung, die genauso wichtig ist wie Mineralien, Vitamine und Proteine. Nahrun
 g, die Liebe ist.“ (F. Leboyer)\nFür: Säuglinge ab ca. 6 Wochen bis ca. 6 M
 onaten (Krabbelalter)!\nRegelmäßige Babymassage…\n\n - stillt das Urbedürfn
 is nach Wärme, Liebe, Berührung, der Geborgenheit und des Angenommenseins\n
  - der innige Körperkontakt fördert den Aufbau des Urvertrauens und stärkt 
 die Bindung zwischen Baby und Mama\n - fördert die Entwicklung des Nervensy
 stems\n - vertieft die Atmung, verbessert die Durchblutung, regt das Immuns
 ystem an und stärkt somit den ganzen Organismus\n - intensiviert die Sinnes
 wahrnehmung\n - lockert die Muskulatur, verbessert das Körperbewusstsein un
 d fördert die Beweglichkeit\n - verringert Koliken und Bauchschmerzen und h
 ilft bei Zahnungsbeschwerden\n - schafft Entspannung, Harmonie und Ausgegli
 chenheit\n - fördert die Kommunikation\n - erhöht die Oxytocinausschüttung 
 bei Baby und Mama \nMitzubringen: Leintuch oder großes Handtuch als Auflage
  für die Matte, großes Handtuch für das Baby, Stoffwindel, Wickelunterlage,
  bequeme und luftige Kleidung für die Mamas/Papas\n
X-ALT-DESC;FMTTYPE=text/html:<p><em>„<strong>Berührt, gestreichelt und massiert zu werden ist Nahrung fü
 r das Kind. Nahrung, die genauso wichtig ist wie Mineralien, Vitamine und P
 roteine. Nahrung, die Liebe ist.“ </strong></em><sub>(F. Leboyer)</sub></p>
 <p><strong>Für: </strong>Säuglinge ab ca. 6 Wochen bis ca. 6 Monaten (Krabb
 elalter)!</p><p>Regelmäßige Babymassage…</p><ul class="list-normal"><li>sti
 llt das Urbedürfnis nach Wärme, Liebe, Berührung, der Geborgenheit und des 
 Angenommenseins</li><li>der innige Körperkontakt fördert den Aufbau des Urv
 ertrauens und stärkt die Bindung zwischen Baby und Mama</li><li>fördert die
  Entwicklung des Nervensystems</li><li>vertieft die Atmung, verbessert die 
 Durchblutung, regt das Immunsystem an und stärkt somit den ganzen Organismu
 s</li><li>intensiviert die Sinneswahrnehmung</li><li>lockert die Muskulatur
 , verbessert das Körperbewusstsein und fördert die Beweglichkeit</li><li>ve
 rringert Koliken und Bauchschmerzen und hilft bei Zahnungsbeschwerden</li><
 li>schafft Entspannung, Harmonie und Ausgeglichenheit</li><li>fördert die K
 ommunikation</li><li>erhöht die Oxytocinausschüttung bei Baby und Mama</li>
 </ul><p> </p><p><strong>Mitzubringen:</strong> Leintuch oder großes Handtuc
 h als Auflage für die Matte, großes Handtuch für das Baby, Stoffwindel, Wic
 kelunterlage, bequeme und luftige Kleidung für die Mamas/Papas</p>
CONTACT:http://schwangerschaft-elternschaft.at/angebote/bewegung-entspannung/babymassage/
X-EXTRAINFO:[preis='8500'][anmeldung='true']
DTSTAMP:20260424T145409
DTSTART:20190507T083000
DTEND:20190507T092000
SEQUENCE:0
RRULE:FREQ=WEEKLY;UNTIL=20190529T000000Z;INTERVAL=1;BYDAY=TU
TRANSP:OPAQUE
END:VEVENT
END:VCALENDAR