BEGIN:VCALENDAR
VERSION:2.0
PRODID:-//jEvents 2.0 for Joomla//EN
CALSCALE:GREGORIAN
METHOD:PUBLISH
BEGIN:VEVENT
UID:53106b3c656ae05007c8127280f33ac8
CATEGORIES:18. Bezirk
CREATED:20190503T134543
SUMMARY:Heilkräuterbegegnungen für die Schwangerschaft 
LOCATION:SPIELRINGEL Mollgasse 11-13
DESCRIPTION:In diesen Workshops begegnen wir einer Reihe an Heilkräutern für die Schwan
 gerschaft, die leicht zu finden und einfach zuhause anwendbar sind. Nach 8 
 Wochen wird eine vertraute Basis von Kräuterwissen für schwangere Frauen au
 fgebaut.\nPro Abend stellen wir ein Heilkraut für dieSchwangerschaftaus Küc
 he, Garten oder Natur in unseren gemeinsamen Fokus.\nDas Herzstück stellt h
 ierbei eine geführte Blindverkostung eines Kräuteraufgusses dar. Dabei verw
 enden wir das Spektrum der Sinne um die Eigenschaften eines Heilkrauts zu e
 rleben. Dies ermöglicht es uns, zusätzlich zum Beurteilen von Farbe, Geruch
 , Geschmack und Textur, intuitiv die heilenden Wirkungen eines Heilkrauts a
 m eigenen Körper zu beobachten.\nDieser Prozess wird achtsam geleitet und l
 iefert Erklärungen über die Zusammenhänge von bestimmten\nCharakteristiken 
 mit möglichen Wirkungen. Der Abend wird mit einer Diskussion über tradition
 elle und moderne Anwendungen des Heilkrauts in der Schwangerschaft abgerund
 et und mit detaillierten Unterlagen unterstützt.\nEs sind keine Vorkenntnis
 se nötig!\nDie persönliche Sichtweise, die eine Kräuterbegegnung verschafft
  fördert einen selbstbewussten, sicheren und kreativen Umgang mit der Welt 
 der Heilkräuter…\n \n… es ist besser 20 Sachen über ein Heilkraut zu wissen
 , als 1 Sache über 20 Heilkräuter!\n \n\n - Start: 8.5.2019\n - Kurstag: Mi
 ttwoch 18:00-21:00 Uhr\n - Termine:Mai: 08.05., 15.05., 22.05., 29.05.\nJun
 i: 12.06., 19.06.\nJuli: 03.07., 10.07.\n\n - Kosten:Freie Spende (Schnuppe
 rn) am 8.Mai\n€30,- pro Abend in Mai bis Juli\n€175,- Blockpreis für alle 7
  Abende von Mai bis Juli\nIm Preis enthalten: Unterlagen mit Kräuterprofile
 n, Kräuterprobe, Bio-Jause &amp; Kräutertee\n\n - Info &amp; Anmeldung:\nAn
 meldungen telefonisch unter 0699 19298092 oder per E-Mail unter starflower@
 live.co.uk\n
X-ALT-DESC;FMTTYPE=text/html:<p>In diesen Workshops begegnen wir einer Reihe an Heilkräutern für die Sch
 wangerschaft, die leicht zu finden und einfach zuhause anwendbar sind. Nach
  8 Wochen wird eine vertraute Basis von Kräuterwissen für schwangere Frauen
  aufgebaut.</p><p>Pro Abend stellen wir <strong>ein Heilkraut für die</stro
 ng><strong>Schwangerschaft</strong><strong>aus Küche, Garten oder Natur </s
 trong>in unseren gemeinsamen Fokus.</p><p>Das Herzstück stellt hierbei eine
  geführte <strong>Blindverkostung eines Kräuteraufgusses </strong>dar. Dabe
 i verwenden wir das Spektrum der Sinne um die Eigenschaften eines Heilkraut
 s zu erleben. Dies ermöglicht es uns, zusätzlich zum Beurteilen von Farbe, 
 Geruch, Geschmack und Textur, intuitiv die heilenden Wirkungen eines Heilkr
 auts am eigenen Körper zu beobachten.</p><p>Dieser Prozess wird achtsam gel
 eitet und liefert Erklärungen über die Zusammenhänge von bestimmten</p><p>C
 harakteristiken mit möglichen Wirkungen. Der Abend wird mit einer Diskussio
 n über traditionelle und moderne Anwendungen des Heilkrauts in der Schwange
 rschaft abgerundet und mit detaillierten Unterlagen unterstützt.</p><p>Es s
 ind keine Vorkenntnisse nötig!</p><p>Die persönliche Sichtweise, die eine K
 räuterbegegnung verschafft fördert einen selbstbewussten, sicheren und krea
 tiven Umgang mit der Welt der Heilkräuter…</p><p> </p><p>… <em>es ist besse
 r 20 Sachen über ein Heilkraut zu wissen, als 1 Sache über 20 Heilkräuter!<
 /em></p><p> </p><div class="ym-g40 ym-gr sidebar"><ul class="post-meta"><li
 >Start: 8.5.2019</li><li>Kurstag: Mittwoch 18:00-21:00 Uhr</li><li>Termine:
 <p>Mai: 08.05., 15.05., 22.05., 29.05.</p><p>Juni: 12.06., 19.06.</p><p>Jul
 i: 03.07., 10.07.</p></li><li>Kosten:<p><strong>Freie Spende</strong> (Schn
 uppern) am 8.Mai</p><p>€<strong>30,- </strong>pro Abend in Mai bis Juli</p>
 <p>€<strong>175,-</strong> Blockpreis für alle 7 Abende von Mai bis Juli</p
 ><p>Im Preis enthalten: <em>Unterlagen mit Kräuterprofilen, Kräuterprobe, B
 io-Jause &amp; Kräutertee</em></p></li><li><p><strong>Info &amp; Anmeldung:
 </strong></p><p>Anmeldungen telefonisch unter <strong>0699 19298092</strong
 > oder per E-Mail unter <strong>starflower@live.co.uk</strong></p></li></ul
 ></div>
CONTACT:http://schwangerschaft-elternschaft.at/angebote/beratung-begleitung/heilkraeuterbegegnungen-fuer-die-schwangerschaft/ (http://schwangerschaft-elternschaft.at/angebote/beratung-begleitung/heilkraeuterbegegnungen-fuer-die-schwangerschaft/)
X-EXTRAINFO:[preis='3000'][anmeldung='true']
DTSTAMP:20260425T041013
DTSTART:20190508T160000
DTEND:20190508T190000
SEQUENCE:0
TRANSP:OPAQUE
END:VEVENT
END:VCALENDAR