BEGIN:VCALENDAR
VERSION:2.0
PRODID:-//jEvents 2.0 for Joomla//EN
CALSCALE:GREGORIAN
METHOD:PUBLISH
BEGIN:VEVENT
UID:bc623cd397abd1f4ea2371e8928ca3cc
CATEGORIES:18. Bezirk
CREATED:20190503T134754
SUMMARY:Kreative Freude "Muttertag"
LOCATION:SPIELRINGEL Mollgasse 11-13
DESCRIPTION:Bastelworkshops für Kinder ab 2 Jahren (mit Begleitung)Kosten: € 20,- pro K
 ind mit Begleitperson\nInfo &amp; Anmeldung:\n office@spielringel.at\nBei d
 er Kreativen Freude geht es weniger um das Endprodukt, als um den Spaß und 
 die Freude beim Kreativ sein.\nEs werden verschiedene Bastelmaterialien und
  Ideen zu einem Thema zur Verfügung gestellt und die Kinder dürfen nach Lus
 t und Laune werken.\nWir malen, basteln, schnippseln, stempeln, stanzen, kl
 eben, formen, usw .-  daher ist es sinnvoll, Gewand, das auch schmutzig wer
 den darf, anzuziehen.\n
X-ALT-DESC;FMTTYPE=text/html:<header><h3 class="element-subheader ">Bastelworkshops für Kinder ab 2 Jahr
 en (mit Begleitung)</h3></header><div id="c354" class="frame frame-default 
 frame-type-textpic frame-background- frame-no-backgroundimage frame-space-b
 efore-none frame-space-after-none"><div class="frame-container"><div class=
 "frame-inner"><div class="row"><div class="col-md-pull-6 col-md-6 col-xs-12
 "><p><span class="text-primary">Kosten: </span>€ 20,- pro Kind mit Begleitp
 erson</p><p><span class="text-primary">Info &amp; Anmeldung:</span><br /> o
 ffice@spielringel.at</p></div></div></div></div></div><div id="c391" class=
 "frame frame-default frame-type-textpic frame-background- frame-no-backgrou
 ndimage frame-space-before-none frame-space-after-none"><div class="frame-c
 ontainer"><div class="frame-inner"><p>Bei der Kreativen Freude geht es weni
 ger um das Endprodukt, als um den Spaß und die Freude beim Kreativ sein.</p
 ><p>Es werden verschiedene Bastelmaterialien und Ideen zu einem Thema zur V
 erfügung gestellt und die Kinder dürfen nach Lust und Laune werken.</p><p>W
 ir malen, basteln, schnippseln, stempeln, stanzen, kleben, formen, usw .-  
 daher ist es sinnvoll, Gewand, das auch schmutzig werden darf, anzuziehen.<
 /p></div></div></div>
CONTACT:http://schwangerschaft-elternschaft.at/angebote/spiel-spass-musik/kreative-freude/ (http://schwangerschaft-elternschaft.at/angebote/spiel-spass-musik/kreative-freude/)
X-EXTRAINFO:[preis='2000'][anmeldung='true']
DTSTAMP:20260425T040511
DTSTART:20190508T123000
DTEND:20190508T140000
SEQUENCE:0
TRANSP:OPAQUE
END:VEVENT
END:VCALENDAR