BEGIN:VCALENDAR
VERSION:2.0
PRODID:-//jEvents 2.0 for Joomla//EN
CALSCALE:GREGORIAN
METHOD:PUBLISH
BEGIN:VEVENT
UID:63430fd60204d1d4f72e5a700d9ee470
CATEGORIES:18. Bezirk
CREATED:20190503T134939
SUMMARY:Heilkräuterbegegnungen für Mama & Baby 
LOCATION:SPIELRINGEL Mollgasse 11-13
DESCRIPTION:In diesen Workshops begegnen wir einer Reihe an Heilkräutern für Mama &amp;
  Baby, die leicht zu finden und im ersten Jahr nach der Geburt einfach anwe
 ndbar sind. Nach 8 Wochen wird eine vertraute Basis von Kräuterwissen für n
 eue Mamas aufgebaut.\nPro Abend stellen wir ein Heilkraut für Mama &amp; Ba
 byaus Küche, Garten oder Natur in unseren gemeinsamen Fokus.\nDas Herzstück
  stellt hierbei eine geführte Blindverkostung eines Kräuteraufgusses dar. D
 abei verwenden wir das Spektrum unserer Sinne um die Eigenschaften eines He
 ilkrauts zu erleben. Dies ermöglicht es uns, zusätzlich zum Beurteilen von 
 Farbe, Geruch, Geschmack und Textur, intuitiv die heilenden Wirkungen eines
  Heilkrauts am eigenen Körper zu beobachten.\nDieser Prozess wird achtsam g
 eleitet und liefert Erklärungen über die Zusammenhänge von bestimmten\nChar
 akteristiken mit möglichen Wirkungen. Der Abend wird mit einer Diskussion ü
 ber traditionelle und moderne Anwendungen des Heilkrauts für Mama &amp; Bab
 y abgerundet und mit detaillierten Unterlagen unterstützt.\nEs sind keine V
 orkenntnisse nötig!\nDie persönliche Sichtweise, die eine Kräuterbegegnung 
 verschafft fördert einen selbstbewussten, sicheren und kreativen Umgang mit
  der Welt der Heilkräuter…\n \n… es ist besser 20 Sachen über ein Heilkraut
  zu wissen, als 1 Sache über 20 Heilkräuter!\n \n \n\n - Start: 09.05.2019\
 n - Kurstag: Donnerstag 18:00-21:00 Uhr\n - Termine:Mai:  09.05., 16.05., 2
 3.05.\nJuni: 06.06., 13.06., 27.06.  Juli: 04.07., 11.07.,\n\n - Kosten:Fre
 ie Spende (Schnuppern) am 9.Mai\n€30,- pro Abend in Mai bis Juli\n€175,- Bl
 ockpreis für alle 7 Abende in Mai bis Juli\nIm Preis enthalten: Unterlagen 
 mit Kräuterprofilen, Kräuterprobe, Bio-Jause &amp; Kräutertee\n\n - Info &a
 mp; Anmeldung:\nAnmeldungen telefonisch unter 0699 19298092 oder per E-Mail
  unter starflower@live.co.uk\n \n
X-ALT-DESC;FMTTYPE=text/html:<p>In diesen Workshops begegnen wir einer Reihe an Heilkräutern für Mama &a
 mp; Baby, die leicht zu finden und im ersten Jahr nach der Geburt einfach a
 nwendbar sind. Nach 8 Wochen wird eine vertraute Basis von Kräuterwissen fü
 r neue Mamas aufgebaut.</p><p>Pro Abend stellen wir <strong>ein Heilkraut f
 ür Mama &amp; Baby</strong><strong>aus Küche, Garten oder Natur </strong>in
  unseren gemeinsamen Fokus.</p><p>Das Herzstück stellt hierbei eine geführt
 e <strong>Blindverkostung eines Kräuteraufgusses </strong>dar. Dabei verwen
 den wir das Spektrum unserer Sinne um die Eigenschaften eines Heilkrauts zu
  erleben. Dies ermöglicht es uns, zusätzlich zum Beurteilen von Farbe, Geru
 ch, Geschmack und Textur, intuitiv die heilenden Wirkungen eines Heilkrauts
  am eigenen Körper zu beobachten.</p><p>Dieser Prozess wird achtsam geleite
 t und liefert Erklärungen über die Zusammenhänge von bestimmten</p><p>Chara
 kteristiken mit möglichen Wirkungen. Der Abend wird mit einer Diskussion üb
 er traditionelle und moderne Anwendungen des Heilkrauts für Mama &amp; Baby
  abgerundet und mit detaillierten Unterlagen unterstützt.</p><p>Es sind kei
 ne Vorkenntnisse nötig!</p><p>Die persönliche Sichtweise, die eine Kräuterb
 egegnung verschafft fördert einen selbstbewussten, sicheren und kreativen U
 mgang mit der Welt der Heilkräuter…</p><p> </p><p>… <em>es ist besser 20 Sa
 chen über ein Heilkraut zu wissen, als 1 Sache über 20 Heilkräuter!</em></p
 ><p> </p><p> </p><ul><li><em>Start: 09.05.2019</em></li><li><em>Kurstag: Do
 nnerstag 18:00-21:00 Uhr</em></li><li><em><em>Termine:</em></em><p>Mai:  09
 .05., 16.05., 23.05.</p><p>Juni: 06.06., 13.06., 27.06.  Juli: 04.07., 11.0
 7.,</p></li><li><em><em>Kosten:</em></em><p><strong>Freie Spende</strong> (
 Schnuppern) am 9.Mai</p><p>€<strong>30,- </strong>pro Abend in Mai bis Juli
 </p><p>€<strong>175,-</strong> Blockpreis für alle 7 Abende in Mai bis Juli
 </p><p>Im Preis enthalten: Unterlagen mit Kräuterprofilen, Kräuterprobe, Bi
 o-Jause &amp; Kräutertee</p></li><li><p><em><strong>Info &amp; Anmeldung:</
 strong></em></p><p><em>Anmeldungen telefonisch unter <strong>0699 19298092 
 </strong>oder per E-Mail unter <strong>starflower@live.co.uk</strong></em><
 /p></li></ul><p> </p>
CONTACT:http://schwangerschaft-elternschaft.at/angebote/beratung-begleitung/heilkraeuterbegegnungen-fuer-mama-baby/ (http://schwangerschaft-elternschaft.at/angebote/beratung-begleitung/heilkraeuterbegegnungen-fuer-mama-baby/)
X-EXTRAINFO:[preis='3000'][anmeldung='true']
DTSTAMP:20260425T040511
DTSTART:20190509T160000
DTEND:20190509T190000
SEQUENCE:0
TRANSP:OPAQUE
END:VEVENT
END:VCALENDAR