BEGIN:VCALENDAR
VERSION:2.0
PRODID:-//jEvents 2.0 for Joomla//EN
CALSCALE:GREGORIAN
METHOD:PUBLISH
BEGIN:VEVENT
UID:b47b531cbc4008f1a99ddcab91d588a7
CATEGORIES:18. Bezirk
CREATED:20190503T135133
SUMMARY:Growing Together: Women's Circle for Pregnant Women (in English) 
LOCATION:SPIELRINGEL Mollgasse 11-13
DESCRIPTION:This English speaking women's circle is open to all pregnant women, whether
  you are expecting your first child or a further addition to your family.\n
 Join our talking circle to connect with yourself as a woman, feel into your
  journey and exchange with others.\nThis is not a parenting or birth prepar
 ation class, it is a safe space to be honest about how you feel and who you
  are, to share openly and connect with other (pregnant) women.\nWhile the f
 ocus is on pregnant women, mamas, doulas and midwives are also welcome to j
 oin our circle.\nGrowing Together supports you in your transformative journ
 ey to motherhood with heartfelt connections...\n \n… Peace on earth begins 
 with birth!\n \n\n - Dates: Thursdays, 11:15am-12:30am\nMay: 09.05., 16.05.
 , 23.05.\nJune: 06.06., 13.06., 27.06. July: 04.07., 11.07.\n\n - Costs:\nb
 y donation (taster) 9th May\n€77,- block price for all 7 sessions in May &a
 mp; June &amp; July\nor €13,- per session in May &amp; June &amp;J July\n \
 nIncluded: herbal tea, light snacks (organic fruit and nuts) and oxytocin :
 )\n\n - Info &amp; Booking:Contact Rebecca on 0699 19298092 or starflower@l
 ive.co.uk\n
X-ALT-DESC;FMTTYPE=text/html:<p>This English speaking women's circle is open to all pregnant women, whet
 her you are expecting your first child or a further addition to your family
 .</p><p>Join our talking circle to connect with yourself as a woman, feel i
 nto your journey and exchange with others.</p><p>This is not a parenting or
  birth preparation class, it is a safe space to be honest about how you fee
 l and who you are, to share openly and connect with other (pregnant) women.
 </p><p>While the focus is on pregnant women, mamas, doulas and midwives are
  also welcome to join our circle.</p><p>Growing Together supports you in yo
 ur transformative journey to motherhood with heartfelt connections...</p><p
 > </p><p>… <em>Peace on earth begins with birth!</em></p><p> </p><div class
 ="ym-g40 ym-gr sidebar"><ul class="post-meta"><li><strong>Dates: </strong><
 p><strong>Thursdays, 11:15am-12:30am</strong></p><p>May: 09.05., 16.05., 23
 .05.</p><p>June: 06.06., 13.06., 27.06. July: 04.07., 11.07.</p></li><li><p
 ><strong>Costs:</strong></p><p><strong>by donation </strong>(taster) 9<sup>
 th</sup> May</p><p>€<strong>77,</strong><strong>- block price </strong>for 
 all 7 sessions in May &amp; June &amp; July</p><p>or <strong>€</strong><str
 ong>13,- per session</strong> in May &amp; June &amp;J July</p><p> </p><p>I
 ncluded: herbal tea, light snacks (organic fruit and nuts) and oxytocin :)<
 /p></li><li><strong>Info &amp; Booking:</strong><p>Contact Rebecca on <stro
 ng>0699 19298092</strong> or <strong>starflower@live.co.uk</strong></p></li
 ></ul></div>
CONTACT:http://schwangerschaft-elternschaft.at/angebote/beratung-begleitung/growing-together-womens-circle-for-pregnant-women-en (http://schwangerschaft-elternschaft.at/angebote/beratung-begleitung/growing-together-womens-circle-for-pregnant-women-en)
X-EXTRAINFO:[preis='1300'][anmeldung='true']
DTSTAMP:20260425T041013
DTSTART:20190509T091500
DTEND:20190509T103000
SEQUENCE:0
TRANSP:OPAQUE
END:VEVENT
END:VCALENDAR