BEGIN:VCALENDAR
VERSION:2.0
PRODID:-//jEvents 2.0 for Joomla//EN
CALSCALE:GREGORIAN
METHOD:PUBLISH
BEGIN:VEVENT
UID:f7d4d824b2e8dc7c93d5a7fd6de00296
CATEGORIES:18. Bezirk
CREATED:20190503T135343
SUMMARY:Doula Café
LOCATION:SPIELRINGEL Mollgasse 11-13
DESCRIPTION:Das Doula Café ist ein gemütliches, offenes und von Doulas geleitetes Treff
 en für Schwangere, Mamas und alle die sich für die Themen Schwangerschaft, 
 Geburt und Wochenbett interessieren.\nEine Doula ist eine nicht medizinisch
 e Geburtsbegleitung, die mit viel Liebe und Fürsorge die Mutter, das Kind u
 nd alle weiteren Familienmitglieder in der Zeit rund um die Geburt betreut 
 und umsorgt.\nMona und Sarita sind Doulas mit unterschiedlichen Spezialisie
 rungen.\nEs finden regelmäßige Treffen mit wechselnden Themenschwerpunkten 
 statt, wobei immer genügend Zeit für Fragen und Anliegen bleibt.\nWir freue
 n uns auf euch! \nFreitag 16:00-17:30 Uhr\nTermine: \n10.5., 14.6., 12.7., 
 20.9., 11.10.\nKosten:\n 10 Euro\nInfo &amp; Anmeldung:\nhttps://www.schoko
 eisundessiggurke.at/ (https://www.schokoeisundessiggurke.at/)\n kontakt@sar
 ita.at\n
X-ALT-DESC;FMTTYPE=text/html:<p>Das Doula Café ist ein gemütliches, offenes und von Doulas geleitetes Tr
 effen für Schwangere, Mamas und alle die sich für die Themen Schwangerschaf
 t, Geburt und Wochenbett interessieren.</p><p>Eine Doula ist eine nicht med
 izinische Geburtsbegleitung, die mit viel Liebe und Fürsorge die Mutter, da
 s Kind und alle weiteren Familienmitglieder in der Zeit rund um die Geburt 
 betreut und umsorgt.</p><p>Mona und Sarita sind Doulas mit unterschiedliche
 n Spezialisierungen.</p><p>Es finden regelmäßige Treffen mit wechselnden Th
 emenschwerpunkten statt, wobei immer genügend Zeit für Fragen und Anliegen 
 bleibt.</p><p>Wir freuen uns auf euch! </p><p>Freitag 16:00-17:30 Uhr</p><p
 ><span class="text-primary">Termine:</span> </p><p>10.5., 14.6., 12.7., 20.
 9., 11.10.</p><p><span class="text-primary">Kosten:</span><br /> 10 Euro</p
 ><p><span class="text-primary">Info &amp; Anmeldung:</span></p><p><a href="
 https://www.schokoeisundessiggurke.at/" target="_blank" rel="noopener noref
 errer">https://www.schokoeisundessiggurke.at/</a><br /> kontakt@sarita.at</
 p>
CONTACT:http://schwangerschaft-elternschaft.at/angebote/beratung-begleitung/doula-cafe/ (http://schwangerschaft-elternschaft.at/angebote/beratung-begleitung/doula-cafe/)
X-EXTRAINFO:[preis='1000'][anmeldung='true']
DTSTAMP:20260425T041034
DTSTART:20190510T140000
DTEND:20190510T153000
SEQUENCE:0
TRANSP:OPAQUE
END:VEVENT
END:VCALENDAR