BEGIN:VCALENDAR
VERSION:2.0
PRODID:-//jEvents 2.0 for Joomla//EN
CALSCALE:GREGORIAN
METHOD:PUBLISH
BEGIN:VEVENT
UID:b3b0017696cb0cf2dcaad8e2783abe6c
CATEGORIES:1. Bezirk
CREATED:20190504T154838
SUMMARY:Kinderflohmarkt im Erzbischöflichen Palais am 18. Mai
LOCATION:Wollzeile 2\, 1010 Wien
DESCRIPTION:Wetterbedingt müssen wir auf Samstag, den 18.5.2019 verschieben!\n\nVon Bab
 y- und Kinderkleidung, Spielzeug und Kinderbüchern bis hin zu Stillkissen u
 nd Tragetüchern gibt es im wunderbaren Ambiente des Erzbischöflichen Palais
 ’ Schönes und Brauchbares zum Stöbern, Kaufen und Verkaufen. Außerdem erwar
 tet euch: \n- Kostenlose Elternworkshops\n- Snacks und Getränke\n- Kindersc
 hminken\n- Öffnung der historischen Andreaskapelle\n\nWeitere Infos und Sta
 ndplatz-Anmeldung auf www.meinefamilie.at/kinderflohmarkt-wien (http://www.
 meinefamilie.at/kinderflohmarkt-wien?fbclid=IwAR3zzrfqlG2i5TPmT7SsKVYD99vgb
 y3VrfNaFRDmwiWg2j5FzPIW0JaxRUw)\n
X-ALT-DESC;FMTTYPE=text/html:<p>Wetterbedingt müssen wir auf Samstag, den 18.5.2019 verschieben!<br /><b
 r />Von Baby- und Kinderkleidung, Spielzeug und Kinderbüchern bis hin zu St
 illkissen und Tragetüchern gibt es im wunderbaren Ambiente des Erzbischöfli
 chen Palais’ Schönes und Brauchbares zum Stöbern, Kaufen und Verkaufen. Auß
 erdem erwartet euch: <br />- Kostenlose Elternworkshops<br />- Snacks und G
 etränke<br />- Kinderschminken<br />- Öffnung der historischen Andreaskapel
 le<br /><br />Weitere Infos und Standplatz-Anmeldung auf <a href="http://ww
 w.meinefamilie.at/kinderflohmarkt-wien?fbclid=IwAR3zzrfqlG2i5TPmT7SsKVYD99v
 gby3VrfNaFRDmwiWg2j5FzPIW0JaxRUw" target="_blank" rel="nofollow noopener no
 referrer" data-lynx-mode="hover" data-lynx-uri="https://l.facebook.com/l.ph
 p?u=http%3A%2F%2Fwww.meinefamilie.at%2Fkinderflohmarkt-wien%3Ffbclid%3DIwAR
 3zzrfqlG2i5TPmT7SsKVYD99vgby3VrfNaFRDmwiWg2j5FzPIW0JaxRUw&amp;h=AT1ca_pZ2sH
 EXbhzrxrLs1MXrsOJBa90Y5eCmRH-eYCNr4foan8zUv1dxp7QKh0B_X3Vy9VhhQYP1wEGWViRvE
 X9ndFurTIal4I3A5CsyeT59OP5rRiLqjPh0rySbbqX4dV7">www.meinefamilie.at/kinderf
 lohmarkt-wien</a></p>
CONTACT:kinderflohmarkt@meinefamilie.at
DTSTAMP:20260424T234733
DTSTART:20190518T080000
DTEND:20190518T130000
SEQUENCE:0
TRANSP:OPAQUE
END:VEVENT
END:VCALENDAR