BEGIN:VCALENDAR
VERSION:2.0
PRODID:-//jEvents 2.0 for Joomla//EN
CALSCALE:GREGORIAN
METHOD:PUBLISH
BEGIN:VEVENT
UID:aee943b096c3f00f3ef417d30e96f50c
CATEGORIES:6. Bezirk
CREATED:20190504T183338
SUMMARY:YOGA während der SCHWANGERSCHAFT
LOCATION:St. Charles Complementary 
DESCRIPTION:Du liebst Yoga und bist schwanger? Egal, ob du neu im Yoga bist oder schon 
 seit vielen Jahren praktizierst: Schwangerschaft und Yoga sind ein Wellness
 -Programm für Körper und Geist während dieser besonderen Zeit.\nNimm dir di
 ese Zeit von 3 Stunden für dich selbst und lerne, was du für eine sichere Y
 ogapraxis während der Schwangerschaft wissen musst. Yoga bietet dir beides:
  Kraft und Entspannung, und beides ist das, was du für deine Schwangerschaf
 t und Geburt brauchst.\nWir werden eine Schwangerschafts-Yoga-Sequenz in de
 n schönen Räumen von Saint-Charles Complementary durchführen, gefolgt von T
 ee und einer informativen Präsentation über Yoga während der Schwangerschaf
 t.\nBeschränkt auf 10 Teilnehmerinnen!\n \nLeitung: Barbara Probst\nBarbara
 s Leidenschaft und Beruf ist es, Menschen zu ihren natürlichen Ressourcen d
 er Gesundheit und des Glücks zu führen. Seit mehr als 20 Jahren folgt sie i
 hrer Leidenschaft für das Lernen mit und durch den Körper. Sie arbeitet als
  Somatic Coach, Counceler und Yoga-Lehrerin in Wien und Asien. In ihren Gru
 ppen und Retreats wirst du nicht nur in diese Heilmethoden geführt, sondern
  spürst auch die Tiefe, in der du in deinem Inneren berührt wirst.\n \nZusä
 tzlich zu ihrer Yogalehrerausbildung bei Prasad Rangnekar hat sie die Zusat
 zausbildung in Pre- und Postnatal Yoga bei Romana Delberg, Tina Nirtl und K
 atarina Kreindl an der Yogawerkstatt in Wien 2017 absolviert und befindet s
 ich gerade in Ausbildung zur Trauma Sensitive Yoga Therapeutin.\n
X-ALT-DESC;FMTTYPE=text/html:<p class="font_8">Du liebst Yoga und bist schwanger? Egal, ob du neu im Yog
 a bist oder schon seit vielen Jahren praktizierst: Schwangerschaft und Yoga
  sind ein Wellness-Programm für Körper und Geist während dieser besonderen 
 Zeit.</p><p class="font_8">Nimm dir diese Zeit von 3 Stunden für dich selbs
 t und lerne, was du für eine sichere Yogapraxis während der Schwangerschaft
  wissen musst. Yoga bietet dir beides: Kraft und Entspannung, und beides is
 t das, was du für deine Schwangerschaft und Geburt brauchst.</p><p class="f
 ont_8">Wir werden eine Schwangerschafts-Yoga-Sequenz in den schönen Räumen 
 von Saint-Charles Complementary durchführen, gefolgt von Tee und einer info
 rmativen Präsentation über Yoga während der Schwangerschaft.</p><p class="f
 ont_8">Beschränkt auf 10 Teilnehmerinnen!</p><p class="font_8"> </p><p clas
 s="font_8">Leitung: Barbara Probst</p><p class="font_8">Barbaras Leidenscha
 ft und Beruf ist es, Menschen zu ihren natürlichen Ressourcen der Gesundhei
 t und des Glücks zu führen. Seit mehr als 20 Jahren folgt sie ihrer Leidens
 chaft für das Lernen mit und durch den Körper. Sie arbeitet als Somatic Coa
 ch, Counceler und Yoga-Lehrerin in Wien und Asien. In ihren Gruppen und Ret
 reats wirst du nicht nur in diese Heilmethoden geführt, sondern spürst auch
  die Tiefe, in der du in deinem Inneren berührt wirst.</p><p class="font_8"
 > </p><p class="font_8">Zusätzlich zu ihrer Yogalehrerausbildung bei Prasad
  Rangnekar hat sie die Zusatzausbildung in Pre- und Postnatal Yoga bei Roma
 na Delberg, Tina Nirtl und Katarina Kreindl an der Yogawerkstatt in Wien 20
 17 absolviert und befindet sich gerade in Ausbildung zur Trauma Sensitive Y
 oga Therapeutin.</p>
CONTACT:hello@be-in-touch.at
DTSTAMP:20260424T224646
DTSTART:20190512T070000
DTEND:20190512T100000
SEQUENCE:0
TRANSP:OPAQUE
END:VEVENT
END:VCALENDAR