BEGIN:VCALENDAR
VERSION:2.0
PRODID:-//jEvents 2.0 for Joomla//EN
CALSCALE:GREGORIAN
METHOD:PUBLISH
BEGIN:VEVENT
UID:bccda0e247afcbb99f45012fac972431
CATEGORIES:2. Bezirk
CREATED:20190505T201912
SUMMARY:BabyShiatsu im PARK
LOCATION:Bednar Park\, U1 Vorgartenstraße
DESCRIPTION:BabyShiatsu ist eine ganz wunderbare Möglichkeit gemeinsam mit dem Baby zur
  Ruhe zu finden, ihm berührend nah zu sein und ungeteilte Aufmerksamkeit zu
  schenken.\nDas Baby genießt die liebevolle Zuwendung, während Eltern ihr K
 leines von Kopf bis Fuß sanft berühren und drücken. \nEinfache Griffe wirke
 n entspannend &amp; unterstützen bei Unruhe, Zahnen oder Bauchzwicken - und
  schenken einfach eine schöne gemeinsame Zeit.\nWirkungen für das Baby:\n\n
  - Stärkung der Eltern-Kind-Bindung\n\n - Leichteres zur Ruhe kommen &amp; 
 einschlafen\n\n - Stärkung der Verdauung, mehr Ruhe beim Stillen\n\n - Stär
 kung des Immunsystems\n\n - Förderung der motorischen und emotionalen Entwi
 cklung, zb unterstützend wenn Babys in der Bauchlage sehr unzufrieden sind?
 \nAufmerksames Berühren und Hinspüren wird so ein stückweit zur Selbstverst
 ändlichkeit im alltäglichen Umgang miteinander.\nIm Juni treffen wir uns be
 i Schönwetter im Bednar Park, U1 Vorgartenstraße.\nBei Schlechtwetter in de
 r Praxis am Park.\nDo, 6.6.\nDo, 13.6.\nMi, 19.6.\nDo, 27.6.\nDo, 4.7.\njew
 eils 9:15 - 10:15\n4 Einheiten - 70 €.\n1 Einheit - 20 €.\nBegrenzte Teilna
 hmezahl.\nPicknick-Decke mitbringen.\nAnmeldung (https://www.xn--shiatsufrz
 wei-3ob.at/babyshiatsu-anmeldung) erbeten - bei Schönwetter ist auch sponta
 nes Dazustoßen möglich.\nDie meisten Techniken eignen sich vorwiegend für B
 abys, die noch nicht wegkrabbeln - gerne zeige ich aber auch Griffe, die so
 wohl für die Kleinen als auch die etwas älteren Kinder/Geschwister lustig s
 ind.\nSchwangere willkommen - Griffe können an einer Puppe erlernt werden u
 nd so kannst Du sie gleich von Beginn an einsetzen.\nAnmeldung und Info:\nw
 ww.shiatsufürzwei.at/babyshiatsu (http://www.shiatsufürzwei.at/babyshiatsu)
 \n \n
X-ALT-DESC;FMTTYPE=text/html:<p>BabyShiatsu ist eine ganz wunderbare Möglichkeit gemeinsam mit dem Baby 
 zur Ruhe zu finden, ihm berührend nah zu sein und ungeteilte Aufmerksamkeit
  zu schenken.</p><p class="font_8">Das Baby genießt die liebevolle Zuwendun
 g, während Eltern ihr Kleines von Kopf bis Fuß sanft berühren und drücken. 
 </p><p class="font_8">Einfache Griffe wirken entspannend &amp; unterstützen
  bei Unruhe, Zahnen oder Bauchzwicken - und schenken einfach eine schöne ge
 meinsame Zeit.</p><p class="font_8">Wirkungen für das Baby:</p><ul class="f
 ont_8"><li><p class="font_8">Stärkung der Eltern-Kind-Bindung</p></li><li><
 p class="font_8">Leichteres zur Ruhe kommen &amp; einschlafen</p></li><li><
 p class="font_8">Stärkung der Verdauung, mehr Ruhe beim Stillen</p></li><li
 ><p class="font_8">Stärkung des Immunsystems</p></li><li><p class="font_8">
 Förderung der motorischen und emotionalen Entwicklung, zb unterstützend wen
 n Babys in der Bauchlage sehr unzufrieden sind?</p></li></ul><p class="font
 _8">Aufmerksames Berühren und Hinspüren wird so ein stückweit zur Selbstver
 ständlichkeit im alltäglichen Umgang miteinander.</p><p class="font_8">Im J
 uni treffen wir uns bei Schönwetter im Bednar Park, U1 Vorgartenstraße.<br 
 />Bei Schlechtwetter in der Praxis am Park.</p><p class="font_8">Do, 6.6.<b
 r />Do, 13.6.<br />Mi, 19.6.<br />Do, 27.6.<br />Do, 4.7.</p><p class="font
 _8">jeweils 9:15 - 10:15</p><p class="font_8">4 Einheiten - 70 €.<br />1 Ei
 nheit - 20 €.<br />Begrenzte Teilnahmezahl.</p><p class="font_8">Picknick-D
 ecke mitbringen.</p><p class="font_8"><a href="https://www.xn--shiatsufrzwe
 i-3ob.at/babyshiatsu-anmeldung" target="_self">Anmeldung</a> erbeten - bei 
 Schönwetter ist auch spontanes Dazustoßen möglich.</p><p class="font_8">Die
  meisten Techniken eignen sich vorwiegend für Babys, die noch nicht wegkrab
 beln - gerne zeige ich aber auch Griffe, die sowohl für die Kleinen als auc
 h die etwas älteren Kinder/Geschwister lustig sind.</p><p class="font_8">Sc
 hwangere willkommen - Griffe können an einer Puppe erlernt werden und so ka
 nnst Du sie gleich von Beginn an einsetzen.</p><p class="font_8">Anmeldung 
 und Info:<br /><a href="http://www.shiatsufürzwei.at/babyshiatsu">www.shiat
 sufürzwei.at/babyshiatsu</a></p><p class="font_8"> </p>
CONTACT:isabell@shiatsufuerzwei.at oder 0670 20 44 155@shiatsufuerzwei.at oder 0670 20 44 155
X-EXTRAINFO:[preis='2000'][anmeldung='true']
DTSTAMP:20260424T041641
DTSTART:20190613T071500
DTEND:20190613T081500
SEQUENCE:0
TRANSP:OPAQUE
END:VEVENT
END:VCALENDAR