BEGIN:VCALENDAR
VERSION:2.0
PRODID:-//jEvents 2.0 for Joomla//EN
CALSCALE:GREGORIAN
METHOD:PUBLISH
BEGIN:VEVENT
UID:ff2787efa80ec3b529747b5bf18b3ef9
CATEGORIES:2. Bezirk
CREATED:20190505T202216
SUMMARY:BabyShiatsu im PARK
LOCATION:Bednar Park\, U1 Vorgartenstraße
DESCRIPTION:<p>BabyShiatsu ist eine ganz wunderbare Möglichkeit gemeinsam mit dem Baby 
 zur Ruhe zu finden, ihm berührend nah zu sein und ungeteilte Aufmerksamkeit
  zu schenken.</p><p class="font_8">Das Baby genießt die liebevolle Zuwendun
 g, während Eltern ihr Kleines von Kopf bis Fuß sanft berühren und drücken. 
 </p><p class="font_8">Einfache Griffe wirken entspannend &amp; unterstützen
  bei Unruhe, Zahnen oder Bauchzwicken - und schenken einfach eine schöne ge
 meinsame Zeit.</p><p class="font_8">Wirkungen für das Baby:</p><ul class="f
 ont_8"><li><p class="font_8">Stärkung der Eltern-Kind-Bindung</p></li><li><
 p class="font_8">Leichteres zur Ruhe kommen &amp; einschlafen</p></li><li><
 p class="font_8">Stärkung der Verdauung, mehr Ruhe beim Stillen</p></li><li
 ><p class="font_8">Stärkung des Immunsystems</p></li><li><p class="font_8">
 Förderung der motorischen und emotionalen Entwicklung, zb unterstützend wen
 n Babys in der Bauchlage sehr unzufrieden sind?</p></li></ul><p class="font
 _8">Aufmerksames Berühren und Hinspüren wird so ein stückweit zur Selbstver
 ständlichkeit im alltäglichen Umgang miteinander.</p><p class="font_8">Im J
 uni treffen wir uns bei Schönwetter im Bednar Park, U1 Vorgartenstraße.<br 
 />Bei Schlechtwetter in der Praxis am Park.</p><p class="font_8">Do, 6.6.<b
 r />Do, 13.6.<br />Mi, 19.6.<br />Do, 27.6.<br />Do, 4.7.</p><p class="font
 _8">jeweils 9:15 - 10:15</p><p class="font_8">4 Einheiten - 70 €.<br />1 Ei
 nheit - 20 €.<br />Begrenzte Teilnahmezahl.</p><p class="font_8">Picknick-D
 ecke mitbringen.</p><p class="font_8"><a href="https://www.xn--shiatsufrzwe
 i-3ob.at/babyshiatsu-anmeldung" target="_self">Anmeldung</a> erbeten - bei 
 Schönwetter ist auch spontanes Dazustoßen möglich.</p><p class="font_8">Die
  meisten Techniken eignen sich vorwiegend für Babys, die noch nicht wegkrab
 beln - gerne zeige ich aber auch Griffe, die sowohl für die Kleinen als auc
 h die etwas älteren Kinder/Geschwister lustig sind.</p><p class="font_8">Sc
 hwangere willkommen - Griffe können an einer Puppe erlernt werden und so ka
 nnst Du sie gleich von Beginn an einsetzen.</p><p class="font_8">Anmeldung 
 und Info:<br /><a href="http://www.shiatsufürzwei.at/babyshiatsu">www.shiat
 sufürzwei.at/babyshiatsu</a></p><p class="font_8"> </p>
CONTACT:isabell@shiatsufuerzwei.at oder 0670 20 44 155@shiatsufuerzwei.at oder 0670 20 44 155
X-EXTRAINFO:[preis='2000'][anmeldung='false']
DTSTAMP:20260424T041000
DTSTART:20190627T071500
DTEND:20190627T081500
SEQUENCE:0
TRANSP:OPAQUE
END:VEVENT
END:VCALENDAR