BEGIN:VCALENDAR
VERSION:2.0
PRODID:-//jEvents 2.0 for Joomla//EN
CALSCALE:GREGORIAN
METHOD:PUBLISH
BEGIN:VEVENT
UID:3290506188380e53947d80067444f2f6
CATEGORIES:6. Bezirk
CREATED:20190505T204219
SUMMARY:1. Hilfe bei Säuglingen und Kleinkindern - Sommerspecial
LOCATION:6.\, Sandwirtgasse 13/12
DESCRIPTION:Erste Hilfe bei Säuglingen und Kleinkindern - SommerspecialIn diesem Vortra
 g gibt euch Hebamme Sabine eine Übersicht über Ursachen, Symptome und Maßna
 hmen der häufigsten Erkrankungen und Unfälle bis zum Schulalter. Ein weiter
 er Schwerpunkt in diesem Vortrag liegt in der Krankheitsvorbeugung und Unfa
 llvermeidung. Auch besprechen wir, welche natürliche und pharmazeutische Mi
 ttel ihr als Hausapotheke als Vorrat haben solltet. Zudem wird die erste Hi
 lfe, also Reanimation von Babys und Kleinkindern für den Ernstfall erklärt 
 und gezeigt.\n\nSpeziell: Tipps und Tricks für den Sommer und Urlaub mit de
 inem Baby: Insektenstiche, Sonnenbrand und vieles mehr\n\nMontag, 24. Juni 
 2019\nvon 10.00 - 11.30 Uhr\nim Rahmen des Baby-Cafe+\n\nZur Anmeldung geht
 `s hier:\nhttp://bit.ly/2VKljuq (https://bit.ly/2VKljuq?fbclid=IwAR3GuJrI_E
 ooWMLeYrXAPVC2tV8uzk3CW5rep_v6s_jvOZFfpF72RllsXps)\nwww.biolino.at (http://
 www.biolino.at)\n\n
X-ALT-DESC;FMTTYPE=text/html:<h3>Erste Hilfe bei Säuglingen und Kleinkindern - Sommerspecial</h3><p>In d
 iesem Vortrag gibt euch Hebamme Sabine eine Übersicht über Ursachen, Sympto
 me und Maßnahmen der häufigsten Erkrankungen und Unfälle bis zum Schulalter
 . Ein weiterer Schwerpunkt in diesem Vortrag liegt in der Krankheitsvorbeug
 ung und Unfallvermeidung. Auch besprechen wir, welche natürliche und pharma
 zeutische Mittel ihr als Hausapotheke als Vorrat haben solltet. Zudem wird 
 die erste Hilfe, also Reanimation von Babys und Kleinkindern für den Ernstf
 all erklärt und gezeigt.<br /><br />Speziell: Tipps und Tricks für den Somm
 er und Urlaub mit deinem Baby: Insektenstiche, Sonnenbrand und vieles mehr<
 br /><br />Montag, 24. Juni 2019<br />von 10.00 - 11.30 Uhr<br />im Rahmen 
 des Baby-Cafe+<br /><br />Zur Anmeldung geht`s hier:<br /><a href="https://
 bit.ly/2VKljuq?fbclid=IwAR3GuJrI_EooWMLeYrXAPVC2tV8uzk3CW5rep_v6s_jvOZFfpF7
 2RllsXps" target="_blank" rel="nofollow noopener noreferrer" data-lynx-mode
 ="hover" data-lynx-uri="https://l.facebook.com/l.php?u=https%3A%2F%2Fbit.ly
 %2F2VKljuq%3Ffbclid%3DIwAR3GuJrI_EooWMLeYrXAPVC2tV8uzk3CW5rep_v6s_jvOZFfpF7
 2RllsXps&amp;h=AT0-D1yzxqmmryM9afrSOYnTGnlI7WUSgF4bKamLQbER1kLsoDVWVSv8Eqbi
 jxpmJuvmaJmUD4fk-KAg0lSyXSppZIl9OJ0Zd_Oqy5LkBLjpPBkGUxCtp0bmZ_qcLdr3SA">htt
 p://bit.ly/2VKljuq</a></p><p><a href="http://www.biolino.at">www.biolino.at
 </a></p><p></p>
CONTACT:martina.novak@biolino.at, 0677 628 929 70
X-EXTRAINFO:[preis='2000'][anmeldung='true']
DTSTAMP:20260424T175040
DTSTART:20190624T080000
DTEND:20190624T093000
SEQUENCE:0
TRANSP:OPAQUE
END:VEVENT
END:VCALENDAR