BEGIN:VCALENDAR
VERSION:2.0
PRODID:-//jEvents 2.0 for Joomla//EN
CALSCALE:GREGORIAN
METHOD:PUBLISH
BEGIN:VEVENT
UID:024a18565f5ba320fd18e79b91ece585
CATEGORIES:19. Bezirk
CREATED:19700101T010000
SUMMARY:ressourcenstärkendes Kreativatelier für Kinder ab 5 Jahren
LOCATION:Boschstraße 54\, 1190 Wien
DESCRIPTION:Kreativität unterstützt die Entwicklung von Kindern und stärkt ihren Selbst
 wert.\n Kinder verfügen über eine ganzheitliche Sinnlichkeit d.h. bei Ihnen
  steht das Empfinden und Spüren im Vordergrund. Sie können sich daher über 
 das Tun besser ausdrücken als über Worte und das ermöglicht Ihnen Erlebtes 
 oder Belastendes zu verarbeiten.\nIm Kreativatelier wird das selbstbestimmt
 e Handeln gefördert und ein positives Selbstbild aufgebaut, indem die Kinde
 r erleben und spüren dürfen, dass sie schöpferisch tätig sind und selbst et
 was erschaffen können. Das wiederum beeinflusst Ihr Handeln im Alltag und s
 tärkt sie ihn ihrem Selbstwert.\nSie haben die Möglichkeit in geschütztem R
 ahmen ohne Zwang und Vorschrift zu malen und zu gestalten, neue Erfahrungen
  zu sammeln und sie erleben, was sie alles können.\nDer Schwerpunkt liegt d
 abei auf dem spontanen Gestaltungsprozess.\nEin großes Methodenangebot wie 
 malen und zeichnen, plastisches Gestalten, Collage, Rollenspiel, Märchenarb
 eit, Körperübungen usw. bietet vielfältige Ausdrucksmöglichkeiten. \n\n\nTe
 rmine:   Donnerstag 15:30 -17:00\nKosten:      Einzeleinheit á 90 Min.: 30€
 \n                   5-er Block: 125€\n \nTermine für Einzelstunden (90 Min
 . á 45€) können individuell gebucht werden.\n \n \n \n \n
X-ALT-DESC;FMTTYPE=text/html:<p>Kreativität unterstützt die Entwicklung von Kindern und stärkt ihren Sel
 bstwert.</p><p><strong> </strong>Kinder verfügen über eine ganzheitliche Si
 nnlichkeit d.h. bei Ihnen steht das Empfinden und Spüren im Vordergrund. Si
 e können sich daher über das Tun besser ausdrücken als über Worte und das e
 rmöglicht Ihnen Erlebtes oder Belastendes zu verarbeiten.</p><p>Im Kreativa
 telier wird das selbstbestimmte Handeln gefördert und ein positives Selbstb
 ild aufgebaut, indem die Kinder erleben und spüren dürfen, dass sie schöpfe
 risch tätig sind und selbst etwas erschaffen können. Das wiederum beeinflus
 st Ihr Handeln im Alltag und stärkt sie ihn ihrem Selbstwert.</p><p>Sie hab
 en die Möglichkeit in geschütztem Rahmen ohne Zwang und Vorschrift zu malen
  und zu gestalten, neue Erfahrungen zu sammeln und sie erleben, was sie all
 es können.</p><p>Der Schwerpunkt liegt dabei auf dem spontanen Gestaltungsp
 rozess.</p><p>Ein großes Methodenangebot wie malen und zeichnen, plastische
 s Gestalten, Collage, Rollenspiel, Märchenarbeit, Körperübungen usw. bietet
  vielfältige Ausdrucksmöglichkeiten. <br /><br /></p><p>Termine:   Donnerst
 ag 15:30 -17:00</p><p>Kosten:      Einzeleinheit á 90 Min.: 30€</p><p>     
               5-er Block: 125€</p><p> </p><p>Termine für Einzelstunden (90 
 Min. á 45€) können individuell gebucht werden.</p><p> </p><p> </p><p> </p><
 p> </p>
CONTACT:ute@sinnbilder.eu
X-EXTRAINFO:[preis='3000'][anmeldung='true']
DTSTAMP:20260424T150403
DTSTART:20190516T133000
DTEND:20190516T150000
SEQUENCE:0
RRULE:FREQ=WEEKLY;COUNT=10;INTERVAL=1;BYDAY=TH
TRANSP:OPAQUE
END:VEVENT
END:VCALENDAR