BEGIN:VCALENDAR
VERSION:2.0
PRODID:-//jEvents 2.0 for Joomla//EN
CALSCALE:GREGORIAN
METHOD:PUBLISH
BEGIN:VEVENT
UID:55fd6f717e90d9e2d09b0411b0172ac1
CATEGORIES:9. Bezirk
CREATED:20190516T140716
SUMMARY:¿Cómo crecer con varias lenguas? - Workshops für Eltern in spanischer Sprache
LOCATION:WUK\, Währinger Straße 59\, 1090 Wien
DESCRIPTION:Leben Sie in einer mehrsprachigen Beziehung oder Umgebung und haben Sie den
  Wunsch, dass Ihr Kind eines Tages Ihre Sprache und Deutsch auf gutem Nivea
 u beherrscht?\nDie Inhalte des Workshops sind abgestimmt auf die Bedürfniss
 e von Kindern und Eltern, die mit Spanisch und Deutsch aufwachen. Sie lerne
 n Strukturen kennen, die Ihnen helfen, sich zu orientieren und Ihnen die me
 hrsprachige Erziehung Ihrer Kinder erleichtern.\nFür Ihre Fragen ist im Wor
 kshop ausreichend Platz. Babys sind willkommen!\nKosten: € 65 p.P. oder € 1
 20 für Paare und zwei FreundInnen\nOrt: WUK (1090, Währinger Straße 59,  St
 iege 5, Harry Spiegel Saal)\n
X-ALT-DESC;FMTTYPE=text/html:<p>Leben Sie in einer mehrsprachigen Beziehung oder Umgebung und haben Sie 
 den Wunsch, dass Ihr Kind eines Tages Ihre Sprache und Deutsch auf gutem Ni
 veau beherrscht?</p><p>Die Inhalte des Workshops sind abgestimmt auf die Be
 dürfnisse von Kindern und Eltern, die mit Spanisch und Deutsch aufwachen. S
 ie lernen Strukturen kennen, die Ihnen helfen, sich zu orientieren und Ihne
 n die mehrsprachige Erziehung Ihrer Kinder erleichtern.</p><p>Für Ihre Frag
 en ist im Workshop ausreichend Platz. Babys sind willkommen!</p><p>Kosten: 
 € 65 p.P. oder € 120 für Paare und zwei FreundInnen</p><p>Ort: WUK (1090, W
 ähringer Straße 59,  Stiege 5, Harry Spiegel Saal)</p>
CONTACT:https://www.linguamulti.at/termine/
X-EXTRAINFO:[preis='6500'][anmeldung='true']
DTSTAMP:20260424T174959
DTSTART:20190615T080000
DTEND:20190615T123000
SEQUENCE:0
TRANSP:OPAQUE
END:VEVENT
END:VCALENDAR