BEGIN:VCALENDAR
VERSION:2.0
PRODID:-//jEvents 2.0 for Joomla//EN
CALSCALE:GREGORIAN
METHOD:PUBLISH
BEGIN:VEVENT
UID:f8563da62a07447745fb438fce6bbbb7
CATEGORIES:22. Bezirk
CREATED:20190517T082009
SUMMARY:MAWIBA-Mama-Baby-Tanz
LOCATION:Tanzschule Schwebach\, Maculangasse 1B\, 1220 Wien
DESCRIPTION:Hallo. \nEs geht in die nächste Runde. Ich würde mich freuen EUCH bald in m
 einem Kurs begrüßen zu dürfen. \nDerzeit biete ich Mix-Kurse an für Schwang
 ere und Mamas mit Babys.\n4-Wochen-Kurs \n?Termine:\nMo., 20.5.2019 / Mo., 
 27.5.2019 /\nMo., 03.6.2019 / Mo., 17.6.2019\n??Uhrzeit: \njeweils von 16:3
 0 - 17:30 Uhr\n?Wo:\nTanzschule Schwebach, Maculangasse 1b, 1220 Wien\nWas 
 ist MAWIBA?\nMAWIBA ist ein Tanzkonzept mit sanftem Beckenbodentraining für
  Schwangere und Mamas mit Babys, die Spaß am Tanzen haben. \nGemeinsam mit 
 einem erfahrenen Expertenteam entwickelt, bietet MAWIBA spezielle Choreogra
 fien zur Beckenbodenaktivierung und Verbesserung der Körperhaltung.\nTanzen
  macht fit und glücklich - ein gut trainierter Beckenboden gibt Kraft und E
 nergie.\nDu hast Lust bekommen unser spaßbringendes Tanzkonzept auszuprobie
 ren?\nDann starte gleich mit uns am Montag, den 20.5.2019.\nFür nähere Deta
 ils könnt ihr mir gerne schreiben.\nIch freue mich schon auf Euch!???\nAnme
 ldungen bitte unter:\n?bfink@mawibatrainer.com?\n
X-ALT-DESC;FMTTYPE=text/html:<p>Hallo. <br />Es geht in die nächste Runde. Ich würde mich freuen EUCH ba
 ld in meinem Kurs begrüßen zu dürfen. <br />Derzeit biete ich Mix-Kurse an 
 für Schwangere und Mamas mit Babys.</p><p>4-Wochen-Kurs <span class="text_e
 xposed_show"><br /><span class="_5mfr"><span class="_6qdm">?</span></span>T
 ermine:<br />Mo., 20.5.2019 / Mo., 27.5.2019 /<br />Mo., 03.6.2019 / Mo., 1
 7.6.2019</span></p><div class="text_exposed_show"><p><span class="_5mfr"><s
 pan class="_6qdm">??</span></span>Uhrzeit: <br />jeweils von 16:30 - 17:30 
 Uhr</p><p><span class="_5mfr"><span class="_6qdm">?</span></span>Wo:<br />T
 anzschule Schwebach, Maculangasse 1b, 1220 Wien</p><p>Was ist MAWIBA?<br />
 MAWIBA ist ein Tanzkonzept mit sanftem Beckenbodentraining für Schwangere u
 nd Mamas mit Babys, die Spaß am Tanzen haben. <br />Gemeinsam mit einem erf
 ahrenen Expertenteam entwickelt, bietet MAWIBA spezielle Choreografien zur 
 Beckenbodenaktivierung und Verbesserung der Körperhaltung.<br />Tanzen mach
 t fit und glücklich - ein gut trainierter Beckenboden gibt Kraft und Energi
 e.</p><p>Du hast Lust bekommen unser spaßbringendes Tanzkonzept auszuprobie
 ren?<br />Dann starte gleich mit uns am Montag, den 20.5.2019.<br />Für näh
 ere Details könnt ihr mir gerne schreiben.<br />Ich freue mich schon auf Eu
 ch!<span class="_5mfr"><span class="_6qdm">?</span></span><span class="_5mf
 r"><span class="_6qdm">?</span></span><span class="_5mfr"><span class="_6qd
 m">?</span></span></p><p>Anmeldungen bitte unter:<br /><span class="_5mfr">
 <span class="_6qdm">?</span></span>bfink@mawibatrainer.com<span class="_5mf
 r"><span class="_6qdm">?</span></span></p></div>
CONTACT:mama-baby-tanzen@gmx.at
X-EXTRAINFO:[preis='000'][anmeldung='true']
DTSTAMP:20260423T165612
DTSTART:20190603T143000
DTEND:20190603T153000
SEQUENCE:0
TRANSP:OPAQUE
END:VEVENT
END:VCALENDAR