BEGIN:VCALENDAR
VERSION:2.0
PRODID:-//jEvents 2.0 for Joomla//EN
CALSCALE:GREGORIAN
METHOD:PUBLISH
BEGIN:VEVENT
UID:3942046b2d8e8678d4ee36f562dca072
CATEGORIES:19. Bezirk
CREATED:19700101T010000
SUMMARY:Frauen - Heldinnen des Alltags
LOCATION:Atelier SINNBILDER im Woho-Space\, Boschstraße 54
DESCRIPTION:<p><u>Selbsterfahrungsgruppe: Frauen - Heldinnen des Alltags</u></p><p> Es 
 geht um Dich als Frau – mit all Deinen Wünschen, Sehnsüchten, Gedanken und 
 Bedürfnissen.</p><p> In dieser regelmäßig stattfindenden Gruppe stimmen wir
  uns zu Beginn mit einer Entspannungsübung auf ein Thema ein; gefördert dur
 ch Achtsamkeit und Respekt uns und den anderen gegenüber nehmen wir unsere 
 momentane Befindlichkeit, unsere Bedürfnisse und Anliegen wahr und lassen u
 nsere innere Welt in Farben und Formen entstehen. Die entstehenden Gefühle 
 und Bilder werden schließlich mit verschiedensten Farben und Materialien zu
 m Ausdruck gebracht. Die anschließende gemeinsame Betrachtung und Besprechu
 ng ermöglicht es, Empfindungen zu vertiefen, Klarheit zu schaffen und neue 
 Perspektiven zu eröffnen.</p><p>Wichtig: es sind keine künstlerischen Kennt
 nisse oder Talente erforderlich; es geht um die Freude am Tun und an der ei
 genen (wieder)entdeckten Kreativität.</p><p> </p><p>Termine: 28.05., 04.06.
  und 18.06.</p><p>Anmeldung und weitere Infos unter: <a href="mailto:ute@si
 nnbilder.eu">ute@sinnbilder.eu</a> oder 0664-8416611</p><p>www.sinnbilder.e
 u</p>
CONTACT:ute@sinnbilder.eu, 0664-8416611
X-EXTRAINFO:[preis='3500'][anmeldung='true']
DTSTAMP:20260424T143636
DTSTART:20190528T080000
DTEND:20190528T093000
SEQUENCE:0
RRULE:FREQ=WEEKLY;UNTIL=20190629T000000Z;INTERVAL=1;BYDAY=TU
TRANSP:OPAQUE
END:VEVENT
END:VCALENDAR